BEGIN:VCALENDAR
VERSION:2.0
PRODID:-//2. Základní škola Litomyšl, U Školek - ECPv6.2.0//NONSGML v1.0//EN
CALSCALE:GREGORIAN
METHOD:PUBLISH
X-ORIGINAL-URL:https://2zslitomysl.cz
X-WR-CALDESC:Akce na 2. Základní škola Litomyšl, U Školek
REFRESH-INTERVAL;VALUE=DURATION:PT1H
X-Robots-Tag:noindex
X-PUBLISHED-TTL:PT1H
BEGIN:VTIMEZONE
TZID:Europe/Prague
BEGIN:DAYLIGHT
TZOFFSETFROM:+0100
TZOFFSETTO:+0200
TZNAME:CEST
DTSTART:20260329T010000
END:DAYLIGHT
BEGIN:STANDARD
TZOFFSETFROM:+0200
TZOFFSETTO:+0100
TZNAME:CET
DTSTART:20261025T010000
END:STANDARD
END:VTIMEZONE
BEGIN:VEVENT
DTSTART;TZID=Europe/Prague:20260518T080000
DTEND;TZID=Europe/Prague:20260518T104500
DTSTAMP:20260426T003140
CREATED:20260305T101803Z
LAST-MODIFIED:20260305T101803Z
UID:46783-1779091200-1779101100@2zslitomysl.cz
SUMMARY:O nemoci AIDS\, sexu\, lásce a věrnosti- 8.A a 8.B
DESCRIPTION:
URL:https://2zslitomysl.cz/kalendar/o-nemoci-aids-sexu-lasce-a-vernosti-8-a-a-8-b/
CATEGORIES:8.A,8.B
END:VEVENT
BEGIN:VEVENT
DTSTART;TZID=Europe/Prague:20260518T105000
DTEND;TZID=Europe/Prague:20260518T132500
DTSTAMP:20260426T003140
CREATED:20260305T101918Z
LAST-MODIFIED:20260305T101918Z
UID:46785-1779101400-1779110700@2zslitomysl.cz
SUMMARY:O nemoci AIDS\, sexu\, lásce a věrnosti- 9.A\, 9.B
DESCRIPTION:
URL:https://2zslitomysl.cz/kalendar/o-nemoci-aids-sexu-lasce-a-vernosti-9-a-9-b/
CATEGORIES:9.A,9.B
END:VEVENT
BEGIN:VEVENT
DTSTART;VALUE=DATE:20260519
DTEND;VALUE=DATE:20260525
DTSTAMP:20260426T003140
CREATED:20251118T073058Z
LAST-MODIFIED:20251118T073058Z
UID:43546-1779148800-1779667199@2zslitomysl.cz
SUMMARY:Školní zájezd do Anglie
DESCRIPTION:přihlášení žáci 2.stupně \nDoprovod: K.Bubeníčková\, A.Hanušová
URL:https://2zslitomysl.cz/kalendar/skolni-zajezd-do-anglie/
END:VEVENT
BEGIN:VEVENT
DTSTART;TZID=Europe/Prague:20260519T100000
DTEND;TZID=Europe/Prague:20260519T113000
DTSTAMP:20260426T003140
CREATED:20260130T164009Z
LAST-MODIFIED:20260417T085123Z
UID:45907-1779184800-1779190200@2zslitomysl.cz
SUMMARY:Plavání
DESCRIPTION:Městský bazén Litomyšl.
URL:https://2zslitomysl.cz/kalendar/plavani-3/
CATEGORIES:1.A,1.B
END:VEVENT
BEGIN:VEVENT
DTSTART;TZID=Europe/Prague:20260519T100000
DTEND;TZID=Europe/Prague:20260519T113000
DTSTAMP:20260426T003140
CREATED:20260328T084053Z
LAST-MODIFIED:20260328T084053Z
UID:47266-1779184800-1779190200@2zslitomysl.cz
SUMMARY:Návštěva knihovny
DESCRIPTION:Program Digitální gramotnost v Městské knihovně Litomyšl. \nDoprovod: V. Hýblová
URL:https://2zslitomysl.cz/kalendar/navsteva-knihovny/
CATEGORIES:5.B
END:VEVENT
BEGIN:VEVENT
DTSTART;TZID=Europe/Prague:20260520T080000
DTEND;TZID=Europe/Prague:20260520T093500
DTSTAMP:20260426T003140
CREATED:20260130T163540Z
LAST-MODIFIED:20260130T163540Z
UID:45895-1779264000-1779269700@2zslitomysl.cz
SUMMARY:Plavání
DESCRIPTION:Plavecká výuka je povinná. \nMěstský bazén Litomyšl\, odchod od školy bude upřesněn.
URL:https://2zslitomysl.cz/kalendar/plavani/2026-05-20/
CATEGORIES:3.A,3.B
END:VEVENT
BEGIN:VEVENT
DTSTART;TZID=Europe/Prague:20260520T100000
DTEND;TZID=Europe/Prague:20260520T113500
DTSTAMP:20260426T003140
CREATED:20260130T163840Z
LAST-MODIFIED:20260130T163840Z
UID:45906-1779271200-1779276900@2zslitomysl.cz
SUMMARY:Plavání
DESCRIPTION:Plavecká výuka je povinná. \nMěstský bazén Litomyšl
URL:https://2zslitomysl.cz/kalendar/plavani-2/2026-05-20/
CATEGORIES:4.A,4.B
END:VEVENT
BEGIN:VEVENT
DTSTART;TZID=Europe/Prague:20260521T073000
DTEND;TZID=Europe/Prague:20260521T170000
DTSTAMP:20260426T003140
CREATED:20251113T132009Z
LAST-MODIFIED:20251113T132009Z
UID:43368-1779348600-1779382800@2zslitomysl.cz
SUMMARY:Hvězdárna a MVE Hučák Hradec Králové - exkurze
DESCRIPTION:třídy 8.A a 8.B \ndoprovod: M. Bogdan\, R. Kubů
URL:https://2zslitomysl.cz/kalendar/hvezdarna-a-mve-hucak-hradec-kralove-exkurze/
CATEGORIES:8.A,8.B
END:VEVENT
BEGIN:VEVENT
DTSTART;TZID=Europe/Prague:20260521T160000
DTEND;TZID=Europe/Prague:20260521T180000
DTSTAMP:20260426T003140
CREATED:20260122T172201Z
LAST-MODIFIED:20260122T172201Z
UID:45671-1779379200-1779386400@2zslitomysl.cz
SUMMARY:DEN PRO RODINU
DESCRIPTION:Sportovní areál Za Sokolovnou \n-tanec\, soutěže\, hry\, výtvarná dílna\,  malování na obličej a kouzelník \n 
URL:https://2zslitomysl.cz/kalendar/den-pro-rodinu/
LOCATION:Litomyšl
CATEGORIES:Akce školní družiny
END:VEVENT
BEGIN:VEVENT
DTSTART;TZID=Europe/Prague:20260522T100000
DTEND;TZID=Europe/Prague:20260522T110000
DTSTAMP:20260426T003140
CREATED:20260318T140228Z
LAST-MODIFIED:20260318T140319Z
UID:47014-1779444000-1779447600@2zslitomysl.cz
SUMMARY:Vystoupení Malí umělci a Hýbeme se s hudbou
DESCRIPTION:Vystoupení Malých umělců pro žáky 1. – 3. tříd. \nPed. dohled: V. Řeháková\, A. Stejskalová a I. Holomková
URL:https://2zslitomysl.cz/kalendar/vystoupeni-mali-umelci-a-hybeme-se-s-hudbou/
CATEGORIES:1.A,1.B,2.A,2.B,3.A,3.B
END:VEVENT
END:VCALENDAR