BEGIN:VCALENDAR
VERSION:2.0
PRODID:-//2. Základní škola Litomyšl, U Školek - ECPv6.2.0//NONSGML v1.0//EN
CALSCALE:GREGORIAN
METHOD:PUBLISH
X-ORIGINAL-URL:https://2zslitomysl.cz
X-WR-CALDESC:Akce na 2. Základní škola Litomyšl, U Školek
REFRESH-INTERVAL;VALUE=DURATION:PT1H
X-Robots-Tag:noindex
X-PUBLISHED-TTL:PT1H
BEGIN:VTIMEZONE
TZID:Europe/Prague
BEGIN:DAYLIGHT
TZOFFSETFROM:+0100
TZOFFSETTO:+0200
TZNAME:CEST
DTSTART:20260329T010000
END:DAYLIGHT
BEGIN:STANDARD
TZOFFSETFROM:+0200
TZOFFSETTO:+0100
TZNAME:CET
DTSTART:20261025T010000
END:STANDARD
END:VTIMEZONE
BEGIN:VEVENT
DTSTART;TZID=Europe/Prague:20260505T090000
DTEND;TZID=Europe/Prague:20260505T123000
DTSTAMP:20260426T044433
CREATED:20260417T130517Z
LAST-MODIFIED:20260424T120439Z
UID:47771-1777971600-1777984200@2zslitomysl.cz
SUMMARY:Přírodovědná poznávací soutěž školní kolo- 1. stupeň
DESCRIPTION:
URL:https://2zslitomysl.cz/kalendar/prirodovedna-poznavaci-soutez-skolni-kolo-1-stupen/
CATEGORIES:1.Stupeň
END:VEVENT
BEGIN:VEVENT
DTSTART;TZID=Europe/Prague:20260505T140000
DTEND;TZID=Europe/Prague:20260505T160000
DTSTAMP:20260426T044433
CREATED:20260410T113709Z
LAST-MODIFIED:20260410T113818Z
UID:47556-1777989600-1777996800@2zslitomysl.cz
SUMMARY:Turnaj v deskovkách
DESCRIPTION:Přijď si zahrát turnaj  ve VĚŽích \nAkci zajišťuje školní parlament
URL:https://2zslitomysl.cz/kalendar/turnaj-v-deskovkach/
CATEGORIES:1.Stupeň,2. Stupeň
END:VEVENT
BEGIN:VEVENT
DTSTART;TZID=Europe/Prague:20260506T080000
DTEND;TZID=Europe/Prague:20260506T093500
DTSTAMP:20260426T044433
CREATED:20260130T163540Z
LAST-MODIFIED:20260130T163540Z
UID:45893-1778054400-1778060100@2zslitomysl.cz
SUMMARY:Plavání
DESCRIPTION:Plavecká výuka je povinná. \nMěstský bazén Litomyšl\, odchod od školy bude upřesněn.
URL:https://2zslitomysl.cz/kalendar/plavani/2026-05-06/
CATEGORIES:3.A,3.B
END:VEVENT
BEGIN:VEVENT
DTSTART;TZID=Europe/Prague:20260506T080000
DTEND;TZID=Europe/Prague:20260506T133000
DTSTAMP:20260426T044433
CREATED:20260414T175106Z
LAST-MODIFIED:20260414T175106Z
UID:47627-1778054400-1778074200@2zslitomysl.cz
SUMMARY:Pohár rozhlasu - atletická soutěž
DESCRIPTION:Místo konání: Atletický stadion Litomyšl\nVybraní žáci/žákyně 6.-9. tříd
URL:https://2zslitomysl.cz/kalendar/pohar-rozhlasu-atleticka-soutez/
END:VEVENT
BEGIN:VEVENT
DTSTART;TZID=Europe/Prague:20260506T080000
DTEND;TZID=Europe/Prague:20260507T170000
DTSTAMP:20260426T044433
CREATED:20260331T083352Z
LAST-MODIFIED:20260331T083352Z
UID:47307-1778054400-1778173200@2zslitomysl.cz
SUMMARY:Spaní ve škole - 3.A+3.B
DESCRIPTION:
URL:https://2zslitomysl.cz/kalendar/spani-ve-skole-3-a3-b/
CATEGORIES:3.A,3.B
END:VEVENT
BEGIN:VEVENT
DTSTART;TZID=Europe/Prague:20260506T080000
DTEND;TZID=Europe/Prague:20260507T170000
DTSTAMP:20260426T044433
CREATED:20260410T091629Z
LAST-MODIFIED:20260410T091629Z
UID:47554-1778054400-1778173200@2zslitomysl.cz
SUMMARY:Spaní ve škole - 3.A+3.B
DESCRIPTION:
URL:https://2zslitomysl.cz/kalendar/spani-ve-skole-3-a3-b-2/
CATEGORIES:3.A,3.B
END:VEVENT
BEGIN:VEVENT
DTSTART;TZID=Europe/Prague:20260506T100000
DTEND;TZID=Europe/Prague:20260506T113500
DTSTAMP:20260426T044433
CREATED:20260130T163840Z
LAST-MODIFIED:20260130T163840Z
UID:45904-1778061600-1778067300@2zslitomysl.cz
SUMMARY:Plavání
DESCRIPTION:Plavecká výuka je povinná. \nMěstský bazén Litomyšl
URL:https://2zslitomysl.cz/kalendar/plavani-2/2026-05-06/
CATEGORIES:4.A,4.B
END:VEVENT
BEGIN:VEVENT
DTSTART;TZID=Europe/Prague:20260506T154500
DTEND;TZID=Europe/Prague:20260506T161500
DTSTAMP:20260426T044433
CREATED:20260416T133350Z
LAST-MODIFIED:20260416T133350Z
UID:47741-1778082300-1778084100@2zslitomysl.cz
SUMMARY:Anglie - informační schůzka pro přihlášené žáky a jejich rodiče
DESCRIPTION:předodjezdová informační schůzka ohledně zájezdu do Anglie se uskuteční v interaktivním sále ve 3. patře od 15:45 hodin
URL:https://2zslitomysl.cz/kalendar/anglie-informacni-schuzka-pro-prihlasene-zaky-a-jejich-rodice/
CATEGORIES:Ostatní
END:VEVENT
BEGIN:VEVENT
DTSTART;TZID=Europe/Prague:20260507T080000
DTEND;TZID=Europe/Prague:20260507T170000
DTSTAMP:20260426T044433
CREATED:20260410T143150Z
LAST-MODIFIED:20260410T143150Z
UID:47560-1778140800-1778173200@2zslitomysl.cz
SUMMARY:Zlatý list
DESCRIPTION:Vybraní žáci tříd 6. A\, 7. A a 8. A se zúčastní přírodovědné soutěže Zlatý list\, která se uskuteční v Pasíčkách.
URL:https://2zslitomysl.cz/kalendar/zlaty-list/
CATEGORIES:6.A,7.A,8.A
END:VEVENT
BEGIN:VEVENT
DTSTART;TZID=Europe/Prague:20260507T100000
DTEND;TZID=Europe/Prague:20260507T123000
DTSTAMP:20260426T044433
CREATED:20260311T150147Z
LAST-MODIFIED:20260313T131537Z
UID:46946-1778148000-1778157000@2zslitomysl.cz
SUMMARY:Divadlem proti šikaně
DESCRIPTION:třída 8.B\, garant Nikola Šplíchalová
URL:https://2zslitomysl.cz/kalendar/divadlem-proti-sikane/
END:VEVENT
END:VCALENDAR