BEGIN:VCALENDAR
VERSION:2.0
PRODID:-//2. Základní škola Litomyšl, U Školek - ECPv6.2.0//NONSGML v1.0//EN
CALSCALE:GREGORIAN
METHOD:PUBLISH
X-WR-CALNAME:2. Základní škola Litomyšl, U Školek
X-ORIGINAL-URL:https://2zslitomysl.cz
X-WR-CALDESC:Akce na 2. Základní škola Litomyšl, U Školek
REFRESH-INTERVAL;VALUE=DURATION:PT1H
X-Robots-Tag:noindex
X-PUBLISHED-TTL:PT1H
BEGIN:VTIMEZONE
TZID:Europe/Prague
BEGIN:DAYLIGHT
TZOFFSETFROM:+0100
TZOFFSETTO:+0200
TZNAME:CEST
DTSTART:20260329T010000
END:DAYLIGHT
BEGIN:STANDARD
TZOFFSETFROM:+0200
TZOFFSETTO:+0100
TZNAME:CET
DTSTART:20261025T010000
END:STANDARD
END:VTIMEZONE
BEGIN:VEVENT
DTSTART;TZID=Europe/Prague:20260303T124000
DTEND;TZID=Europe/Prague:20260303T142000
DTSTAMP:20260426T035828
CREATED:20260217T070215Z
LAST-MODIFIED:20260217T070215Z
UID:46417-1772541600-1772547600@2zslitomysl.cz
SUMMARY:Program se školním psychologem
DESCRIPTION:
URL:https://2zslitomysl.cz/kalendar/program-se-skolnim-psychologem-15/
CATEGORIES:9.B
END:VEVENT
BEGIN:VEVENT
DTSTART;TZID=Europe/Prague:20260303T080000
DTEND;TZID=Europe/Prague:20260303T150000
DTSTAMP:20260426T035828
CREATED:20260227T093639Z
LAST-MODIFIED:20260227T093639Z
UID:46614-1772524800-1772550000@2zslitomysl.cz
SUMMARY:Natáčení filmu- Míková\, Coufal
DESCRIPTION:
URL:https://2zslitomysl.cz/kalendar/nataceni-filmu-mikova-coufal/
END:VEVENT
BEGIN:VEVENT
DTSTART;TZID=Europe/Prague:20260302T133000
DTEND;TZID=Europe/Prague:20260302T150000
DTSTAMP:20260426T035828
CREATED:20260206T070829Z
LAST-MODIFIED:20260206T070829Z
UID:46215-1772458200-1772463600@2zslitomysl.cz
SUMMARY:Workshop Olbram Zoubek
DESCRIPTION:Dohled: Eliška Matoušková \n30 Kč
URL:https://2zslitomysl.cz/kalendar/workshop-olbram-zoubek-2/
CATEGORIES:8.B
END:VEVENT
BEGIN:VEVENT
DTSTART;TZID=Europe/Prague:20260227T113000
DTEND;TZID=Europe/Prague:20260227T133000
DTSTAMP:20260426T035828
CREATED:20260206T070716Z
LAST-MODIFIED:20260206T070716Z
UID:46212-1772191800-1772199000@2zslitomysl.cz
SUMMARY:Workshop Olbram Zoubek
DESCRIPTION:Dohled: Eliška Matoušková \n30 Kč
URL:https://2zslitomysl.cz/kalendar/workshop-olbram-zoubek/
CATEGORIES:7.A
END:VEVENT
BEGIN:VEVENT
DTSTART;TZID=Europe/Prague:20260227T100000
DTEND;TZID=Europe/Prague:20260227T113000
DTSTAMP:20260426T035828
CREATED:20260223T095916Z
LAST-MODIFIED:20260223T095916Z
UID:46526-1772186400-1772191800@2zslitomysl.cz
SUMMARY:Olbram Zoubek - workshop
DESCRIPTION:
URL:https://2zslitomysl.cz/kalendar/olbram-zoubek-workshop/
CATEGORIES:5.A
END:VEVENT
BEGIN:VEVENT
DTSTART;TZID=Europe/Prague:20260227T090000
DTEND;TZID=Europe/Prague:20260227T100000
DTSTAMP:20260426T035828
CREATED:20250917T132736Z
LAST-MODIFIED:20250917T132736Z
UID:41482-1772182800-1772186400@2zslitomysl.cz
SUMMARY:MěK- Beseda Petr Brycz 4.A+ 4.B
DESCRIPTION:Vybíráme 50 Kč.
URL:https://2zslitomysl.cz/kalendar/mek-beseda-petr-brycz-4-a-4-b/
CATEGORIES:4.A,4.B
END:VEVENT
BEGIN:VEVENT
DTSTART;TZID=Europe/Prague:20260227T080000
DTEND;TZID=Europe/Prague:20260227T090000
DTSTAMP:20260426T035828
CREATED:20260220T112354Z
LAST-MODIFIED:20260220T112354Z
UID:46485-1772179200-1772182800@2zslitomysl.cz
SUMMARY:Program se školním psychologem
DESCRIPTION:
URL:https://2zslitomysl.cz/kalendar/program-se-skolnim-psychologem-16/
CATEGORIES:1.A
END:VEVENT
BEGIN:VEVENT
DTSTART;TZID=Europe/Prague:20260226T080000
DTEND;TZID=Europe/Prague:20260226T130000
DTSTAMP:20260426T035828
CREATED:20260212T103046Z
LAST-MODIFIED:20260212T103046Z
UID:46279-1772092800-1772110800@2zslitomysl.cz
SUMMARY:Florbal žáků 4. -5. tříd
DESCRIPTION:Akce se koná v Dolním Újezdu. Doprovod E. Stříteská.
URL:https://2zslitomysl.cz/kalendar/florbal-zaku-4-5-trid-2/
CATEGORIES:4.A,4.B,5.A,5.B
END:VEVENT
BEGIN:VEVENT
DTSTART;TZID=Europe/Prague:20260225T131500
DTEND;TZID=Europe/Prague:20260225T160000
DTSTAMP:20260426T035828
CREATED:20260122T171614Z
LAST-MODIFIED:20260122T171614Z
UID:45669-1772025300-1772035200@2zslitomysl.cz
SUMMARY:TURNAJ V PŘEHAZOVANÉ
DESCRIPTION:Městská sportovní hala \n-vybrané týmy školní družiny
URL:https://2zslitomysl.cz/kalendar/turnaj-v-prehazovane/
LOCATION:Litomyšl
CATEGORIES:Akce školní družiny
END:VEVENT
BEGIN:VEVENT
DTSTART;TZID=Europe/Prague:20260225T100000
DTEND;TZID=Europe/Prague:20260225T113500
DTSTAMP:20260426T035828
CREATED:20250916T080909Z
LAST-MODIFIED:20250916T080909Z
UID:41375-1772013600-1772019300@2zslitomysl.cz
SUMMARY:naše tělo jako domov 2.B
DESCRIPTION:
URL:https://2zslitomysl.cz/kalendar/nase-telo-jako-domov-2-b-2/
CATEGORIES:2.B
END:VEVENT
BEGIN:VEVENT
DTSTART;TZID=Europe/Prague:20260225T100000
DTEND;TZID=Europe/Prague:20260225T104000
DTSTAMP:20260426T035828
CREATED:20250916T082612Z
LAST-MODIFIED:20250916T082612Z
UID:41396-1772013600-1772016000@2zslitomysl.cz
SUMMARY:Skrytá nebezpečí internetu 7.B
DESCRIPTION:
URL:https://2zslitomysl.cz/kalendar/skryta-nebezpeci-internetu-7-b/
CATEGORIES:7.B
END:VEVENT
BEGIN:VEVENT
DTSTART;TZID=Europe/Prague:20260225T080000
DTEND;TZID=Europe/Prague:20260225T094000
DTSTAMP:20260426T035828
CREATED:20250916T082529Z
LAST-MODIFIED:20250916T082529Z
UID:41394-1772006400-1772012400@2zslitomysl.cz
SUMMARY:Skrytá nebezpečí internetu 7.A
DESCRIPTION:
URL:https://2zslitomysl.cz/kalendar/skryta-nebezpeci-internetu-7-a/
CATEGORIES:7.A
END:VEVENT
BEGIN:VEVENT
DTSTART;TZID=Europe/Prague:20260225T080000
DTEND;TZID=Europe/Prague:20260225T094000
DTSTAMP:20260426T035828
CREATED:20250916T080809Z
LAST-MODIFIED:20250916T080809Z
UID:41373-1772006400-1772012400@2zslitomysl.cz
SUMMARY:Naše tělo jako domov 1.A
DESCRIPTION:
URL:https://2zslitomysl.cz/kalendar/nase-telo-jako-domov-1-a/
CATEGORIES:2.A
END:VEVENT
BEGIN:VEVENT
DTSTART;TZID=Europe/Prague:20260224T114500
DTEND;TZID=Europe/Prague:20260224T132500
DTSTAMP:20260426T035828
CREATED:20260120T124017Z
LAST-MODIFIED:20260120T124255Z
UID:45578-1771933500-1771939500@2zslitomysl.cz
SUMMARY:Výtvarný vzdělávací program - papírový reliéf
DESCRIPTION:Program je inspirovaný Olbramem Zoubkem a je pod vedením galerijním edukátorem Václavem Novákem. \nMísto konání: třída 5.B \n30 Kč/žák
URL:https://2zslitomysl.cz/kalendar/vytvarny-vzdelavaci-program-papirovy-relief/
CATEGORIES:5.B
END:VEVENT
BEGIN:VEVENT
DTSTART;TZID=Europe/Prague:20260224T100000
DTEND;TZID=Europe/Prague:20260224T113500
DTSTAMP:20260426T035828
CREATED:20250916T082345Z
LAST-MODIFIED:20260220T095244Z
UID:41390-1771927200-1771932900@2zslitomysl.cz
SUMMARY:Bolest\, nemoc jménem šikana.6.A
DESCRIPTION:
URL:https://2zslitomysl.cz/kalendar/bolest-nemoc-jmenem-sikana-6-a/
CATEGORIES:6.A
END:VEVENT
BEGIN:VEVENT
DTSTART;TZID=Europe/Prague:20260224T100000
DTEND;TZID=Europe/Prague:20260224T113500
DTSTAMP:20260426T035828
CREATED:20250916T080709Z
LAST-MODIFIED:20250916T080709Z
UID:41371-1771927200-1771932900@2zslitomysl.cz
SUMMARY:Šikana\, škádlení a já 1.B
DESCRIPTION:
URL:https://2zslitomysl.cz/kalendar/sikana-skadleni-a-ja-1-b-2/
CATEGORIES:1.B
END:VEVENT
BEGIN:VEVENT
DTSTART;TZID=Europe/Prague:20260224T080000
DTEND;TZID=Europe/Prague:20260224T094000
DTSTAMP:20260426T035828
CREATED:20250916T082429Z
LAST-MODIFIED:20260220T095057Z
UID:41392-1771920000-1771926000@2zslitomysl.cz
SUMMARY:Bolest\, nemoc jménem šikana.6.B
DESCRIPTION:
URL:https://2zslitomysl.cz/kalendar/bolest-nemoc-jmenem-sikana-6-b/
CATEGORIES:6.B
END:VEVENT
BEGIN:VEVENT
DTSTART;TZID=Europe/Prague:20260224T080000
DTEND;TZID=Europe/Prague:20260224T094000
DTSTAMP:20260426T035828
CREATED:20250916T080424Z
LAST-MODIFIED:20250916T080424Z
UID:41368-1771920000-1771926000@2zslitomysl.cz
SUMMARY:Šikana\, škádlení a já 1.A
DESCRIPTION:
URL:https://2zslitomysl.cz/kalendar/sikana-skadleni-a-ja-1-a-2/
CATEGORIES:1.A
END:VEVENT
BEGIN:VEVENT
DTSTART;TZID=Europe/Prague:20260222T080000
DTEND;TZID=Europe/Prague:20260224T170000
DTSTAMP:20260426T035828
CREATED:20260121T161327Z
LAST-MODIFIED:20260121T161327Z
UID:45659-1771747200-1771952400@2zslitomysl.cz
SUMMARY:Školení - nepřítomnost
DESCRIPTION:Nakopněte svoji školu – školení\nnepřítomnost: A. Stejskalová\, V. Řeháková\, A. Hanušová a I. Holomková
URL:https://2zslitomysl.cz/kalendar/skoleni-nepritomnost/
CATEGORIES:Nepřítomnost
END:VEVENT
BEGIN:VEVENT
DTSTART;VALUE=DATE:20260222
DTEND;VALUE=DATE:20260228
DTSTAMP:20260426T035828
CREATED:20250820T070123Z
LAST-MODIFIED:20250820T070123Z
UID:40663-1771718400-1772236799@2zslitomysl.cz
SUMMARY:Lyžařský výcvik
DESCRIPTION:
URL:https://2zslitomysl.cz/kalendar/lyzarsky-vycvik/
CATEGORIES:2. Stupeň
END:VEVENT
BEGIN:VEVENT
DTSTART;TZID=Europe/Prague:20260220T080000
DTEND;TZID=Europe/Prague:20260220T140000
DTSTAMP:20260426T035828
CREATED:20260118T074524Z
LAST-MODIFIED:20260118T074524Z
UID:45530-1771574400-1771596000@2zslitomysl.cz
SUMMARY:Česko vesluje - republikové finále
DESCRIPTION:Akce se zúčastní vybraní žáci ze sedmých a devátých tříd. Koná se ve Sportovní hale Hamr – Braník\, Praha. 
URL:https://2zslitomysl.cz/kalendar/cesko-vesluje-republikove-finale/
CATEGORIES:7.A,7.B,9.A,9.B
END:VEVENT
BEGIN:VEVENT
DTSTART;TZID=Europe/Prague:20260219T100000
DTEND;TZID=Europe/Prague:20260219T113000
DTSTAMP:20260426T035828
CREATED:20250916T082256Z
LAST-MODIFIED:20250916T083245Z
UID:41388-1771495200-1771500600@2zslitomysl.cz
SUMMARY:Říkat ano\, říkat ne. Acet 5.B
DESCRIPTION:
URL:https://2zslitomysl.cz/kalendar/rikat-ano-rikat-ne-acet-5-b/
CATEGORIES:5.B
END:VEVENT
BEGIN:VEVENT
DTSTART;TZID=Europe/Prague:20260219T080000
DTEND;TZID=Europe/Prague:20260219T170000
DTSTAMP:20260426T035828
CREATED:20251123T161010Z
LAST-MODIFIED:20251123T161010Z
UID:43735-1771488000-1771520400@2zslitomysl.cz
SUMMARY:Hledáme nejlepšího Mladého chemika ČR
DESCRIPTION:V Pardubicích se uskuteční soutěž v žákovských projektech.
URL:https://2zslitomysl.cz/kalendar/hledame-nejlepsiho-mladeho-chemika-cr/
CATEGORIES:9.A,9.B
END:VEVENT
BEGIN:VEVENT
DTSTART;TZID=Europe/Prague:20260219T080000
DTEND;TZID=Europe/Prague:20260219T140000
DTSTAMP:20260426T035828
CREATED:20260206T105752Z
LAST-MODIFIED:20260206T105752Z
UID:46258-1771488000-1771509600@2zslitomysl.cz
SUMMARY:Olympiáda v anglickém jazyce - okresní kolo do 7.tříd
DESCRIPTION:M.Duong – doprovod R.Kubů
URL:https://2zslitomysl.cz/kalendar/olympiada-v-anglickem-jazyce-okresni-kolo-do-7-trid/
CATEGORIES:Ostatní
END:VEVENT
BEGIN:VEVENT
DTSTART;TZID=Europe/Prague:20260219T080000
DTEND;TZID=Europe/Prague:20260219T130000
DTSTAMP:20260426T035828
CREATED:20260212T102924Z
LAST-MODIFIED:20260212T102924Z
UID:46276-1771488000-1771506000@2zslitomysl.cz
SUMMARY:Volejbal žáků 8. -9. tříd
DESCRIPTION:Akce so koná v Dolním Újezdu. Doprovod M. Matoušek
URL:https://2zslitomysl.cz/kalendar/volejbal-zaku-8-9-trid/
CATEGORIES:8.A,8.B,9.A,9.B
END:VEVENT
BEGIN:VEVENT
DTSTART;TZID=Europe/Prague:20260219T080000
DTEND;TZID=Europe/Prague:20260219T094000
DTSTAMP:20260426T035828
CREATED:20250916T082218Z
LAST-MODIFIED:20250916T082218Z
UID:41386-1771488000-1771494000@2zslitomysl.cz
SUMMARY:Říkat ano\, říkat ne. Acet 5.A
DESCRIPTION:
URL:https://2zslitomysl.cz/kalendar/rikat-ano-rikat-ne-acet-5-a/
CATEGORIES:5.A
END:VEVENT
BEGIN:VEVENT
DTSTART;TZID=Europe/Prague:20260218T180000
DTEND;TZID=Europe/Prague:20260219T073000
DTSTAMP:20260426T035828
CREATED:20260214T124323Z
LAST-MODIFIED:20260214T124323Z
UID:46294-1771437600-1771486200@2zslitomysl.cz
SUMMARY:Spaní ve škole 6.A
DESCRIPTION:
URL:https://2zslitomysl.cz/kalendar/spani-ve-skole-6-a-2/
END:VEVENT
BEGIN:VEVENT
DTSTART;TZID=Europe/Prague:20260218T100000
DTEND;TZID=Europe/Prague:20260218T113500
DTSTAMP:20260426T035828
CREATED:20250916T082101Z
LAST-MODIFIED:20250916T082101Z
UID:41384-1771408800-1771414500@2zslitomysl.cz
SUMMARY:Plavba na online moři 4.B Acet
DESCRIPTION:
URL:https://2zslitomysl.cz/kalendar/plavba-na-online-mori-4-b-acet/
CATEGORIES:4.B
END:VEVENT
BEGIN:VEVENT
DTSTART;TZID=Europe/Prague:20260218T080000
DTEND;TZID=Europe/Prague:20260218T094000
DTSTAMP:20260426T035828
CREATED:20250916T082015Z
LAST-MODIFIED:20250916T082015Z
UID:41381-1771401600-1771407600@2zslitomysl.cz
SUMMARY:Plavba na online moři 4.A Acet
DESCRIPTION:
URL:https://2zslitomysl.cz/kalendar/plavba-na-online-mori-4-a-acet/
CATEGORIES:4.A
END:VEVENT
BEGIN:VEVENT
DTSTART;TZID=Europe/Prague:20260218T073000
DTEND;TZID=Europe/Prague:20260218T140000
DTSTAMP:20260426T035828
CREATED:20260206T105920Z
LAST-MODIFIED:20260206T105920Z
UID:46261-1771399800-1771423200@2zslitomysl.cz
SUMMARY:Olympiáda v anglickém jazyce - okresní kolo 8. a 9.tříd
DESCRIPTION:E.Šoutová – doprovod R.Kubů
URL:https://2zslitomysl.cz/kalendar/olympiada-v-anglickem-jazyce-okresni-kolo-8-a-9-trid/
CATEGORIES:Ostatní
END:VEVENT
END:VCALENDAR