BEGIN:VCALENDAR
VERSION:2.0
PRODID:-//2. Základní škola Litomyšl, U Školek - ECPv6.2.0//NONSGML v1.0//EN
CALSCALE:GREGORIAN
METHOD:PUBLISH
X-ORIGINAL-URL:https://2zslitomysl.cz
X-WR-CALDESC:Akce na 2. Základní škola Litomyšl, U Školek
REFRESH-INTERVAL;VALUE=DURATION:PT1H
X-Robots-Tag:noindex
X-PUBLISHED-TTL:PT1H
BEGIN:VTIMEZONE
TZID:Europe/Prague
BEGIN:DAYLIGHT
TZOFFSETFROM:+0100
TZOFFSETTO:+0200
TZNAME:CEST
DTSTART:20260329T010000
END:DAYLIGHT
BEGIN:STANDARD
TZOFFSETFROM:+0200
TZOFFSETTO:+0100
TZNAME:CET
DTSTART:20261025T010000
END:STANDARD
END:VTIMEZONE
BEGIN:VEVENT
DTSTART;TZID=Europe/Prague:20260601T080000
DTEND;TZID=Europe/Prague:20260601T110000
DTSTAMP:20260426T011352
CREATED:20260410T091131Z
LAST-MODIFIED:20260410T091131Z
UID:47548-1780300800-1780311600@2zslitomysl.cz
SUMMARY:Den dětí
DESCRIPTION:akce pro 1.stupeň
URL:https://2zslitomysl.cz/kalendar/den-deti/
CATEGORIES:1.Stupeň
END:VEVENT
BEGIN:VEVENT
DTSTART;TZID=Europe/Prague:20260602T063000
DTEND;TZID=Europe/Prague:20260602T170000
DTSTAMP:20260426T011352
CREATED:20251205T085808Z
LAST-MODIFIED:20251205T085808Z
UID:44054-1780381800-1780419600@2zslitomysl.cz
SUMMARY:Exkurze do JE Dukovany a VPE Dalešice
DESCRIPTION:třídy 9.A a 9.B \ndoprovod: L. Ondráčková\, M. Bogdan
URL:https://2zslitomysl.cz/kalendar/exkurze-do-je-dukovany-a-vpe-dalesice/
CATEGORIES:9.A,9.B
END:VEVENT
BEGIN:VEVENT
DTSTART;TZID=Europe/Prague:20260602T100000
DTEND;TZID=Europe/Prague:20260602T113000
DTSTAMP:20260426T011352
CREATED:20260130T164009Z
LAST-MODIFIED:20260130T164009Z
UID:47757-1780394400-1780399800@2zslitomysl.cz
SUMMARY:Plavání
DESCRIPTION:Městský bazén Litomyšl.
URL:https://2zslitomysl.cz/kalendar/plavani-3/2026-06-02/
CATEGORIES:1.A,1.B
END:VEVENT
BEGIN:VEVENT
DTSTART;TZID=Europe/Prague:20260602T134500
DTEND;TZID=Europe/Prague:20260602T150000
DTSTAMP:20260426T011352
CREATED:20260317T073834Z
LAST-MODIFIED:20260317T073834Z
UID:47006-1780407900-1780412400@2zslitomysl.cz
SUMMARY:OPERETKY
DESCRIPTION:Smetanův dům\nZ. Svěrák a J. Uhlíř\nvšechna oddělení ŠD\nvstupné 100 Kč
URL:https://2zslitomysl.cz/kalendar/operetky/
LOCATION:Smetanův dům Litomyšl
CATEGORIES:Akce školní družiny
END:VEVENT
BEGIN:VEVENT
DTSTART;TZID=Europe/Prague:20260603T090000
DTEND;TZID=Europe/Prague:20260603T120000
DTSTAMP:20260426T011352
CREATED:20260408T061129Z
LAST-MODIFIED:20260408T061129Z
UID:47458-1780477200-1780488000@2zslitomysl.cz
SUMMARY:Pasování prvňáčků na čtenáře
DESCRIPTION:1.A – 9:30 \n1.B – 10:30 \nDoprovod TU + AP\, v MK
URL:https://2zslitomysl.cz/kalendar/pasovani-prvnacku-na-ctenare/
CATEGORIES:1.A,1.B
END:VEVENT
BEGIN:VEVENT
DTSTART;TZID=Europe/Prague:20260604T080000
DTEND;TZID=Europe/Prague:20260604T094000
DTSTAMP:20260426T011352
CREATED:20250916T082711Z
LAST-MODIFIED:20251118T142312Z
UID:41398-1780560000-1780566000@2zslitomysl.cz
SUMMARY:Nikotinové sáčka a vapování\, 8.A Acet
DESCRIPTION:
URL:https://2zslitomysl.cz/kalendar/nikotinove-sacka-a-vapovani-8-a-acet/
CATEGORIES:8.A
END:VEVENT
BEGIN:VEVENT
DTSTART;TZID=Europe/Prague:20260604T080000
DTEND;TZID=Europe/Prague:20260604T094000
DTSTAMP:20260426T011352
CREATED:20250916T082753Z
LAST-MODIFIED:20251118T142404Z
UID:41400-1780560000-1780566000@2zslitomysl.cz
SUMMARY:Nikotinové sáčka a vapování\, 8.B Acet
DESCRIPTION:
URL:https://2zslitomysl.cz/kalendar/nikotinove-sacka-a-vapovani-8-b-acet/
CATEGORIES:8.B
END:VEVENT
BEGIN:VEVENT
DTSTART;TZID=Europe/Prague:20260604T120000
DTEND;TZID=Europe/Prague:20260604T163000
DTSTAMP:20260426T011352
CREATED:20260305T090350Z
LAST-MODIFIED:20260305T090350Z
UID:46777-1780574400-1780590600@2zslitomysl.cz
SUMMARY:TONGO HRADEC KRÁLOVÉ
DESCRIPTION:-výlet školní družiny \n-všechna oddělení
URL:https://2zslitomysl.cz/kalendar/tongo-hradec-kralove/
CATEGORIES:Akce školní družiny
END:VEVENT
BEGIN:VEVENT
DTSTART;TZID=Europe/Prague:20260605T080000
DTEND;TZID=Europe/Prague:20260605T094000
DTSTAMP:20260426T011352
CREATED:20250916T083000Z
LAST-MODIFIED:20251118T142446Z
UID:41402-1780646400-1780652400@2zslitomysl.cz
SUMMARY:Nebezpečí internetové pornografie 9.A
DESCRIPTION:
URL:https://2zslitomysl.cz/kalendar/nebezpeci-internetove-pornografie-9-a/
CATEGORIES:9.A
END:VEVENT
BEGIN:VEVENT
DTSTART;TZID=Europe/Prague:20260605T100000
DTEND;TZID=Europe/Prague:20260605T114000
DTSTAMP:20260426T011352
CREATED:20250916T083039Z
LAST-MODIFIED:20251118T142627Z
UID:41405-1780653600-1780659600@2zslitomysl.cz
SUMMARY:Nebezpečí internetové pornografie 9.B
DESCRIPTION:
URL:https://2zslitomysl.cz/kalendar/nebezpeci-internetove-pornografie-9-b/
CATEGORIES:9.B
END:VEVENT
BEGIN:VEVENT
DTSTART;TZID=Europe/Prague:20260608T094500
DTEND;TZID=Europe/Prague:20260608T114500
DTSTAMP:20260426T011352
CREATED:20260328T084412Z
LAST-MODIFIED:20260330T112941Z
UID:47268-1780911900-1780919100@2zslitomysl.cz
SUMMARY:Návštěva Naděje
DESCRIPTION:Program Finanční gramotnost v nízkoprahovém zařízení Naděje Litomyšl \nOd 10:15 do 11:15. \nDoprovod: V. Hýblová\, J. Grunerová
URL:https://2zslitomysl.cz/kalendar/navsteva-nadeje/
CATEGORIES:5.B
END:VEVENT
BEGIN:VEVENT
DTSTART;TZID=Europe/Prague:20260609T080000
DTEND;TZID=Europe/Prague:20260609T170000
DTSTAMP:20260426T011352
CREATED:20260415T115947Z
LAST-MODIFIED:20260415T115947Z
UID:47646-1780992000-1781024400@2zslitomysl.cz
SUMMARY:Třídní výlet 6.A.  6. B
DESCRIPTION:Dohled: K. Bednářová\, P. Pucherová\, A. Míková\, A. Futerová
URL:https://2zslitomysl.cz/kalendar/tridni-vylet-6-a-6-b/
CATEGORIES:6.A,6.B
END:VEVENT
BEGIN:VEVENT
DTSTART;TZID=Europe/Prague:20260609T100000
DTEND;TZID=Europe/Prague:20260609T113000
DTSTAMP:20260426T011352
CREATED:20260130T164009Z
LAST-MODIFIED:20260130T164009Z
UID:47758-1780999200-1781004600@2zslitomysl.cz
SUMMARY:Plavání
DESCRIPTION:Městský bazén Litomyšl.
URL:https://2zslitomysl.cz/kalendar/plavani-3/2026-06-09/
CATEGORIES:1.A,1.B
END:VEVENT
BEGIN:VEVENT
DTSTART;TZID=Europe/Prague:20260609T133000
DTEND;TZID=Europe/Prague:20260609T163000
DTSTAMP:20260426T011352
CREATED:20260316T072501Z
LAST-MODIFIED:20260316T072501Z
UID:46975-1781011800-1781022600@2zslitomysl.cz
SUMMARY:Letní olympijské hry
DESCRIPTION:sportovní utkání  školních družin z Litomyšle a okolí\nškolní zahrada\, hřiště a okolí
URL:https://2zslitomysl.cz/kalendar/letni-olympijske-hry/
LOCATION:Litomyšl
CATEGORIES:Akce školní družiny
END:VEVENT
BEGIN:VEVENT
DTSTART;TZID=Europe/Prague:20260610T060000
DTEND;TZID=Europe/Prague:20260612T180000
DTSTAMP:20260426T011352
CREATED:20260326T142233Z
LAST-MODIFIED:20260326T142233Z
UID:47160-1781071200-1781287200@2zslitomysl.cz
SUMMARY:Školní výlet - 9.B
DESCRIPTION:Vltava – rafty \ndoprovod: M. Bogdan\, J. Špinar
URL:https://2zslitomysl.cz/kalendar/skolni-vylet-9-b/
CATEGORIES:9.B
END:VEVENT
BEGIN:VEVENT
DTSTART;TZID=Europe/Prague:20260611T070000
DTEND;TZID=Europe/Prague:20260611T170000
DTSTAMP:20260426T011352
CREATED:20260410T091235Z
LAST-MODIFIED:20260410T091235Z
UID:47551-1781161200-1781197200@2zslitomysl.cz
SUMMARY:školní výlet 3.A+3.B
DESCRIPTION:zábavní park Mirakulum
URL:https://2zslitomysl.cz/kalendar/skolni-vylet-3-a3-b/
CATEGORIES:3.A,3.B
END:VEVENT
BEGIN:VEVENT
DTSTART;TZID=Europe/Prague:20260611T071500
DTEND;TZID=Europe/Prague:20260611T160000
DTSTAMP:20260426T011352
CREATED:20260319T185605Z
LAST-MODIFIED:20260319T185605Z
UID:47081-1781162100-1781193600@2zslitomysl.cz
SUMMARY:Školní výlet 2. A a 2. B
DESCRIPTION:Školní výlet 2. A a 2. B \nZOO Olomouc
URL:https://2zslitomysl.cz/kalendar/skolni-vylet-2-a-a-2-b/
LOCATION:ZOO Olomouc
CATEGORIES:2.A,2.B
END:VEVENT
BEGIN:VEVENT
DTSTART;TZID=Europe/Prague:20260615T100000
DTEND;TZID=Europe/Prague:20260615T120000
DTSTAMP:20260426T011352
CREATED:20260318T141213Z
LAST-MODIFIED:20260318T141213Z
UID:47021-1781517600-1781524800@2zslitomysl.cz
SUMMARY:Vystoupení divadla Šmrnc
DESCRIPTION:Vystoupení divadla Šmrnc pro žáky 3. – 4. tříd. \nPed. dohled: V. Řeháková a I. Holomková
URL:https://2zslitomysl.cz/kalendar/vystoupeni-divadla-smrnc/
CATEGORIES:Akce školy
END:VEVENT
BEGIN:VEVENT
DTSTART;TZID=Europe/Prague:20260616T100000
DTEND;TZID=Europe/Prague:20260616T113000
DTSTAMP:20260426T011352
CREATED:20260130T164009Z
LAST-MODIFIED:20260130T164009Z
UID:47759-1781604000-1781609400@2zslitomysl.cz
SUMMARY:Plavání
DESCRIPTION:Městský bazén Litomyšl.
URL:https://2zslitomysl.cz/kalendar/plavani-3/2026-06-16/
CATEGORIES:1.A,1.B
END:VEVENT
BEGIN:VEVENT
DTSTART;TZID=Europe/Prague:20260616T170000
DTEND;TZID=Europe/Prague:20260616T190000
DTSTAMP:20260426T011352
CREATED:20260318T141322Z
LAST-MODIFIED:20260318T141322Z
UID:47024-1781629200-1781636400@2zslitomysl.cz
SUMMARY:Vystoupení divadla Šmrnc
DESCRIPTION:Vystoupení divadla Šmrnc pro veřejnost. \nPed. dohled: V. Řeháková a I. Holomková
URL:https://2zslitomysl.cz/kalendar/vystoupeni-divadla-smrnc-2/
CATEGORIES:Akce školy
END:VEVENT
BEGIN:VEVENT
DTSTART;VALUE=DATE:20260617
DTEND;VALUE=DATE:20260618
DTSTAMP:20260426T011352
CREATED:20250820T071458Z
LAST-MODIFIED:20260420T080544Z
UID:40675-1781654400-1781740799@2zslitomysl.cz
SUMMARY:Uzavření klasifikace
DESCRIPTION:
URL:https://2zslitomysl.cz/kalendar/uzavreni-klasifikace-2/
CATEGORIES:Ostatní
END:VEVENT
BEGIN:VEVENT
DTSTART;TZID=Europe/Prague:20260617T070000
DTEND;TZID=Europe/Prague:20260617T160000
DTSTAMP:20260426T011352
CREATED:20260302T151059Z
LAST-MODIFIED:20260302T151059Z
UID:46764-1781679600-1781712000@2zslitomysl.cz
SUMMARY:Výlet VIDA Brno- 4.A\, 4.B
DESCRIPTION:
URL:https://2zslitomysl.cz/kalendar/vylet-vida-brno-4-a-4-b/
CATEGORIES:4.A,4.B
END:VEVENT
BEGIN:VEVENT
DTSTART;TZID=Europe/Prague:20260617T080000
DTEND;TZID=Europe/Prague:20260617T170000
DTSTAMP:20260426T011352
CREATED:20260320T161904Z
LAST-MODIFIED:20260323T083957Z
UID:47091-1781683200-1781715600@2zslitomysl.cz
SUMMARY:Školní výlet 1. A\, 1. B
DESCRIPTION:ZOO Olomouc Svatý Kopeček\, pedagogický doprovod Ilona Krejbychová\, M. Rosypalová\, H. Kopecká\, M. Horáková
URL:https://2zslitomysl.cz/kalendar/skolni-vylet-1-a-1-b/
CATEGORIES:1.A,1.B
END:VEVENT
BEGIN:VEVENT
DTSTART;TZID=Europe/Prague:20260618T080000
DTEND;TZID=Europe/Prague:20260619T160000
DTSTAMP:20260426T011352
CREATED:20260421T142108Z
LAST-MODIFIED:20260421T142108Z
UID:47801-1781769600-1781884800@2zslitomysl.cz
SUMMARY:Školní výlet 8.A + 8.B
DESCRIPTION:Vodní nádrž Pastviny – s přespáním. \nDozor – M. Matoušek\, J. Paclík\, R. Kubů\, E. Stříteská
URL:https://2zslitomysl.cz/kalendar/skolni-vylet-8-a-8-b/
END:VEVENT
BEGIN:VEVENT
DTSTART;TZID=Europe/Prague:20260618T130000
DTEND;TZID=Europe/Prague:20260618T160000
DTSTAMP:20260426T011352
CREATED:20250820T071642Z
LAST-MODIFIED:20260420T064400Z
UID:40677-1781787600-1781798400@2zslitomysl.cz
SUMMARY:Závěrečná pedagogická rada
DESCRIPTION:
URL:https://2zslitomysl.cz/kalendar/zaverecna-pedagogicka-rada/
CATEGORIES:Porada
END:VEVENT
BEGIN:VEVENT
DTSTART;VALUE=DATE:20260619
DTEND;VALUE=DATE:20260620
DTSTAMP:20260426T011352
CREATED:20260325T192733Z
LAST-MODIFIED:20260325T193807Z
UID:47151-1781827200-1781913599@2zslitomysl.cz
SUMMARY:školní výlet 7.A
DESCRIPTION:Brno – laser game\, labyrint pod Zelným trhem\, prohlídka centra města \ndoprovod: Jirečková\, Bresto
URL:https://2zslitomysl.cz/kalendar/skolni-vylet-7-a/
CATEGORIES:7.A
END:VEVENT
BEGIN:VEVENT
DTSTART;TZID=Europe/Prague:20260619T180000
DTEND;TZID=Europe/Prague:20260619T210000
DTSTAMP:20260426T011352
CREATED:20260129T140758Z
LAST-MODIFIED:20260409T115252Z
UID:45878-1781892000-1781902800@2zslitomysl.cz
SUMMARY:Rozlučkový večer s žáky 9. tříd
DESCRIPTION:Akce připravená školním parlamentem pro žáky 9. tříd a pedagogické pracovníky. Pomáhají dobrovolníci z řad ŠP\, 8. tříd i 7. tříd.
URL:https://2zslitomysl.cz/kalendar/rozluckovy-vecer-s-zaky-9-trid/
CATEGORIES:9.A,9.B,Ostatní
END:VEVENT
BEGIN:VEVENT
DTSTART;TZID=Europe/Prague:20260624T080000
DTEND;TZID=Europe/Prague:20260624T133000
DTSTAMP:20260426T011352
CREATED:20260421T145324Z
LAST-MODIFIED:20260421T145324Z
UID:47804-1782288000-1782307800@2zslitomysl.cz
SUMMARY:Brannball turnaj
DESCRIPTION:Hřiště s umělou travou nad atletickým stadionem.\nVytvořené týmy z 2. stupně.\nDozor – M. Matoušek\, J. Paclík
URL:https://2zslitomysl.cz/kalendar/brannball-turnaj/
END:VEVENT
BEGIN:VEVENT
DTSTART;VALUE=DATE:20260625
DTEND;VALUE=DATE:20260626
DTSTAMP:20260426T011352
CREATED:20250820T071404Z
LAST-MODIFIED:20260421T142207Z
UID:40673-1782345600-1782431999@2zslitomysl.cz
SUMMARY:Beach day
DESCRIPTION:
URL:https://2zslitomysl.cz/kalendar/beach-day/
CATEGORIES:Akce školy
END:VEVENT
BEGIN:VEVENT
DTSTART;TZID=Europe/Prague:20260626T080000
DTEND;TZID=Europe/Prague:20260626T090000
DTSTAMP:20260426T011352
CREATED:20250820T071916Z
LAST-MODIFIED:20260420T065225Z
UID:40679-1782460800-1782464400@2zslitomysl.cz
SUMMARY:Slavnostní ukončení školního roku - předání vysvědčení
DESCRIPTION:
URL:https://2zslitomysl.cz/kalendar/slavnostni-ukonceni-skolniho-roku-predani-vysvedceni/
CATEGORIES:Ostatní
END:VEVENT
END:VCALENDAR