BEGIN:VCALENDAR
VERSION:2.0
PRODID:-//2. Základní škola Litomyšl, U Školek - ECPv6.2.0//NONSGML v1.0//EN
CALSCALE:GREGORIAN
METHOD:PUBLISH
X-WR-CALNAME:2. Základní škola Litomyšl, U Školek
X-ORIGINAL-URL:https://2zslitomysl.cz
X-WR-CALDESC:Akce na 2. Základní škola Litomyšl, U Školek
REFRESH-INTERVAL;VALUE=DURATION:PT1H
X-Robots-Tag:noindex
X-PUBLISHED-TTL:PT1H
BEGIN:VTIMEZONE
TZID:Europe/Prague
BEGIN:DAYLIGHT
TZOFFSETFROM:+0100
TZOFFSETTO:+0200
TZNAME:CEST
DTSTART:20260329T010000
END:DAYLIGHT
BEGIN:STANDARD
TZOFFSETFROM:+0200
TZOFFSETTO:+0100
TZNAME:CET
DTSTART:20261025T010000
END:STANDARD
BEGIN:DAYLIGHT
TZOFFSETFROM:+0100
TZOFFSETTO:+0200
TZNAME:CEST
DTSTART:20270328T010000
END:DAYLIGHT
BEGIN:STANDARD
TZOFFSETFROM:+0200
TZOFFSETTO:+0100
TZNAME:CET
DTSTART:20271031T010000
END:STANDARD
BEGIN:DAYLIGHT
TZOFFSETFROM:+0100
TZOFFSETTO:+0200
TZNAME:CEST
DTSTART:20280326T010000
END:DAYLIGHT
BEGIN:STANDARD
TZOFFSETFROM:+0200
TZOFFSETTO:+0100
TZNAME:CET
DTSTART:20281029T010000
END:STANDARD
END:VTIMEZONE
BEGIN:VEVENT
DTSTART;VALUE=DATE:20260701
DTEND;VALUE=DATE:20260901
DTSTAMP:20260426T055242
CREATED:20250820T072008Z
LAST-MODIFIED:20250820T072226Z
UID:40681-1782864000-1788220799@2zslitomysl.cz
SUMMARY:Hlavní prázdniny
DESCRIPTION:
URL:https://2zslitomysl.cz/kalendar/hlavni-prazdniny/
CATEGORIES:Prázdniny
END:VEVENT
BEGIN:VEVENT
DTSTART;TZID=Europe/Prague:20261012T080000
DTEND;TZID=Europe/Prague:20261012T140000
DTSTAMP:20260426T055242
CREATED:20250625T131449Z
LAST-MODIFIED:20250625T131631Z
UID:39791-1791792000-1791813600@2zslitomysl.cz
SUMMARY:školení - K. Jirečková
DESCRIPTION:Role třídního učitele
URL:https://2zslitomysl.cz/kalendar/skoleni-8/
END:VEVENT
BEGIN:VEVENT
DTSTART;TZID=Europe/Prague:20261012T080000
DTEND;TZID=Europe/Prague:20261012T140000
DTSTAMP:20260426T055242
CREATED:20250626T105338Z
LAST-MODIFIED:20250626T105338Z
UID:39826-1791792000-1791813600@2zslitomysl.cz
SUMMARY:Seminář - I. Krejbychová
DESCRIPTION:Mgr. Jiří Halda – Role třídního učitele
URL:https://2zslitomysl.cz/kalendar/seminar-i-krejbychova-2/
END:VEVENT
BEGIN:VEVENT
DTSTART;TZID=Europe/Prague:20261012T080000
DTEND;TZID=Europe/Prague:20261012T140000
DTSTAMP:20260426T055242
CREATED:20250828T080237Z
LAST-MODIFIED:20250828T080522Z
UID:40733-1791792000-1791813600@2zslitomysl.cz
SUMMARY:Školení - Beníšková D.\, Bartošová I
DESCRIPTION:Role třídního učitele – Mgr. J. Halda
URL:https://2zslitomysl.cz/kalendar/skoleni-beniskova-d-bartosova-i-2/
CATEGORIES:Nepřítomnost
END:VEVENT
BEGIN:VEVENT
DTSTART;TZID=Europe/Prague:20261012T080000
DTEND;TZID=Europe/Prague:20261012T140000
DTSTAMP:20260426T055242
CREATED:20250918T114329Z
LAST-MODIFIED:20250918T114329Z
UID:41510-1791792000-1791813600@2zslitomysl.cz
SUMMARY:Školení Stejskalová\, Řeháková
DESCRIPTION:Školení – Stejskalová\, Řeháková
URL:https://2zslitomysl.cz/kalendar/skoleni-stejskalova-rehakova-2/
CATEGORIES:Nepřítomnost
END:VEVENT
BEGIN:VEVENT
DTSTART;VALUE=DATE:20270402
DTEND;VALUE=DATE:20270405
DTSTAMP:20260426T055242
CREATED:20250915T123254Z
LAST-MODIFIED:20250915T123254Z
UID:41354-1806624000-1806883199@2zslitomysl.cz
SUMMARY:Teambulding
DESCRIPTION:
URL:https://2zslitomysl.cz/kalendar/teambulding/
CATEGORIES:Ostatní
END:VEVENT
BEGIN:VEVENT
DTSTART;TZID=Europe/Prague:20280919T080000
DTEND;TZID=Europe/Prague:20280919T170000
DTSTAMP:20260426T055242
CREATED:20240918T114808Z
LAST-MODIFIED:20240918T114839Z
UID:30953-1852963200-1852995600@2zslitomysl.cz
SUMMARY:Dravci - ukázka
DESCRIPTION:Seiferos\, na Větrníku
URL:https://2zslitomysl.cz/kalendar/dravci-ukazka/
END:VEVENT
END:VCALENDAR