BEGIN:VCALENDAR
VERSION:2.0
PRODID:-//2. Základní škola Litomyšl, U Školek - ECPv6.2.0//NONSGML v1.0//EN
CALSCALE:GREGORIAN
METHOD:PUBLISH
X-WR-CALNAME:2. Základní škola Litomyšl, U Školek
X-ORIGINAL-URL:https://2zslitomysl.cz
X-WR-CALDESC:Akce na 2. Základní škola Litomyšl, U Školek
REFRESH-INTERVAL;VALUE=DURATION:PT1H
X-Robots-Tag:noindex
X-PUBLISHED-TTL:PT1H
BEGIN:VTIMEZONE
TZID:Europe/Prague
BEGIN:DAYLIGHT
TZOFFSETFROM:+0100
TZOFFSETTO:+0200
TZNAME:CEST
DTSTART:20260329T010000
END:DAYLIGHT
BEGIN:STANDARD
TZOFFSETFROM:+0200
TZOFFSETTO:+0100
TZNAME:CET
DTSTART:20261025T010000
END:STANDARD
END:VTIMEZONE
BEGIN:VEVENT
DTSTART;TZID=Europe/Prague:20260424T114500
DTEND;TZID=Europe/Prague:20260424T123000
DTSTAMP:20260425T174821
CREATED:20260420T075328Z
LAST-MODIFIED:20260420T075328Z
UID:47794-1777031100-1777033800@2zslitomysl.cz
SUMMARY:Program se školním psychologem
DESCRIPTION:
URL:https://2zslitomysl.cz/kalendar/program-se-skolnim-psychologem-38/
CATEGORIES:5.A
END:VEVENT
BEGIN:VEVENT
DTSTART;TZID=Europe/Prague:20260424T100000
DTEND;TZID=Europe/Prague:20260424T104500
DTSTAMP:20260425T174821
CREATED:20260413T120355Z
LAST-MODIFIED:20260413T120355Z
UID:47595-1777024800-1777027500@2zslitomysl.cz
SUMMARY:Setkání asistentů pedagoga
DESCRIPTION:
URL:https://2zslitomysl.cz/kalendar/setkani-asistentu-pedagoga-9/
END:VEVENT
BEGIN:VEVENT
DTSTART;TZID=Europe/Prague:20260424T080000
DTEND;TZID=Europe/Prague:20260424T094000
DTSTAMP:20260425T174821
CREATED:20260413T073208Z
LAST-MODIFIED:20260413T073208Z
UID:47591-1777017600-1777023600@2zslitomysl.cz
SUMMARY:Program se školním psychologem
DESCRIPTION:
URL:https://2zslitomysl.cz/kalendar/program-se-skolnim-psychologem-22/
CATEGORIES:8.A
END:VEVENT
BEGIN:VEVENT
DTSTART;TZID=Europe/Prague:20260423T130000
DTEND;TZID=Europe/Prague:20260423T160000
DTSTAMP:20260425T174821
CREATED:20250820T071232Z
LAST-MODIFIED:20250820T071232Z
UID:40671-1776949200-1776960000@2zslitomysl.cz
SUMMARY:Konzultace žák\, rodič\, učitel
DESCRIPTION:
URL:https://2zslitomysl.cz/kalendar/konzultace-zak-rodic-ucitel-2/
CATEGORIES:Ostatní
END:VEVENT
BEGIN:VEVENT
DTSTART;TZID=Europe/Prague:20260423T090000
DTEND;TZID=Europe/Prague:20260423T140000
DTSTAMP:20260425T174821
CREATED:20260407T104805Z
LAST-MODIFIED:20260407T104805Z
UID:47451-1776934800-1776952800@2zslitomysl.cz
SUMMARY:Školení
DESCRIPTION:A.Hanušová
URL:https://2zslitomysl.cz/kalendar/skoleni-3/
CATEGORIES:Ostatní
END:VEVENT
BEGIN:VEVENT
DTSTART;TZID=Europe/Prague:20260423T090000
DTEND;TZID=Europe/Prague:20260423T140000
DTSTAMP:20260425T174821
CREATED:20251107T103801Z
LAST-MODIFIED:20260422T060836Z
UID:43016-1776934800-1776952800@2zslitomysl.cz
SUMMARY:Školení- Míková
DESCRIPTION:
URL:https://2zslitomysl.cz/kalendar/skoleni-mikova-4/
CATEGORIES:Nepřítomnost
END:VEVENT
BEGIN:VEVENT
DTSTART;TZID=Europe/Prague:20260423T080000
DTEND;TZID=Europe/Prague:20260423T140000
DTSTAMP:20260425T174821
CREATED:20260414T090411Z
LAST-MODIFIED:20260414T090411Z
UID:47623-1776931200-1776952800@2zslitomysl.cz
SUMMARY:Minikopaná žáků 1. -3. tříd (okresní kolo)
DESCRIPTION:Akce se koná ve Svitavách. Doprovod J. Paclík.
URL:https://2zslitomysl.cz/kalendar/minikopana-zaku-1-3-trid-okresni-kolo/
CATEGORIES:1.A,2.A,2.B,3.A,3.B
END:VEVENT
BEGIN:VEVENT
DTSTART;TZID=Europe/Prague:20260423T080000
DTEND;TZID=Europe/Prague:20260423T111500
DTSTAMP:20260425T174821
CREATED:20260225T122712Z
LAST-MODIFIED:20260225T122712Z
UID:46555-1776931200-1776942900@2zslitomysl.cz
SUMMARY:Dopravní výchova - 2. část - 4.A
DESCRIPTION:Začátek výuky je v budově SVČ nad autobusovým nádražím a po napsání testu se bude pokračovat jízdami na dopravním hřišti. \nDěti by měly mít svačiny\, přezuvky do sálu\, propisku a cyklistické helmy. \nDoprovod TU
URL:https://2zslitomysl.cz/kalendar/dopravni-vychova-2-cast-4-a/
CATEGORIES:4.A
END:VEVENT
BEGIN:VEVENT
DTSTART;TZID=Europe/Prague:20260422T100000
DTEND;TZID=Europe/Prague:20260422T113500
DTSTAMP:20260425T174821
CREATED:20260130T163840Z
LAST-MODIFIED:20260130T163840Z
UID:45902-1776852000-1776857700@2zslitomysl.cz
SUMMARY:Plavání
DESCRIPTION:Plavecká výuka je povinná. \nMěstský bazén Litomyšl
URL:https://2zslitomysl.cz/kalendar/plavani-2/2026-04-22/
CATEGORIES:4.A,4.B
END:VEVENT
BEGIN:VEVENT
DTSTART;TZID=Europe/Prague:20260422T080000
DTEND;TZID=Europe/Prague:20260422T120000
DTSTAMP:20260425T174821
CREATED:20260408T124700Z
LAST-MODIFIED:20260408T124700Z
UID:47499-1776844800-1776859200@2zslitomysl.cz
SUMMARY:Štafetový pohár žáků 1. stupně
DESCRIPTION:Akce se koná na atletickém stadionu v Litomyšli. Doprovod J. Paclík a A. Stejskalová.
URL:https://2zslitomysl.cz/kalendar/stafetovy-pohar-zaku-1-stupne-2/
CATEGORIES:1.Stupeň
END:VEVENT
BEGIN:VEVENT
DTSTART;TZID=Europe/Prague:20260422T080000
DTEND;TZID=Europe/Prague:20260422T093500
DTSTAMP:20260425T174821
CREATED:20260130T163540Z
LAST-MODIFIED:20260130T163540Z
UID:45891-1776844800-1776850500@2zslitomysl.cz
SUMMARY:Plavání
DESCRIPTION:Plavecká výuka je povinná. \nMěstský bazén Litomyšl\, odchod od školy bude upřesněn.
URL:https://2zslitomysl.cz/kalendar/plavani/2026-04-22/
CATEGORIES:3.A,3.B
END:VEVENT
BEGIN:VEVENT
DTSTART;TZID=Europe/Prague:20260421T130000
DTEND;TZID=Europe/Prague:20260421T160000
DTSTAMP:20260425T174821
CREATED:20250820T070726Z
LAST-MODIFIED:20250820T070726Z
UID:40669-1776776400-1776787200@2zslitomysl.cz
SUMMARY:Třičtvrtěletní pedagogická rada
DESCRIPTION:
URL:https://2zslitomysl.cz/kalendar/trictvrteletni-pedagogicka-rada/
CATEGORIES:Porada
END:VEVENT
BEGIN:VEVENT
DTSTART;TZID=Europe/Prague:20260421T080000
DTEND;TZID=Europe/Prague:20260421T140000
DTSTAMP:20260425T174821
CREATED:20260417T111826Z
LAST-MODIFIED:20260417T111826Z
UID:47762-1776758400-1776780000@2zslitomysl.cz
SUMMARY:Minifotbal žáků 4. -5. tříd (McDonalds Cup)
DESCRIPTION:Akce se koná ve Svitavách. Doprovod J. Paclík.
URL:https://2zslitomysl.cz/kalendar/minifotbal-zaku-4-5-trid-mcdonalds-cup/
CATEGORIES:4.A,4.B,5.A
END:VEVENT
BEGIN:VEVENT
DTSTART;TZID=Europe/Prague:20260417T080000
DTEND;TZID=Europe/Prague:20260417T130000
DTSTAMP:20260425T174821
CREATED:20260414T083122Z
LAST-MODIFIED:20260414T083122Z
UID:47619-1776412800-1776430800@2zslitomysl.cz
SUMMARY:Natáčení filmu- Míková\, Coufal
DESCRIPTION:
URL:https://2zslitomysl.cz/kalendar/nataceni-filmu-mikova-coufal-2/
END:VEVENT
BEGIN:VEVENT
DTSTART;TZID=Europe/Prague:20260417T080000
DTEND;TZID=Europe/Prague:20260417T130000
DTSTAMP:20260425T174821
CREATED:20260408T124518Z
LAST-MODIFIED:20260408T124518Z
UID:47496-1776412800-1776430800@2zslitomysl.cz
SUMMARY:Fotbal žáků 4.- 5. tříd (McDonalds cup)
DESCRIPTION:Akce se koná na fotbalovém stadionu v Litomyšli.
URL:https://2zslitomysl.cz/kalendar/fotbal-zaku-4-5-trid-mcdonalds-cup/
CATEGORIES:4.A,4.B,5.A,5.B
END:VEVENT
BEGIN:VEVENT
DTSTART;TZID=Europe/Prague:20260415T100000
DTEND;TZID=Europe/Prague:20260415T113500
DTSTAMP:20260425T174821
CREATED:20260130T163840Z
LAST-MODIFIED:20260130T163840Z
UID:45901-1776247200-1776252900@2zslitomysl.cz
SUMMARY:Plavání
DESCRIPTION:Plavecká výuka je povinná. \nMěstský bazén Litomyšl
URL:https://2zslitomysl.cz/kalendar/plavani-2/2026-04-15/
CATEGORIES:4.A,4.B
END:VEVENT
BEGIN:VEVENT
DTSTART;TZID=Europe/Prague:20260415T080000
DTEND;TZID=Europe/Prague:20260415T093500
DTSTAMP:20260425T174821
CREATED:20260130T163540Z
LAST-MODIFIED:20260130T163540Z
UID:45890-1776240000-1776245700@2zslitomysl.cz
SUMMARY:Plavání
DESCRIPTION:Plavecká výuka je povinná. \nMěstský bazén Litomyšl\, odchod od školy bude upřesněn.
URL:https://2zslitomysl.cz/kalendar/plavani/2026-04-15/
CATEGORIES:3.A,3.B
END:VEVENT
BEGIN:VEVENT
DTSTART;VALUE=DATE:20260415
DTEND;VALUE=DATE:20260416
DTSTAMP:20260425T174821
CREATED:20251118T073618Z
LAST-MODIFIED:20251118T073618Z
UID:43555-1776211200-1776297599@2zslitomysl.cz
SUMMARY:Přijímací zkoušky na víceletá gymnázia
DESCRIPTION:
URL:https://2zslitomysl.cz/kalendar/prijimaci-zkousky-na-viceleta-gymnazia-2/
CATEGORIES:5.A,5.B
END:VEVENT
BEGIN:VEVENT
DTSTART;TZID=Europe/Prague:20260414T080000
DTEND;TZID=Europe/Prague:20260414T140000
DTSTAMP:20260425T174821
CREATED:20260204T201128Z
LAST-MODIFIED:20260204T201128Z
UID:46102-1776153600-1776175200@2zslitomysl.cz
SUMMARY:Výlet 1. B
DESCRIPTION:Peklo Čertovina\, doprovod I. Krejbychová\, H. Kopecká
URL:https://2zslitomysl.cz/kalendar/vylet-1-b/
CATEGORIES:1.B
END:VEVENT
BEGIN:VEVENT
DTSTART;VALUE=DATE:20260414
DTEND;VALUE=DATE:20260415
DTSTAMP:20260425T174821
CREATED:20251118T073537Z
LAST-MODIFIED:20251118T073537Z
UID:43553-1776124800-1776211199@2zslitomysl.cz
SUMMARY:Přijímací zkoušky na víceletá gymnázia
DESCRIPTION:
URL:https://2zslitomysl.cz/kalendar/prijimaci-zkousky-na-viceleta-gymnazia/
CATEGORIES:5.A,5.B
END:VEVENT
BEGIN:VEVENT
DTSTART;VALUE=DATE:20260413
DTEND;VALUE=DATE:20260414
DTSTAMP:20260425T174821
CREATED:20251118T073358Z
LAST-MODIFIED:20251118T073358Z
UID:43551-1776038400-1776124799@2zslitomysl.cz
SUMMARY:Přijímací zkoušky na SŠ
DESCRIPTION:
URL:https://2zslitomysl.cz/kalendar/prijimaci-zkousky-na-ss-2/
CATEGORIES:9.A,9.B
END:VEVENT
BEGIN:VEVENT
DTSTART;TZID=Europe/Prague:20260410T080000
DTEND;TZID=Europe/Prague:20260410T130000
DTSTAMP:20260425T174821
CREATED:20260408T124133Z
LAST-MODIFIED:20260408T124133Z
UID:47493-1775808000-1775826000@2zslitomysl.cz
SUMMARY:Fotbal žáků 1.- 3. tříd (McDonalds cup)
DESCRIPTION:Akce se koná na fotbalovém stadionu v Litomyšli. Doprovod J. Paclík
URL:https://2zslitomysl.cz/kalendar/fotbal-zaku-1-3-trid-mcdonalds-cup/
CATEGORIES:1.A,1.B,2.A,2.B,3.A,3.B
END:VEVENT
BEGIN:VEVENT
DTSTART;TZID=Europe/Prague:20260410T080000
DTEND;TZID=Europe/Prague:20260410T094000
DTSTAMP:20260425T174821
CREATED:20260320T085953Z
LAST-MODIFIED:20260320T085953Z
UID:47087-1775808000-1775814000@2zslitomysl.cz
SUMMARY:Program se školním psychologem
DESCRIPTION:
URL:https://2zslitomysl.cz/kalendar/program-se-skolnim-psychologem-20/
CATEGORIES:8.B
END:VEVENT
BEGIN:VEVENT
DTSTART;TZID=Europe/Prague:20260410T075500
DTEND;TZID=Europe/Prague:20260410T095000
DTSTAMP:20260425T174821
CREATED:20260316T142442Z
LAST-MODIFIED:20260324T153743Z
UID:47000-1775807700-1775814600@2zslitomysl.cz
SUMMARY:Taneční chvění - vystoupení ZUŠ
DESCRIPTION:Přihlášené třídy 4.B\, 5.A a 8.A\, vstupné 50\,- Kč\, doprovod třídní učitelé\, začátek představení v 8:15\, odchod cca v 7:55  hodin od školy
URL:https://2zslitomysl.cz/kalendar/tanecni-chveni-vystoupeni-zus/
CATEGORIES:4.B,5.A,8.A
END:VEVENT
BEGIN:VEVENT
DTSTART;VALUE=DATE:20260410
DTEND;VALUE=DATE:20260411
DTSTAMP:20260425T174821
CREATED:20251118T073305Z
LAST-MODIFIED:20251118T073305Z
UID:43549-1775779200-1775865599@2zslitomysl.cz
SUMMARY:Přijímací zkoušky na SŠ
DESCRIPTION:
URL:https://2zslitomysl.cz/kalendar/prijimaci-zkousky-na-ss/
CATEGORIES:9.A,9.B
END:VEVENT
BEGIN:VEVENT
DTSTART;TZID=Europe/Prague:20260409T133000
DTEND;TZID=Europe/Prague:20260409T133000
DTSTAMP:20260425T174821
CREATED:20260402T141024Z
LAST-MODIFIED:20260402T141024Z
UID:47386-1775741400-1775741400@2zslitomysl.cz
SUMMARY:Divadelní představení - Lotrando a Zubejda\, Ať žijí duchové
DESCRIPTION:všechna oddělení ŠD\nZŠ TGM Litomyšl
URL:https://2zslitomysl.cz/kalendar/divadelni-predstaveni-lotrando-a-zubejda-at-ziji-duchove/
LOCATION:Litomyšl
CATEGORIES:Akce školní družiny
END:VEVENT
BEGIN:VEVENT
DTSTART;TZID=Europe/Prague:20260408T100000
DTEND;TZID=Europe/Prague:20260408T113500
DTSTAMP:20260425T174821
CREATED:20260130T163840Z
LAST-MODIFIED:20260130T163840Z
UID:45900-1775642400-1775648100@2zslitomysl.cz
SUMMARY:Plavání
DESCRIPTION:Plavecká výuka je povinná. \nMěstský bazén Litomyšl
URL:https://2zslitomysl.cz/kalendar/plavani-2/2026-04-08/
CATEGORIES:4.A,4.B
END:VEVENT
BEGIN:VEVENT
DTSTART;TZID=Europe/Prague:20260408T080000
DTEND;TZID=Europe/Prague:20260408T170000
DTSTAMP:20260425T174821
CREATED:20260323T201311Z
LAST-MODIFIED:20260401T161252Z
UID:47139-1775635200-1775667600@2zslitomysl.cz
SUMMARY:AJ - olympiáda (krajské kolo)
DESCRIPTION:Evelína Šoutová (9.B)\, doprovod John Benson
URL:https://2zslitomysl.cz/kalendar/aj-olympiada-krajske-kolo/
END:VEVENT
BEGIN:VEVENT
DTSTART;TZID=Europe/Prague:20260408T080000
DTEND;TZID=Europe/Prague:20260408T093500
DTSTAMP:20260425T174821
CREATED:20260130T163540Z
LAST-MODIFIED:20260130T163540Z
UID:45889-1775635200-1775640900@2zslitomysl.cz
SUMMARY:Plavání
DESCRIPTION:Plavecká výuka je povinná. \nMěstský bazén Litomyšl\, odchod od školy bude upřesněn.
URL:https://2zslitomysl.cz/kalendar/plavani/2026-04-08/
CATEGORIES:3.A,3.B
END:VEVENT
BEGIN:VEVENT
DTSTART;TZID=Europe/Prague:20260407T080000
DTEND;TZID=Europe/Prague:20260407T150000
DTSTAMP:20260425T174821
CREATED:20260305T063225Z
LAST-MODIFIED:20260305T063449Z
UID:46774-1775548800-1775574000@2zslitomysl.cz
SUMMARY:Školení - Rosypalová\, Řeháková
DESCRIPTION:Orffovy nástroje – seminář \nRosypalová M.\, Řeháková V.
URL:https://2zslitomysl.cz/kalendar/skoleni-4/
LOCATION:Litomyšl
END:VEVENT
END:VCALENDAR