BEGIN:VCALENDAR
VERSION:2.0
PRODID:-//2. Základní škola Litomyšl, U Školek - ECPv6.2.0//NONSGML v1.0//EN
CALSCALE:GREGORIAN
METHOD:PUBLISH
X-WR-CALNAME:2. Základní škola Litomyšl, U Školek
X-ORIGINAL-URL:https://2zslitomysl.cz
X-WR-CALDESC:Akce na 2. Základní škola Litomyšl, U Školek
REFRESH-INTERVAL;VALUE=DURATION:PT1H
X-Robots-Tag:noindex
X-PUBLISHED-TTL:PT1H
BEGIN:VTIMEZONE
TZID:Europe/Prague
BEGIN:DAYLIGHT
TZOFFSETFROM:+0100
TZOFFSETTO:+0200
TZNAME:CEST
DTSTART:20260329T010000
END:DAYLIGHT
BEGIN:STANDARD
TZOFFSETFROM:+0200
TZOFFSETTO:+0100
TZNAME:CET
DTSTART:20261025T010000
END:STANDARD
END:VTIMEZONE
BEGIN:VEVENT
DTSTART;TZID=Europe/Prague:20260506T154500
DTEND;TZID=Europe/Prague:20260506T161500
DTSTAMP:20260426T052730
CREATED:20260416T133350Z
LAST-MODIFIED:20260416T133350Z
UID:47741-1778082300-1778084100@2zslitomysl.cz
SUMMARY:Anglie - informační schůzka pro přihlášené žáky a jejich rodiče
DESCRIPTION:předodjezdová informační schůzka ohledně zájezdu do Anglie se uskuteční v interaktivním sále ve 3. patře od 15:45 hodin
URL:https://2zslitomysl.cz/kalendar/anglie-informacni-schuzka-pro-prihlasene-zaky-a-jejich-rodice/
CATEGORIES:Ostatní
END:VEVENT
END:VCALENDAR