BEGIN:VCALENDAR
VERSION:2.0
PRODID:-//2. Základní škola Litomyšl, U Školek - ECPv6.2.0//NONSGML v1.0//EN
CALSCALE:GREGORIAN
METHOD:PUBLISH
X-ORIGINAL-URL:https://2zslitomysl.cz
X-WR-CALDESC:Akce na 2. Základní škola Litomyšl, U Školek
REFRESH-INTERVAL;VALUE=DURATION:PT1H
X-Robots-Tag:noindex
X-PUBLISHED-TTL:PT1H
BEGIN:VTIMEZONE
TZID:Europe/Prague
BEGIN:DAYLIGHT
TZOFFSETFROM:+0100
TZOFFSETTO:+0200
TZNAME:CEST
DTSTART:20260329T010000
END:DAYLIGHT
BEGIN:STANDARD
TZOFFSETFROM:+0200
TZOFFSETTO:+0100
TZNAME:CET
DTSTART:20261025T010000
END:STANDARD
END:VTIMEZONE
BEGIN:VEVENT
DTSTART;TZID=Europe/Prague:20260325T140000
DTEND;TZID=Europe/Prague:20260325T160000
DTSTAMP:20260426T022800
CREATED:20260220T134212Z
LAST-MODIFIED:20260319T123301Z
UID:46493-1774447200-1774454400@2zslitomysl.cz
SUMMARY:Slavnostní vyhlášení výsledků soutěže Hledáme nejlepšího mladého chemika
DESCRIPTION:Slavnostní vyhlášení soutěže proběhne v Pardubicích. Nepřítomnost M. Pazourová
URL:https://2zslitomysl.cz/kalendar/slavnostni-vyhlaseni-vysledku-souteze-hledame-nejlepsiho-mladeho-chemika/
CATEGORIES:Nepřítomnost
END:VEVENT
BEGIN:VEVENT
DTSTART;TZID=Europe/Prague:20260326T080000
DTEND;TZID=Europe/Prague:20260326T150000
DTSTAMP:20260426T022800
CREATED:20251107T103730Z
LAST-MODIFIED:20251107T103730Z
UID:43013-1774512000-1774537200@2zslitomysl.cz
SUMMARY:Školení-Míková
DESCRIPTION:
URL:https://2zslitomysl.cz/kalendar/skoleni-mikova-3/
CATEGORIES:Nepřítomnost
END:VEVENT
END:VCALENDAR