BEGIN:VCALENDAR
VERSION:2.0
PRODID:-//2. Základní škola Litomyšl, U Školek - ECPv6.2.0//NONSGML v1.0//EN
CALSCALE:GREGORIAN
METHOD:PUBLISH
X-WR-CALNAME:2. Základní škola Litomyšl, U Školek
X-ORIGINAL-URL:https://2zslitomysl.cz
X-WR-CALDESC:Akce na 2. Základní škola Litomyšl, U Školek
REFRESH-INTERVAL;VALUE=DURATION:PT1H
X-Robots-Tag:noindex
X-PUBLISHED-TTL:PT1H
BEGIN:VTIMEZONE
TZID:Europe/Prague
BEGIN:DAYLIGHT
TZOFFSETFROM:+0100
TZOFFSETTO:+0200
TZNAME:CEST
DTSTART:20260329T010000
END:DAYLIGHT
BEGIN:STANDARD
TZOFFSETFROM:+0200
TZOFFSETTO:+0100
TZNAME:CET
DTSTART:20261025T010000
END:STANDARD
END:VTIMEZONE
BEGIN:VEVENT
DTSTART;VALUE=DATE:20260316
DTEND;VALUE=DATE:20260318
DTSTAMP:20260426T013853
CREATED:20260305T155214Z
LAST-MODIFIED:20260305T160031Z
UID:46790-1773619200-1773791999@2zslitomysl.cz
SUMMARY:Cesty kariérového poradenství
DESCRIPTION:školení – A.Hanušová
URL:https://2zslitomysl.cz/kalendar/cesty-karieroveho-poradenstvi/
CATEGORIES:Nepřítomnost,Ostatní
END:VEVENT
BEGIN:VEVENT
DTSTART;TZID=Europe/Prague:20260320T060000
DTEND;TZID=Europe/Prague:20260320T170000
DTSTAMP:20260426T013853
CREATED:20260312T094715Z
LAST-MODIFIED:20260312T094731Z
UID:46953-1773986400-1774026000@2zslitomysl.cz
SUMMARY:Prezentiáda
DESCRIPTION:Krajské kolo Prezentiády. Pardubice tým L.E.H.CE ZA HRANOU \nDoprovod: J. Coufal
URL:https://2zslitomysl.cz/kalendar/prezentiada/
CATEGORIES:Nepřítomnost,Ostatní
END:VEVENT
BEGIN:VEVENT
DTSTART;TZID=Europe/Prague:20260325T140000
DTEND;TZID=Europe/Prague:20260325T160000
DTSTAMP:20260426T013853
CREATED:20260220T134212Z
LAST-MODIFIED:20260319T123301Z
UID:46493-1774447200-1774454400@2zslitomysl.cz
SUMMARY:Slavnostní vyhlášení výsledků soutěže Hledáme nejlepšího mladého chemika
DESCRIPTION:Slavnostní vyhlášení soutěže proběhne v Pardubicích. Nepřítomnost M. Pazourová
URL:https://2zslitomysl.cz/kalendar/slavnostni-vyhlaseni-vysledku-souteze-hledame-nejlepsiho-mladeho-chemika/
CATEGORIES:Nepřítomnost
END:VEVENT
BEGIN:VEVENT
DTSTART;TZID=Europe/Prague:20260326T080000
DTEND;TZID=Europe/Prague:20260326T150000
DTSTAMP:20260426T013853
CREATED:20251107T103730Z
LAST-MODIFIED:20251107T103730Z
UID:43013-1774512000-1774537200@2zslitomysl.cz
SUMMARY:Školení-Míková
DESCRIPTION:
URL:https://2zslitomysl.cz/kalendar/skoleni-mikova-3/
CATEGORIES:Nepřítomnost
END:VEVENT
BEGIN:VEVENT
DTSTART;TZID=Europe/Prague:20260330T080000
DTEND;TZID=Europe/Prague:20260330T080000
DTSTAMP:20260426T013853
CREATED:20250828T075650Z
LAST-MODIFIED:20250828T080449Z
UID:40731-1774857600-1774857600@2zslitomysl.cz
SUMMARY:Školení - Beníšková D.\, Bartošová I
DESCRIPTION:Skupinová dynamika a práce se skupinou – Mgr. J. Halda
URL:https://2zslitomysl.cz/kalendar/skoleni-beniskova-d-bartosova-i/
CATEGORIES:Nepřítomnost
END:VEVENT
BEGIN:VEVENT
DTSTART;TZID=Europe/Prague:20260330T080000
DTEND;TZID=Europe/Prague:20260330T140000
DTSTAMP:20260426T013853
CREATED:20250626T105209Z
LAST-MODIFIED:20250626T105209Z
UID:39823-1774857600-1774879200@2zslitomysl.cz
SUMMARY:Seminář - I. Krejbychová
DESCRIPTION:Mgr. Jiří Halda – Skupinová dynamika a práce se skupinou
URL:https://2zslitomysl.cz/kalendar/seminar-i-krejbychova/
CATEGORIES:Nepřítomnost
END:VEVENT
BEGIN:VEVENT
DTSTART;TZID=Europe/Prague:20260423T090000
DTEND;TZID=Europe/Prague:20260423T140000
DTSTAMP:20260426T013853
CREATED:20251107T103801Z
LAST-MODIFIED:20260422T060836Z
UID:43016-1776934800-1776952800@2zslitomysl.cz
SUMMARY:Školení- Míková
DESCRIPTION:
URL:https://2zslitomysl.cz/kalendar/skoleni-mikova-4/
CATEGORIES:Nepřítomnost
END:VEVENT
BEGIN:VEVENT
DTSTART;TZID=Europe/Prague:20260427T083000
DTEND;TZID=Europe/Prague:20260427T123000
DTSTAMP:20260426T013853
CREATED:20260411T073759Z
LAST-MODIFIED:20260411T074117Z
UID:47566-1777278600-1777293000@2zslitomysl.cz
SUMMARY:ŠMouLa
DESCRIPTION:šifrovací\, matematická a logická soutěž pro 2. stupeň základní školy. Účast tří čelné týmy z druhého stupně. \nčas konání 9:00 – 12:00. Zablokována počítačová učebna. Organizuje a zajišťuje Jan Coufal
URL:https://2zslitomysl.cz/kalendar/smoula/
CATEGORIES:2. Stupeň,Nepřítomnost,Ostatní,Soutěž
END:VEVENT
BEGIN:VEVENT
DTSTART;TZID=Europe/Prague:20260530T080000
DTEND;TZID=Europe/Prague:20260530T170000
DTSTAMP:20260426T013853
CREATED:20260411T074033Z
LAST-MODIFIED:20260411T074033Z
UID:47569-1780128000-1780160400@2zslitomysl.cz
SUMMARY:Mensa minikonfernce
DESCRIPTION:účast na minikonferenci Mensa Prostějov- Účast Jan Kratochvíl\, Matěj Křoustek. Doprovod Jan Coufal
URL:https://2zslitomysl.cz/kalendar/mensa-minikonfernce/
CATEGORIES:Nepřítomnost,Ostatní
END:VEVENT
BEGIN:VEVENT
DTSTART;TZID=Europe/Prague:20261012T080000
DTEND;TZID=Europe/Prague:20261012T140000
DTSTAMP:20260426T013853
CREATED:20250828T080237Z
LAST-MODIFIED:20250828T080522Z
UID:40733-1791792000-1791813600@2zslitomysl.cz
SUMMARY:Školení - Beníšková D.\, Bartošová I
DESCRIPTION:Role třídního učitele – Mgr. J. Halda
URL:https://2zslitomysl.cz/kalendar/skoleni-beniskova-d-bartosova-i-2/
CATEGORIES:Nepřítomnost
END:VEVENT
BEGIN:VEVENT
DTSTART;TZID=Europe/Prague:20261012T080000
DTEND;TZID=Europe/Prague:20261012T140000
DTSTAMP:20260426T013853
CREATED:20250918T114329Z
LAST-MODIFIED:20250918T114329Z
UID:41510-1791792000-1791813600@2zslitomysl.cz
SUMMARY:Školení Stejskalová\, Řeháková
DESCRIPTION:Školení – Stejskalová\, Řeháková
URL:https://2zslitomysl.cz/kalendar/skoleni-stejskalova-rehakova-2/
CATEGORIES:Nepřítomnost
END:VEVENT
END:VCALENDAR