BEGIN:VCALENDAR
VERSION:2.0
PRODID:-//2. Základní škola Litomyšl, U Školek - ECPv6.2.0//NONSGML v1.0//EN
CALSCALE:GREGORIAN
METHOD:PUBLISH
X-ORIGINAL-URL:https://2zslitomysl.cz
X-WR-CALDESC:Akce na 2. Základní škola Litomyšl, U Školek
REFRESH-INTERVAL;VALUE=DURATION:PT1H
X-Robots-Tag:noindex
X-PUBLISHED-TTL:PT1H
BEGIN:VTIMEZONE
TZID:Europe/Prague
BEGIN:DAYLIGHT
TZOFFSETFROM:+0100
TZOFFSETTO:+0200
TZNAME:CEST
DTSTART:20260329T010000
END:DAYLIGHT
BEGIN:STANDARD
TZOFFSETFROM:+0200
TZOFFSETTO:+0100
TZNAME:CET
DTSTART:20261025T010000
END:STANDARD
END:VTIMEZONE
BEGIN:VEVENT
DTSTART;TZID=Europe/Prague:20260323T080000
DTEND;TZID=Europe/Prague:20260323T120000
DTSTAMP:20260426T062542
CREATED:20260312T062522Z
LAST-MODIFIED:20260312T062602Z
UID:46950-1774252800-1774267200@2zslitomysl.cz
SUMMARY:No backpack day
DESCRIPTION:Tematický den – organizuje školní parlament \nped. dohled: A. Hanušová a I. Holomková
URL:https://2zslitomysl.cz/kalendar/no-backpack-day/
CATEGORIES:Akce školy
END:VEVENT
BEGIN:VEVENT
DTSTART;VALUE=DATE:20260327
DTEND;VALUE=DATE:20260328
DTSTAMP:20260426T062542
CREATED:20250820T070213Z
LAST-MODIFIED:20260324T142618Z
UID:40665-1774569600-1774655999@2zslitomysl.cz
SUMMARY:Ukliďme Česko - ZRUŠENO
DESCRIPTION:akce bude přesunuta na jiný termín
URL:https://2zslitomysl.cz/kalendar/uklidme-cesko/
CATEGORIES:Akce školy
END:VEVENT
END:VCALENDAR