BEGIN:VCALENDAR
VERSION:2.0
PRODID:-//2. Základní škola Litomyšl, U Školek - ECPv6.2.0//NONSGML v1.0//EN
CALSCALE:GREGORIAN
METHOD:PUBLISH
X-WR-CALNAME:2. Základní škola Litomyšl, U Školek
X-ORIGINAL-URL:https://2zslitomysl.cz
X-WR-CALDESC:Akce na 2. Základní škola Litomyšl, U Školek
REFRESH-INTERVAL;VALUE=DURATION:PT1H
X-Robots-Tag:noindex
X-PUBLISHED-TTL:PT1H
BEGIN:VTIMEZONE
TZID:Europe/Prague
BEGIN:DAYLIGHT
TZOFFSETFROM:+0100
TZOFFSETTO:+0200
TZNAME:CEST
DTSTART:20260329T010000
END:DAYLIGHT
BEGIN:STANDARD
TZOFFSETFROM:+0200
TZOFFSETTO:+0100
TZNAME:CET
DTSTART:20261025T010000
END:STANDARD
END:VTIMEZONE
BEGIN:VEVENT
DTSTART;TZID=Europe/Prague:20260313T083000
DTEND;TZID=Europe/Prague:20260313T110000
DTSTAMP:20260426T031050
CREATED:20260305T090602Z
LAST-MODIFIED:20260305T090602Z
UID:46780-1773390600-1773399600@2zslitomysl.cz
SUMMARY:KABINET ŠD
DESCRIPTION:-ZŠ Osík \n-paní vychovatelky P. Jasanská\, R. Kulichová \, S. Špinková
URL:https://2zslitomysl.cz/kalendar/kabinet-sd/
CATEGORIES:Akce školní družiny
END:VEVENT
BEGIN:VEVENT
DTSTART;TZID=Europe/Prague:20260317T130000
DTEND;TZID=Europe/Prague:20260317T143000
DTSTAMP:20260426T031050
CREATED:20260219T083359Z
LAST-MODIFIED:20260219T083359Z
UID:46471-1773752400-1773757800@2zslitomysl.cz
SUMMARY:KARNEVAL
DESCRIPTION:-tanec\, hry\, soutěže\, malování na obličej \n-všechna oddělení ŠD
URL:https://2zslitomysl.cz/kalendar/karneval-2/
LOCATION:Litomyšl
CATEGORIES:Akce školní družiny
END:VEVENT
BEGIN:VEVENT
DTSTART;TZID=Europe/Prague:20260324T130000
DTEND;TZID=Europe/Prague:20260324T151500
DTSTAMP:20260426T031050
CREATED:20260316T071355Z
LAST-MODIFIED:20260316T071355Z
UID:46967-1774357200-1774365300@2zslitomysl.cz
SUMMARY:JARNÍ TVOŘENÍ
DESCRIPTION:-Regionální muzeum v Litomyšli \n5. oddělení ŠD \n40 Kč
URL:https://2zslitomysl.cz/kalendar/jarni-tvoreni/
LOCATION:Regionální muzeum v Litomyšli
CATEGORIES:Akce školní družiny
END:VEVENT
BEGIN:VEVENT
DTSTART;TZID=Europe/Prague:20260325T130000
DTEND;TZID=Europe/Prague:20260325T150000
DTSTAMP:20260426T031050
CREATED:20260316T072032Z
LAST-MODIFIED:20260316T072032Z
UID:46973-1774443600-1774450800@2zslitomysl.cz
SUMMARY:Velikonoční koledování
DESCRIPTION:-výtvarná dílna\, divadlo\, hry \nVOŠP a SPgŠ Litomyšl \n2. a 3. oddělení ŠD
URL:https://2zslitomysl.cz/kalendar/velikonocni-koledovani/
LOCATION:Litomyšl
CATEGORIES:Akce školní družiny
END:VEVENT
BEGIN:VEVENT
DTSTART;TZID=Europe/Prague:20260325T130000
DTEND;TZID=Europe/Prague:20260325T151500
DTSTAMP:20260426T031050
CREATED:20260316T071538Z
LAST-MODIFIED:20260316T075212Z
UID:46970-1774443600-1774451700@2zslitomysl.cz
SUMMARY:JARNÍ TVOŘENÍ
DESCRIPTION:-Regionální muzeum v Litomyšli \n4. oddělení ŠD \n40 Kč
URL:https://2zslitomysl.cz/kalendar/jarni-tvoreni-2/
LOCATION:Regionální muzeum v Litomyšli
CATEGORIES:Akce školní družiny
END:VEVENT
END:VCALENDAR