BEGIN:VCALENDAR
VERSION:2.0
PRODID:-//2. Základní škola Litomyšl, U Školek - ECPv6.2.0//NONSGML v1.0//EN
CALSCALE:GREGORIAN
METHOD:PUBLISH
X-WR-CALNAME:2. Základní škola Litomyšl, U Školek
X-ORIGINAL-URL:https://2zslitomysl.cz
X-WR-CALDESC:Akce na 2. Základní škola Litomyšl, U Školek
REFRESH-INTERVAL;VALUE=DURATION:PT1H
X-Robots-Tag:noindex
X-PUBLISHED-TTL:PT1H
BEGIN:VTIMEZONE
TZID:Europe/Prague
BEGIN:DAYLIGHT
TZOFFSETFROM:+0100
TZOFFSETTO:+0200
TZNAME:CEST
DTSTART:20260329T010000
END:DAYLIGHT
BEGIN:STANDARD
TZOFFSETFROM:+0200
TZOFFSETTO:+0100
TZNAME:CET
DTSTART:20261025T010000
END:STANDARD
END:VTIMEZONE
BEGIN:VEVENT
DTSTART;VALUE=DATE:20260324
DTEND;VALUE=DATE:20260325
DTSTAMP:20260426T022516
CREATED:20260220T133848Z
LAST-MODIFIED:20260319T123350Z
UID:46490-1774310400-1774396799@2zslitomysl.cz
SUMMARY:Demonstrační laboratoř Fakulty chemicko-technologické Univerzity Pardubice
DESCRIPTION:Návštěvy chemické laboratoře se zúčastní vybraní žáci osmých a devátých tříd. Doprovod M. Pazourová a R. Kubů
URL:https://2zslitomysl.cz/kalendar/demonstracni-laborator-fakulty-chemicko-technologicke-univerzity-pardubice-4/
CATEGORIES:8.A,8.B,9.A,9.B
END:VEVENT
BEGIN:VEVENT
DTSTART;TZID=Europe/Prague:20260325T170000
DTEND;TZID=Europe/Prague:20260326T070000
DTSTAMP:20260426T022516
CREATED:20260322T193653Z
LAST-MODIFIED:20260322T193653Z
UID:47105-1774458000-1774508400@2zslitomysl.cz
SUMMARY:Přespání ve škole 8.B
DESCRIPTION:Bowling od 17:00 hod ve Sportcentru Litomyšl a poté přespání ve škole.\nKdo jde na bowling – sraz u školy v 16:30.\nPro ostatní přespávající – sraz u školy v 18:45.
URL:https://2zslitomysl.cz/kalendar/prespani-ve-skole-8-b/
CATEGORIES:8.B
END:VEVENT
END:VCALENDAR