BEGIN:VCALENDAR
VERSION:2.0
PRODID:-//2. Základní škola Litomyšl, U Školek - ECPv6.2.0//NONSGML v1.0//EN
CALSCALE:GREGORIAN
METHOD:PUBLISH
X-WR-CALNAME:2. Základní škola Litomyšl, U Školek
X-ORIGINAL-URL:https://2zslitomysl.cz
X-WR-CALDESC:Akce na 2. Základní škola Litomyšl, U Školek
REFRESH-INTERVAL;VALUE=DURATION:PT1H
X-Robots-Tag:noindex
X-PUBLISHED-TTL:PT1H
BEGIN:VTIMEZONE
TZID:Europe/Prague
BEGIN:DAYLIGHT
TZOFFSETFROM:+0100
TZOFFSETTO:+0200
TZNAME:CEST
DTSTART:20260329T010000
END:DAYLIGHT
BEGIN:STANDARD
TZOFFSETFROM:+0200
TZOFFSETTO:+0100
TZNAME:CET
DTSTART:20261025T010000
END:STANDARD
END:VTIMEZONE
BEGIN:VEVENT
DTSTART;TZID=Europe/Prague:20260306T080000
DTEND;TZID=Europe/Prague:20260306T100000
DTSTAMP:20260426T054309
CREATED:20250902T150714Z
LAST-MODIFIED:20251119T201010Z
UID:40991-1772784000-1772791200@2zslitomysl.cz
SUMMARY:Chlast je droga- Petr Harazin\, 7.-9.ročníky
DESCRIPTION:Vybíráme 70\,- Kč  na žáka.
URL:https://2zslitomysl.cz/kalendar/chlast-je-droga-petr-harazin-7-9-rocniky/
CATEGORIES:7.A,7.B,8.A,8.B,9.A,9.B
END:VEVENT
END:VCALENDAR