BEGIN:VCALENDAR
VERSION:2.0
PRODID:-//2. Základní škola Litomyšl, U Školek - ECPv6.2.0//NONSGML v1.0//EN
CALSCALE:GREGORIAN
METHOD:PUBLISH
X-WR-CALNAME:2. Základní škola Litomyšl, U Školek
X-ORIGINAL-URL:https://2zslitomysl.cz
X-WR-CALDESC:Akce na 2. Základní škola Litomyšl, U Školek
REFRESH-INTERVAL;VALUE=DURATION:PT1H
X-Robots-Tag:noindex
X-PUBLISHED-TTL:PT1H
BEGIN:VTIMEZONE
TZID:Europe/Prague
BEGIN:DAYLIGHT
TZOFFSETFROM:+0100
TZOFFSETTO:+0200
TZNAME:CEST
DTSTART:20250330T010000
END:DAYLIGHT
BEGIN:STANDARD
TZOFFSETFROM:+0200
TZOFFSETTO:+0100
TZNAME:CET
DTSTART:20251026T010000
END:STANDARD
BEGIN:DAYLIGHT
TZOFFSETFROM:+0100
TZOFFSETTO:+0200
TZNAME:CEST
DTSTART:20260329T010000
END:DAYLIGHT
BEGIN:STANDARD
TZOFFSETFROM:+0200
TZOFFSETTO:+0100
TZNAME:CET
DTSTART:20261025T010000
END:STANDARD
END:VTIMEZONE
BEGIN:VEVENT
DTSTART;TZID=Europe/Prague:20260324T080000
DTEND;TZID=Europe/Prague:20260324T160000
DTSTAMP:20260426T015930
CREATED:20260302T114834Z
LAST-MODIFIED:20260302T114834Z
UID:46757-1774339200-1774368000@2zslitomysl.cz
SUMMARY:Divadlo Drak+workshop
DESCRIPTION:Divadelní představení s reflektivním workshopem \n  \nA. Komárková
URL:https://2zslitomysl.cz/kalendar/divadlo-drakworkshop/
CATEGORIES:5.A
END:VEVENT
BEGIN:VEVENT
DTSTART;TZID=Europe/Prague:20260320T080000
DTEND;TZID=Europe/Prague:20260320T093000
DTSTAMP:20260426T015930
CREATED:20260310T203228Z
LAST-MODIFIED:20260310T203228Z
UID:46943-1773993600-1773999000@2zslitomysl.cz
SUMMARY:Matematický klokan - školní kolo
DESCRIPTION:
URL:https://2zslitomysl.cz/kalendar/matematicky-klokan-skolni-kolo/
CATEGORIES:2.A,2.B,3.A,3.B,4.A,4.B,5.A,5.B,6.A,6.B,7.A,7.B,8.A,8.B,9.A,9.B
END:VEVENT
BEGIN:VEVENT
DTSTART;TZID=Europe/Prague:20260313T080000
DTEND;TZID=Europe/Prague:20260313T120000
DTSTAMP:20260426T015930
CREATED:20260225T135920Z
LAST-MODIFIED:20260225T135920Z
UID:46560-1773388800-1773403200@2zslitomysl.cz
SUMMARY:Vybíjená 4. - 5. tříd
DESCRIPTION:
URL:https://2zslitomysl.cz/kalendar/vybijena-4-5-trid/
CATEGORIES:4.A,4.B,5.A,5.B
END:VEVENT
BEGIN:VEVENT
DTSTART;TZID=Europe/Prague:20260227T100000
DTEND;TZID=Europe/Prague:20260227T113000
DTSTAMP:20260426T015930
CREATED:20260223T095916Z
LAST-MODIFIED:20260223T095916Z
UID:46526-1772186400-1772191800@2zslitomysl.cz
SUMMARY:Olbram Zoubek - workshop
DESCRIPTION:
URL:https://2zslitomysl.cz/kalendar/olbram-zoubek-workshop/
CATEGORIES:5.A
END:VEVENT
BEGIN:VEVENT
DTSTART;TZID=Europe/Prague:20260226T080000
DTEND;TZID=Europe/Prague:20260226T130000
DTSTAMP:20260426T015930
CREATED:20260212T103046Z
LAST-MODIFIED:20260212T103046Z
UID:46279-1772092800-1772110800@2zslitomysl.cz
SUMMARY:Florbal žáků 4. -5. tříd
DESCRIPTION:Akce se koná v Dolním Újezdu. Doprovod E. Stříteská.
URL:https://2zslitomysl.cz/kalendar/florbal-zaku-4-5-trid-2/
CATEGORIES:4.A,4.B,5.A,5.B
END:VEVENT
BEGIN:VEVENT
DTSTART;TZID=Europe/Prague:20260219T080000
DTEND;TZID=Europe/Prague:20260219T094000
DTSTAMP:20260426T015930
CREATED:20250916T082218Z
LAST-MODIFIED:20250916T082218Z
UID:41386-1771488000-1771494000@2zslitomysl.cz
SUMMARY:Říkat ano\, říkat ne. Acet 5.A
DESCRIPTION:
URL:https://2zslitomysl.cz/kalendar/rikat-ano-rikat-ne-acet-5-a/
CATEGORIES:5.A
END:VEVENT
BEGIN:VEVENT
DTSTART;TZID=Europe/Prague:20260108T090000
DTEND;TZID=Europe/Prague:20260108T110000
DTSTAMP:20260426T015930
CREATED:20251202T130223Z
LAST-MODIFIED:20251202T130223Z
UID:44014-1767862800-1767870000@2zslitomysl.cz
SUMMARY:Bruslení - 5.A\, 5.B
DESCRIPTION:Doprovod: J. Paclík\, V. Severová\, J. Grunerová \nCena: 30 Kč/žák
URL:https://2zslitomysl.cz/kalendar/brusleni-5-a-5-b/
LOCATION:Zimní stadion\, Litomyšl
CATEGORIES:5.A,5.B
END:VEVENT
BEGIN:VEVENT
DTSTART;VALUE=DATE:20251216
DTEND;VALUE=DATE:20251217
DTSTAMP:20260426T015930
CREATED:20250902T100639Z
LAST-MODIFIED:20250902T101319Z
UID:40970-1765843200-1765929599@2zslitomysl.cz
SUMMARY:Planetárium Praha - 5.A\, 5.B
DESCRIPTION:Doprovod: A. Komárková Drahošová\, V. Severová\, J. Grunerová
URL:https://2zslitomysl.cz/kalendar/planetarium-praha-5-a-5-b/
LOCATION:Planetárium Praha
CATEGORIES:5.A,5.B
END:VEVENT
BEGIN:VEVENT
DTSTART;TZID=Europe/Prague:20251204T100000
DTEND;TZID=Europe/Prague:20251204T104500
DTSTAMP:20260426T015930
CREATED:20251128T135222Z
LAST-MODIFIED:20251201T140617Z
UID:43798-1764842400-1764845100@2zslitomysl.cz
SUMMARY:Šmrnc - divadelní vystoupení
DESCRIPTION:Šmrnc – Divadelní vystoupení   #SPRAVEDLNOST pro žáky 3.\, 4. a 5. tříd. \nPed. dohled: V. Řeháková\, I. Holomková
URL:https://2zslitomysl.cz/kalendar/smrnc-divadelni-vystoupeni/
CATEGORIES:4.A,4.B,5.A,5.B,Ostatní
END:VEVENT
BEGIN:VEVENT
DTSTART;TZID=Europe/Prague:20251126T080000
DTEND;TZID=Europe/Prague:20251126T130000
DTSTAMP:20260426T015930
CREATED:20250902T122232Z
LAST-MODIFIED:20250902T122232Z
UID:40985-1764144000-1764162000@2zslitomysl.cz
SUMMARY:Vybíjená dívky 4. - 5. ročník
DESCRIPTION:Zabukovaná tělocvična na turnaj ve vybíjené
URL:https://2zslitomysl.cz/kalendar/vybijena-divky-4-5-rocnik-2/
CATEGORIES:4.A,4.B,5.A,5.B
END:VEVENT
BEGIN:VEVENT
DTSTART;TZID=Europe/Prague:20251105T110000
DTEND;TZID=Europe/Prague:20251105T120000
DTSTAMP:20260426T015930
CREATED:20250917T130952Z
LAST-MODIFIED:20250917T130952Z
UID:41480-1762340400-1762344000@2zslitomysl.cz
SUMMARY:Beseda v MěK - Ivana Peroutková 5.A
DESCRIPTION:
URL:https://2zslitomysl.cz/kalendar/beseda-v-mek-ivana-peroutkova-5-a/
CATEGORIES:5.A
END:VEVENT
BEGIN:VEVENT
DTSTART;TZID=Europe/Prague:20251003T100000
DTEND;TZID=Europe/Prague:20251003T120000
DTSTAMP:20260426T015930
CREATED:20250926T071011Z
LAST-MODIFIED:20250930T085128Z
UID:41822-1759485600-1759492800@2zslitomysl.cz
SUMMARY:Návstěva pedagogické školy-120 let
DESCRIPTION:Tvořivé dílny\, stan kouzel\, prohlídka školy. \n  \ndoprovod: A. Komárková Drahošová\, V. Severová\, J. Grunerová
URL:https://2zslitomysl.cz/kalendar/navsteva-pedagogicke-skoly-120-let/
CATEGORIES:5.A,5.B
END:VEVENT
BEGIN:VEVENT
DTSTART;TZID=Europe/Prague:20250625T080000
DTEND;TZID=Europe/Prague:20250625T100000
DTSTAMP:20260426T015930
CREATED:20250507T092537Z
LAST-MODIFIED:20250619T092954Z
UID:37257-1750838400-1750845600@2zslitomysl.cz
SUMMARY:Taneční akademie Studia ÉRA
DESCRIPTION:Vstupné 40\,- Kč\, začátek 8:15 \, doprovod TU \nPřihlášeny třídy: 1.B\, 5.A\, 5.B\, 7.A\, 7.B\, 8.A\, 8.B\, 9.A
URL:https://2zslitomysl.cz/kalendar/tanecni-akademie-studia-era/
CATEGORIES:1.B,5.A,5.B,7.A,7.B,8.A,8.B,9.A
END:VEVENT
BEGIN:VEVENT
DTSTART;TZID=Europe/Prague:20250623T080000
DTEND;TZID=Europe/Prague:20250623T133000
DTSTAMP:20260426T015930
CREATED:20250616T072439Z
LAST-MODIFIED:20250616T072439Z
UID:39105-1750665600-1750685400@2zslitomysl.cz
SUMMARY:Cyklovýlet 5.A
DESCRIPTION:Cyklovýlet do Cerekvice nad Loučnou \nDohled: Aneta Futerová\, Petra Nešetřilová
URL:https://2zslitomysl.cz/kalendar/cyklovylet-5-a/
CATEGORIES:5.A
END:VEVENT
BEGIN:VEVENT
DTSTART;TZID=Europe/Prague:20250618T180000
DTEND;TZID=Europe/Prague:20250619T080000
DTSTAMP:20260426T015930
CREATED:20250616T055652Z
LAST-MODIFIED:20250616T072145Z
UID:39101-1750269600-1750320000@2zslitomysl.cz
SUMMARY:Přespání ve škole 5.A
DESCRIPTION:Dohled Aneta Futerová\, Petra Nešetřilová
URL:https://2zslitomysl.cz/kalendar/prespani-ve-skole-5-a/
CATEGORIES:5.A
END:VEVENT
BEGIN:VEVENT
DTSTART;TZID=Europe/Prague:20250606T080000
DTEND;TZID=Europe/Prague:20250606T104500
DTSTAMP:20260426T015930
CREATED:20250527T115204Z
LAST-MODIFIED:20250527T115659Z
UID:37744-1749196800-1749206700@2zslitomysl.cz
SUMMARY:Průřezové téma
DESCRIPTION:Přírodověda-Tato Země není jenom pro nás \nZajišťuje : Aneta Futerová
URL:https://2zslitomysl.cz/kalendar/prurezove-tema/
CATEGORIES:5.A
END:VEVENT
BEGIN:VEVENT
DTSTART;TZID=Europe/Prague:20250605T070000
DTEND;TZID=Europe/Prague:20250605T160000
DTSTAMP:20260426T015930
CREATED:20250311T064637Z
LAST-MODIFIED:20250311T065005Z
UID:36023-1749106800-1749139200@2zslitomysl.cz
SUMMARY:Školní výlet Dvůr Králové
DESCRIPTION:
URL:https://2zslitomysl.cz/kalendar/skolni-vylet-dvur-kralove/
CATEGORIES:5.A,5.B
END:VEVENT
BEGIN:VEVENT
DTSTART;TZID=Europe/Prague:20250530T080000
DTEND;TZID=Europe/Prague:20250530T104500
DTSTAMP:20260426T015930
CREATED:20250501T200801Z
LAST-MODIFIED:20250501T200801Z
UID:37136-1748592000-1748601900@2zslitomysl.cz
SUMMARY:průřezové téma 5.A
DESCRIPTION:Cestujeme po Evropě\, K. Jirečková
URL:https://2zslitomysl.cz/kalendar/prurezove-tema-5-a/
CATEGORIES:5.A
END:VEVENT
BEGIN:VEVENT
DTSTART;TZID=Europe/Prague:20250521T105000
DTEND;TZID=Europe/Prague:20250521T113000
DTSTAMP:20260426T015930
CREATED:20250514T112157Z
LAST-MODIFIED:20250514T112157Z
UID:37330-1747824600-1747827000@2zslitomysl.cz
SUMMARY:Program se školním psychologem
DESCRIPTION:
URL:https://2zslitomysl.cz/kalendar/program-se-skolnim-psychologem-24/
CATEGORIES:5.A
END:VEVENT
BEGIN:VEVENT
DTSTART;TZID=Europe/Prague:20250519T113000
DTEND;TZID=Europe/Prague:20250519T130000
DTSTAMP:20260426T015930
CREATED:20250515T135536Z
LAST-MODIFIED:20250515T141602Z
UID:37366-1747654200-1747659600@2zslitomysl.cz
SUMMARY:Návštěva Galerie Miroslava Kubíka
DESCRIPTION:Doprovod : Aneta Futerová\, Petra Nešetřilová
URL:https://2zslitomysl.cz/kalendar/navsteva-galerie-miroslava-kubika/
CATEGORIES:5.A
END:VEVENT
BEGIN:VEVENT
DTSTART;TZID=Europe/Prague:20250505T113000
DTEND;TZID=Europe/Prague:20250505T133000
DTSTAMP:20260426T015930
CREATED:20250425T122407Z
LAST-MODIFIED:20250425T122407Z
UID:36989-1746444600-1746451800@2zslitomysl.cz
SUMMARY:Výtvarná dílna\, workshop
DESCRIPTION:Animace \n20 Kč
URL:https://2zslitomysl.cz/kalendar/vytvarna-dilna-workshop/
CATEGORIES:5.A
END:VEVENT
BEGIN:VEVENT
DTSTART;TZID=Europe/Prague:20250505T083000
DTEND;TZID=Europe/Prague:20250505T123000
DTSTAMP:20260426T015930
CREATED:20250429T144732Z
LAST-MODIFIED:20250429T144844Z
UID:37031-1746433800-1746448200@2zslitomysl.cz
SUMMARY:Regionální kolo soutěže v poznávání rostlin\, živočichů a minerálů
DESCRIPTION:Vybraní žáci z 4. a 5. třídy se zúčastní soutěže konané v České Třebové.
URL:https://2zslitomysl.cz/kalendar/regionalni-kolo-souteze-v-poznavani-rostlin-zivocichu-a-mineralu-2/
CATEGORIES:4.A,4.B,5.A,5.B
END:VEVENT
BEGIN:VEVENT
DTSTART;TZID=Europe/Prague:20250428T080000
DTEND;TZID=Europe/Prague:20250428T140000
DTSTAMP:20260426T015930
CREATED:20250414T115848Z
LAST-MODIFIED:20250414T115848Z
UID:36659-1745827200-1745848800@2zslitomysl.cz
SUMMARY:McDonald’s Cup žáků 4. - 5. tříd (okresní kolo ve fotbalu)
DESCRIPTION:Akce se koná ve Svitavách. Doprovod J. Paclík
URL:https://2zslitomysl.cz/kalendar/mcdonalds-cup-zaku-4-5-trid-okresni-kolo-ve-fotbalu/
CATEGORIES:4.A,5.A,5.B
END:VEVENT
END:VCALENDAR