BEGIN:VCALENDAR
VERSION:2.0
PRODID:-//2. Základní škola Litomyšl, U Školek - ECPv6.2.0//NONSGML v1.0//EN
CALSCALE:GREGORIAN
METHOD:PUBLISH
X-ORIGINAL-URL:https://2zslitomysl.cz
X-WR-CALDESC:Akce na 2. Základní škola Litomyšl, U Školek
REFRESH-INTERVAL;VALUE=DURATION:PT1H
X-Robots-Tag:noindex
X-PUBLISHED-TTL:PT1H
BEGIN:VTIMEZONE
TZID:Europe/Prague
BEGIN:DAYLIGHT
TZOFFSETFROM:+0100
TZOFFSETTO:+0200
TZNAME:CEST
DTSTART:20260329T010000
END:DAYLIGHT
BEGIN:STANDARD
TZOFFSETFROM:+0200
TZOFFSETTO:+0100
TZNAME:CET
DTSTART:20261025T010000
END:STANDARD
END:VTIMEZONE
BEGIN:VEVENT
DTSTART;TZID=Europe/Prague:20260313T080000
DTEND;TZID=Europe/Prague:20260313T120000
DTSTAMP:20260426T011207
CREATED:20260225T135920Z
LAST-MODIFIED:20260225T135920Z
UID:46560-1773388800-1773403200@2zslitomysl.cz
SUMMARY:Vybíjená 4. - 5. tříd
DESCRIPTION:
URL:https://2zslitomysl.cz/kalendar/vybijena-4-5-trid/
CATEGORIES:4.A,4.B,5.A,5.B
END:VEVENT
END:VCALENDAR