BEGIN:VCALENDAR
VERSION:2.0
PRODID:-//2. Základní škola Litomyšl, U Školek - ECPv6.2.0//NONSGML v1.0//EN
CALSCALE:GREGORIAN
METHOD:PUBLISH
X-WR-CALNAME:2. Základní škola Litomyšl, U Školek
X-ORIGINAL-URL:https://2zslitomysl.cz
X-WR-CALDESC:Akce na 2. Základní škola Litomyšl, U Školek
REFRESH-INTERVAL;VALUE=DURATION:PT1H
X-Robots-Tag:noindex
X-PUBLISHED-TTL:PT1H
BEGIN:VTIMEZONE
TZID:Europe/Prague
BEGIN:DAYLIGHT
TZOFFSETFROM:+0100
TZOFFSETTO:+0200
TZNAME:CEST
DTSTART:20250330T010000
END:DAYLIGHT
BEGIN:STANDARD
TZOFFSETFROM:+0200
TZOFFSETTO:+0100
TZNAME:CET
DTSTART:20251026T010000
END:STANDARD
BEGIN:DAYLIGHT
TZOFFSETFROM:+0100
TZOFFSETTO:+0200
TZNAME:CEST
DTSTART:20260329T010000
END:DAYLIGHT
BEGIN:STANDARD
TZOFFSETFROM:+0200
TZOFFSETTO:+0100
TZNAME:CET
DTSTART:20261025T010000
END:STANDARD
END:VTIMEZONE
BEGIN:VEVENT
DTSTART;TZID=Europe/Prague:20260422T100000
DTEND;TZID=Europe/Prague:20260422T113500
DTSTAMP:20260426T061154
CREATED:20260130T163840Z
LAST-MODIFIED:20260130T163840Z
UID:45902-1776852000-1776857700@2zslitomysl.cz
SUMMARY:Plavání
DESCRIPTION:Plavecká výuka je povinná. \nMěstský bazén Litomyšl
URL:https://2zslitomysl.cz/kalendar/plavani-2/2026-04-22/
CATEGORIES:4.A,4.B
END:VEVENT
BEGIN:VEVENT
DTSTART;TZID=Europe/Prague:20260421T080000
DTEND;TZID=Europe/Prague:20260421T140000
DTSTAMP:20260426T061154
CREATED:20260417T111826Z
LAST-MODIFIED:20260417T111826Z
UID:47762-1776758400-1776780000@2zslitomysl.cz
SUMMARY:Minifotbal žáků 4. -5. tříd (McDonalds Cup)
DESCRIPTION:Akce se koná ve Svitavách. Doprovod J. Paclík.
URL:https://2zslitomysl.cz/kalendar/minifotbal-zaku-4-5-trid-mcdonalds-cup/
CATEGORIES:4.A,4.B,5.A
END:VEVENT
BEGIN:VEVENT
DTSTART;TZID=Europe/Prague:20260417T080000
DTEND;TZID=Europe/Prague:20260417T130000
DTSTAMP:20260426T061154
CREATED:20260408T124518Z
LAST-MODIFIED:20260408T124518Z
UID:47496-1776412800-1776430800@2zslitomysl.cz
SUMMARY:Fotbal žáků 4.- 5. tříd (McDonalds cup)
DESCRIPTION:Akce se koná na fotbalovém stadionu v Litomyšli.
URL:https://2zslitomysl.cz/kalendar/fotbal-zaku-4-5-trid-mcdonalds-cup/
CATEGORIES:4.A,4.B,5.A,5.B
END:VEVENT
BEGIN:VEVENT
DTSTART;TZID=Europe/Prague:20260415T100000
DTEND;TZID=Europe/Prague:20260415T113500
DTSTAMP:20260426T061154
CREATED:20260130T163840Z
LAST-MODIFIED:20260130T163840Z
UID:45901-1776247200-1776252900@2zslitomysl.cz
SUMMARY:Plavání
DESCRIPTION:Plavecká výuka je povinná. \nMěstský bazén Litomyšl
URL:https://2zslitomysl.cz/kalendar/plavani-2/2026-04-15/
CATEGORIES:4.A,4.B
END:VEVENT
BEGIN:VEVENT
DTSTART;TZID=Europe/Prague:20260410T075500
DTEND;TZID=Europe/Prague:20260410T095000
DTSTAMP:20260426T061154
CREATED:20260316T142442Z
LAST-MODIFIED:20260324T153743Z
UID:47000-1775807700-1775814600@2zslitomysl.cz
SUMMARY:Taneční chvění - vystoupení ZUŠ
DESCRIPTION:Přihlášené třídy 4.B\, 5.A a 8.A\, vstupné 50\,- Kč\, doprovod třídní učitelé\, začátek představení v 8:15\, odchod cca v 7:55  hodin od školy
URL:https://2zslitomysl.cz/kalendar/tanecni-chveni-vystoupeni-zus/
CATEGORIES:4.B,5.A,8.A
END:VEVENT
BEGIN:VEVENT
DTSTART;TZID=Europe/Prague:20260408T100000
DTEND;TZID=Europe/Prague:20260408T113500
DTSTAMP:20260426T061154
CREATED:20260130T163840Z
LAST-MODIFIED:20260130T163840Z
UID:45900-1775642400-1775648100@2zslitomysl.cz
SUMMARY:Plavání
DESCRIPTION:Plavecká výuka je povinná. \nMěstský bazén Litomyšl
URL:https://2zslitomysl.cz/kalendar/plavani-2/2026-04-08/
CATEGORIES:4.A,4.B
END:VEVENT
BEGIN:VEVENT
DTSTART;TZID=Europe/Prague:20260401T100000
DTEND;TZID=Europe/Prague:20260401T113500
DTSTAMP:20260426T061154
CREATED:20260130T163840Z
LAST-MODIFIED:20260130T163840Z
UID:45899-1775037600-1775043300@2zslitomysl.cz
SUMMARY:Plavání
DESCRIPTION:Plavecká výuka je povinná. \nMěstský bazén Litomyšl
URL:https://2zslitomysl.cz/kalendar/plavani-2/2026-04-01/
CATEGORIES:4.A,4.B
END:VEVENT
BEGIN:VEVENT
DTSTART;TZID=Europe/Prague:20260325T100000
DTEND;TZID=Europe/Prague:20260325T113500
DTSTAMP:20260426T061154
CREATED:20260130T163840Z
LAST-MODIFIED:20260130T163840Z
UID:45898-1774432800-1774438500@2zslitomysl.cz
SUMMARY:Plavání
DESCRIPTION:Plavecká výuka je povinná. \nMěstský bazén Litomyšl
URL:https://2zslitomysl.cz/kalendar/plavani-2/2026-03-25/
CATEGORIES:4.A,4.B
END:VEVENT
BEGIN:VEVENT
DTSTART;TZID=Europe/Prague:20260320T080000
DTEND;TZID=Europe/Prague:20260320T093000
DTSTAMP:20260426T061154
CREATED:20260310T203228Z
LAST-MODIFIED:20260310T203228Z
UID:46943-1773993600-1773999000@2zslitomysl.cz
SUMMARY:Matematický klokan - školní kolo
DESCRIPTION:
URL:https://2zslitomysl.cz/kalendar/matematicky-klokan-skolni-kolo/
CATEGORIES:2.A,2.B,3.A,3.B,4.A,4.B,5.A,5.B,6.A,6.B,7.A,7.B,8.A,8.B,9.A,9.B
END:VEVENT
BEGIN:VEVENT
DTSTART;TZID=Europe/Prague:20260318T100000
DTEND;TZID=Europe/Prague:20260318T113500
DTSTAMP:20260426T061154
CREATED:20260130T163840Z
LAST-MODIFIED:20260130T163840Z
UID:45896-1773828000-1773833700@2zslitomysl.cz
SUMMARY:Plavání
DESCRIPTION:Plavecká výuka je povinná. \nMěstský bazén Litomyšl
URL:https://2zslitomysl.cz/kalendar/plavani-2/2026-03-18/
CATEGORIES:4.A,4.B
END:VEVENT
BEGIN:VEVENT
DTSTART;TZID=Europe/Prague:20260313T080000
DTEND;TZID=Europe/Prague:20260313T120000
DTSTAMP:20260426T061154
CREATED:20260225T135920Z
LAST-MODIFIED:20260225T135920Z
UID:46560-1773388800-1773403200@2zslitomysl.cz
SUMMARY:Vybíjená 4. - 5. tříd
DESCRIPTION:
URL:https://2zslitomysl.cz/kalendar/vybijena-4-5-trid/
CATEGORIES:4.A,4.B,5.A,5.B
END:VEVENT
BEGIN:VEVENT
DTSTART;TZID=Europe/Prague:20260227T090000
DTEND;TZID=Europe/Prague:20260227T100000
DTSTAMP:20260426T061154
CREATED:20250917T132736Z
LAST-MODIFIED:20250917T132736Z
UID:41482-1772182800-1772186400@2zslitomysl.cz
SUMMARY:MěK- Beseda Petr Brycz 4.A+ 4.B
DESCRIPTION:Vybíráme 50 Kč.
URL:https://2zslitomysl.cz/kalendar/mek-beseda-petr-brycz-4-a-4-b/
CATEGORIES:4.A,4.B
END:VEVENT
BEGIN:VEVENT
DTSTART;TZID=Europe/Prague:20260226T080000
DTEND;TZID=Europe/Prague:20260226T130000
DTSTAMP:20260426T061154
CREATED:20260212T103046Z
LAST-MODIFIED:20260212T103046Z
UID:46279-1772092800-1772110800@2zslitomysl.cz
SUMMARY:Florbal žáků 4. -5. tříd
DESCRIPTION:Akce se koná v Dolním Újezdu. Doprovod E. Stříteská.
URL:https://2zslitomysl.cz/kalendar/florbal-zaku-4-5-trid-2/
CATEGORIES:4.A,4.B,5.A,5.B
END:VEVENT
BEGIN:VEVENT
DTSTART;TZID=Europe/Prague:20260218T100000
DTEND;TZID=Europe/Prague:20260218T113500
DTSTAMP:20260426T061154
CREATED:20250916T082101Z
LAST-MODIFIED:20250916T082101Z
UID:41384-1771408800-1771414500@2zslitomysl.cz
SUMMARY:Plavba na online moři 4.B Acet
DESCRIPTION:
URL:https://2zslitomysl.cz/kalendar/plavba-na-online-mori-4-b-acet/
CATEGORIES:4.B
END:VEVENT
BEGIN:VEVENT
DTSTART;TZID=Europe/Prague:20251218T180000
DTEND;TZID=Europe/Prague:20251218T233000
DTSTAMP:20260426T061154
CREATED:20251130T154810Z
LAST-MODIFIED:20251130T154810Z
UID:43959-1766080800-1766100600@2zslitomysl.cz
SUMMARY:Spaní ve škole 4.B
DESCRIPTION:
URL:https://2zslitomysl.cz/kalendar/spani-ve-skole-4-b-2/
CATEGORIES:4.B
END:VEVENT
BEGIN:VEVENT
DTSTART;TZID=Europe/Prague:20251208T071500
DTEND;TZID=Europe/Prague:20251208T150000
DTSTAMP:20260426T061154
CREATED:20250902T100050Z
LAST-MODIFIED:20250902T100050Z
UID:40969-1765178100-1765206000@2zslitomysl.cz
SUMMARY:Sklárna Hlinsko 4.A\, 4.B
DESCRIPTION:
URL:https://2zslitomysl.cz/kalendar/sklarna-hlinsko-4-a-4-b/
CATEGORIES:4.A,4.B
END:VEVENT
BEGIN:VEVENT
DTSTART;TZID=Europe/Prague:20251204T100000
DTEND;TZID=Europe/Prague:20251204T104500
DTSTAMP:20260426T061154
CREATED:20251128T135222Z
LAST-MODIFIED:20251201T140617Z
UID:43798-1764842400-1764845100@2zslitomysl.cz
SUMMARY:Šmrnc - divadelní vystoupení
DESCRIPTION:Šmrnc – Divadelní vystoupení   #SPRAVEDLNOST pro žáky 3.\, 4. a 5. tříd. \nPed. dohled: V. Řeháková\, I. Holomková
URL:https://2zslitomysl.cz/kalendar/smrnc-divadelni-vystoupeni/
CATEGORIES:4.A,4.B,5.A,5.B,Ostatní
END:VEVENT
BEGIN:VEVENT
DTSTART;TZID=Europe/Prague:20251126T080000
DTEND;TZID=Europe/Prague:20251126T130000
DTSTAMP:20260426T061154
CREATED:20250902T122232Z
LAST-MODIFIED:20250902T122232Z
UID:40985-1764144000-1764162000@2zslitomysl.cz
SUMMARY:Vybíjená dívky 4. - 5. ročník
DESCRIPTION:Zabukovaná tělocvična na turnaj ve vybíjené
URL:https://2zslitomysl.cz/kalendar/vybijena-divky-4-5-rocnik-2/
CATEGORIES:4.A,4.B,5.A,5.B
END:VEVENT
BEGIN:VEVENT
DTSTART;TZID=Europe/Prague:20251126T080000
DTEND;TZID=Europe/Prague:20251126T093000
DTSTAMP:20260426T061154
CREATED:20250902T121427Z
LAST-MODIFIED:20250902T121427Z
UID:40983-1764144000-1764149400@2zslitomysl.cz
SUMMARY:Měststká knihovna\, 4.B
DESCRIPTION:
URL:https://2zslitomysl.cz/kalendar/meststka-knihovna-4-b-3/
CATEGORIES:4.B
END:VEVENT
BEGIN:VEVENT
DTSTART;TZID=Europe/Prague:20251105T090000
DTEND;TZID=Europe/Prague:20251105T100000
DTSTAMP:20260426T061154
CREATED:20250917T130543Z
LAST-MODIFIED:20250917T130543Z
UID:41474-1762333200-1762336800@2zslitomysl.cz
SUMMARY:Beseda v MěK - Ivana Peroutková 4.B
DESCRIPTION:
URL:https://2zslitomysl.cz/kalendar/beseda-v-mek-ivana-peroutkova-4-b/
CATEGORIES:4.B
END:VEVENT
BEGIN:VEVENT
DTSTART;TZID=Europe/Prague:20251103T114500
DTEND;TZID=Europe/Prague:20251103T123000
DTSTAMP:20260426T061154
CREATED:20251024T081352Z
LAST-MODIFIED:20251024T081352Z
UID:42589-1762170300-1762173000@2zslitomysl.cz
SUMMARY:Program se školním psychologem
DESCRIPTION:
URL:https://2zslitomysl.cz/kalendar/program-se-skolnim-psychologem-3/
CATEGORIES:4.B
END:VEVENT
BEGIN:VEVENT
DTSTART;TZID=Europe/Prague:20251002T080500
DTEND;TZID=Europe/Prague:20251002T111500
DTSTAMP:20260426T061154
CREATED:20250827T135427Z
LAST-MODIFIED:20250827T135427Z
UID:40713-1759392300-1759403700@2zslitomysl.cz
SUMMARY:Dopravní výchova 4.B
DESCRIPTION:Čas příjezdu nutno dodržet\, dřívější zahájení výuky není možné. \nKonec výuky v 11:15\, po domluvě i dříve (např. odjezd BUS apod.). \nVždy s sebou donést cyklistické helmy\, přezuvky do sálu a svačinu. \nTermíny výuky závazné. Jiný den než čtvrtek není možný. \nZahájení výuky vždy v SVČ Litomyšl – Dukelská 534 (nad BUS nádražím).
URL:https://2zslitomysl.cz/kalendar/dopravni-vychova-4-b-2/
CATEGORIES:4.B
END:VEVENT
BEGIN:VEVENT
DTSTART;TZID=Europe/Prague:20250924T080000
DTEND;TZID=Europe/Prague:20250924T093000
DTSTAMP:20260426T061154
CREATED:20250902T121054Z
LAST-MODIFIED:20250902T121054Z
UID:40978-1758700800-1758706200@2zslitomysl.cz
SUMMARY:Měststká knihovna\, 4.B
DESCRIPTION:
URL:https://2zslitomysl.cz/kalendar/meststka-knihovna-4-b/
CATEGORIES:4.B
END:VEVENT
BEGIN:VEVENT
DTSTART;TZID=Europe/Prague:20250626T100000
DTEND;TZID=Europe/Prague:20250626T104500
DTSTAMP:20260426T061154
CREATED:20250620T123257Z
LAST-MODIFIED:20250620T125153Z
UID:39527-1750932000-1750934700@2zslitomysl.cz
SUMMARY:Program se školním psychologem
DESCRIPTION:
URL:https://2zslitomysl.cz/kalendar/program-se-skolnim-psychologem-36/
CATEGORIES:4.B
END:VEVENT
BEGIN:VEVENT
DTSTART;TZID=Europe/Prague:20250625T170000
DTEND;TZID=Europe/Prague:20250626T080000
DTSTAMP:20260426T061154
CREATED:20250614T082309Z
LAST-MODIFIED:20250614T082309Z
UID:39043-1750870800-1750924800@2zslitomysl.cz
SUMMARY:Spaní ve škole - 4. B
DESCRIPTION:
URL:https://2zslitomysl.cz/kalendar/spani-ve-skole-4-b/
CATEGORIES:4.B
END:VEVENT
BEGIN:VEVENT
DTSTART;TZID=Europe/Prague:20250625T080000
DTEND;TZID=Europe/Prague:20250625T120000
DTSTAMP:20260426T061154
CREATED:20250619T181020Z
LAST-MODIFIED:20250619T181130Z
UID:39499-1750838400-1750852800@2zslitomysl.cz
SUMMARY:Cyklovýlet - 4.B
DESCRIPTION:Koupaliště Cerekvice nad Loučnou \nDohled: V. Severová\, J. Grunerová
URL:https://2zslitomysl.cz/kalendar/cyklovylet-4-b/
CATEGORIES:4.B
END:VEVENT
BEGIN:VEVENT
DTSTART;TZID=Europe/Prague:20250618T073000
DTEND;TZID=Europe/Prague:20250618T183000
DTSTAMP:20260426T061154
CREATED:20250612T114352Z
LAST-MODIFIED:20250612T114352Z
UID:38951-1750231800-1750271400@2zslitomysl.cz
SUMMARY:Školní výlet - 4. A\, 4. B
DESCRIPTION:Školní výlet do lanového parku v korunách stromů v Hradci Králové – Park Na Větvi \nDoprovod: A. Komárková Drahošová\, V. Severová\, J. Grunerová
URL:https://2zslitomysl.cz/kalendar/skolni-vylet-4-a-4-b/
CATEGORIES:4.A,4.B
END:VEVENT
BEGIN:VEVENT
DTSTART;TZID=Europe/Prague:20250612T100000
DTEND;TZID=Europe/Prague:20250612T123000
DTSTAMP:20260426T061154
CREATED:20250602T145326Z
LAST-MODIFIED:20250602T145326Z
UID:38055-1749722400-1749731400@2zslitomysl.cz
SUMMARY:Průřezové téma - 4. B
DESCRIPTION:Ekosystémy – přírodní společenstva\, V. Severová
URL:https://2zslitomysl.cz/kalendar/prurezove-tema-4-b/
CATEGORIES:4.B
END:VEVENT
BEGIN:VEVENT
DTSTART;TZID=Europe/Prague:20250520T074000
DTEND;TZID=Europe/Prague:20250520T123000
DTSTAMP:20260426T061154
CREATED:20250502T123404Z
LAST-MODIFIED:20250514T130437Z
UID:37148-1747726800-1747744200@2zslitomysl.cz
SUMMARY:Návštěva rodné světničky Bohuslava Martinů + historie města Poličky
DESCRIPTION:– komentovaná prohlídka o životě ve věžní světničce\, kostelních zvonech a malém Bohuslavu Martinů + zajímavé vyprávění o historii královského věnného města Poličky \nDoprovod: V. Severová\, Jana Grunerová
URL:https://2zslitomysl.cz/kalendar/navsteva-rodne-svetnicky-bohuslava-martinu/
LOCATION:Polička
CATEGORIES:4.B
END:VEVENT
BEGIN:VEVENT
DTSTART;TZID=Europe/Prague:20250513T080000
DTEND;TZID=Europe/Prague:20250513T123000
DTSTAMP:20260426T061154
CREATED:20250313T114259Z
LAST-MODIFIED:20250328T172247Z
UID:36069-1747123200-1747139400@2zslitomysl.cz
SUMMARY:Dopravní výchova 4.B
DESCRIPTION:Od 08:00 hod. ve Středisku volného času Litomyšl\, doprovod TU. \nS sebou: přezůvky\, psací potřeby\, sportovní oblečení\, sportovní obutí\, cyklistická přilba. \n 
URL:https://2zslitomysl.cz/kalendar/dopravni-vychova-4-b/
CATEGORIES:4.B
END:VEVENT
END:VCALENDAR