BEGIN:VCALENDAR
VERSION:2.0
PRODID:-//2. Základní škola Litomyšl, U Školek - ECPv6.2.0//NONSGML v1.0//EN
CALSCALE:GREGORIAN
METHOD:PUBLISH
X-WR-CALNAME:2. Základní škola Litomyšl, U Školek
X-ORIGINAL-URL:https://2zslitomysl.cz
X-WR-CALDESC:Akce na 2. Základní škola Litomyšl, U Školek
REFRESH-INTERVAL;VALUE=DURATION:PT1H
X-Robots-Tag:noindex
X-PUBLISHED-TTL:PT1H
BEGIN:VTIMEZONE
TZID:Europe/Prague
BEGIN:DAYLIGHT
TZOFFSETFROM:+0100
TZOFFSETTO:+0200
TZNAME:CEST
DTSTART:20260329T010000
END:DAYLIGHT
BEGIN:STANDARD
TZOFFSETFROM:+0200
TZOFFSETTO:+0100
TZNAME:CET
DTSTART:20261025T010000
END:STANDARD
END:VTIMEZONE
BEGIN:VEVENT
DTSTART;TZID=Europe/Prague:20260123T093000
DTEND;TZID=Europe/Prague:20260123T114000
DTSTAMP:20260426T033327
CREATED:20260119T133823Z
LAST-MODIFIED:20260119T185818Z
UID:45544-1769160600-1769168400@2zslitomysl.cz
SUMMARY:Bruslení 4.A
DESCRIPTION:Doprovod G. Klusáková\, P. Beránková \n30 Kč/ žák
URL:https://2zslitomysl.cz/kalendar/brusleni-4-a/
CATEGORIES:4.A
END:VEVENT
END:VCALENDAR