BEGIN:VCALENDAR
VERSION:2.0
PRODID:-//2. Základní škola Litomyšl, U Školek - ECPv6.2.0//NONSGML v1.0//EN
CALSCALE:GREGORIAN
METHOD:PUBLISH
X-ORIGINAL-URL:https://2zslitomysl.cz
X-WR-CALDESC:Akce na 2. Základní škola Litomyšl, U Školek
REFRESH-INTERVAL;VALUE=DURATION:PT1H
X-Robots-Tag:noindex
X-PUBLISHED-TTL:PT1H
BEGIN:VTIMEZONE
TZID:Europe/Prague
BEGIN:DAYLIGHT
TZOFFSETFROM:+0100
TZOFFSETTO:+0200
TZNAME:CEST
DTSTART:20260329T010000
END:DAYLIGHT
BEGIN:STANDARD
TZOFFSETFROM:+0200
TZOFFSETTO:+0100
TZNAME:CET
DTSTART:20261025T010000
END:STANDARD
END:VTIMEZONE
BEGIN:VEVENT
DTSTART;TZID=Europe/Prague:20260428T114500
DTEND;TZID=Europe/Prague:20260428T123000
DTSTAMP:20260426T004431
CREATED:20260414T084638Z
LAST-MODIFIED:20260414T084638Z
UID:47621-1777376700-1777379400@2zslitomysl.cz
SUMMARY:Program se školním psychologem
DESCRIPTION:
URL:https://2zslitomysl.cz/kalendar/program-se-skolnim-psychologem-39/
CATEGORIES:3.A
END:VEVENT
BEGIN:VEVENT
DTSTART;TZID=Europe/Prague:20260429T080000
DTEND;TZID=Europe/Prague:20260429T093500
DTSTAMP:20260426T004431
CREATED:20260130T163540Z
LAST-MODIFIED:20260130T163540Z
UID:45892-1777449600-1777455300@2zslitomysl.cz
SUMMARY:Plavání
DESCRIPTION:Plavecká výuka je povinná. \nMěstský bazén Litomyšl\, odchod od školy bude upřesněn.
URL:https://2zslitomysl.cz/kalendar/plavani/2026-04-29/
CATEGORIES:3.A,3.B
END:VEVENT
END:VCALENDAR