BEGIN:VCALENDAR
VERSION:2.0
PRODID:-//2. Základní škola Litomyšl, U Školek - ECPv6.2.0//NONSGML v1.0//EN
CALSCALE:GREGORIAN
METHOD:PUBLISH
X-WR-CALNAME:2. Základní škola Litomyšl, U Školek
X-ORIGINAL-URL:https://2zslitomysl.cz
X-WR-CALDESC:Akce na 2. Základní škola Litomyšl, U Školek
REFRESH-INTERVAL;VALUE=DURATION:PT1H
X-Robots-Tag:noindex
X-PUBLISHED-TTL:PT1H
BEGIN:VTIMEZONE
TZID:Europe/Prague
BEGIN:DAYLIGHT
TZOFFSETFROM:+0100
TZOFFSETTO:+0200
TZNAME:CEST
DTSTART:20250330T010000
END:DAYLIGHT
BEGIN:STANDARD
TZOFFSETFROM:+0200
TZOFFSETTO:+0100
TZNAME:CET
DTSTART:20251026T010000
END:STANDARD
BEGIN:DAYLIGHT
TZOFFSETFROM:+0100
TZOFFSETTO:+0200
TZNAME:CEST
DTSTART:20260329T010000
END:DAYLIGHT
BEGIN:STANDARD
TZOFFSETFROM:+0200
TZOFFSETTO:+0100
TZNAME:CET
DTSTART:20261025T010000
END:STANDARD
END:VTIMEZONE
BEGIN:VEVENT
DTSTART;TZID=Europe/Prague:20260306T080000
DTEND;TZID=Europe/Prague:20260306T170000
DTSTAMP:20260426T015929
CREATED:20260220T075917Z
LAST-MODIFIED:20260220T075917Z
UID:46481-1772784000-1772816400@2zslitomysl.cz
SUMMARY:Návštěva Klicperova divadla
DESCRIPTION:Představení Arabela\, vstupné 120\,- Kč\, vybraní žáci 5.\, 6.\, 7. a 9. ročníku. Doprovod A. Futerová\, K. Bednářová\, I. Holomková \nSraz 8:00 před školou\, odjezd 8:15\, začátek představení v 10:00\, plánovaný návrat cca ve 13:00 hodin. \nJízdné hradí škola.
URL:https://2zslitomysl.cz/kalendar/navsteva-klicperova-divadla/
CATEGORIES:2. Stupeň
END:VEVENT
BEGIN:VEVENT
DTSTART;VALUE=DATE:20260222
DTEND;VALUE=DATE:20260228
DTSTAMP:20260426T015929
CREATED:20250820T070123Z
LAST-MODIFIED:20250820T070123Z
UID:40663-1771718400-1772236799@2zslitomysl.cz
SUMMARY:Lyžařský výcvik
DESCRIPTION:
URL:https://2zslitomysl.cz/kalendar/lyzarsky-vycvik/
CATEGORIES:2. Stupeň
END:VEVENT
BEGIN:VEVENT
DTSTART;TZID=Europe/Prague:20260116T080000
DTEND;TZID=Europe/Prague:20260116T120000
DTSTAMP:20260426T015929
CREATED:20260107T070037Z
LAST-MODIFIED:20260107T070037Z
UID:45451-1768550400-1768564800@2zslitomysl.cz
SUMMARY:Veslařská soutěž - žáci 2. stupně
DESCRIPTION:Akce se koná na 3. ZŠ Litomyšl. Zúčastní se vybraní žáci – 4 dívky a 4 chlapci za ročník.
URL:https://2zslitomysl.cz/kalendar/veslarska-soutez-zaci-2-stupne/
CATEGORIES:2. Stupeň
END:VEVENT
BEGIN:VEVENT
DTSTART;TZID=Europe/Prague:20251217T103000
DTEND;TZID=Europe/Prague:20251217T143000
DTSTAMP:20260426T015929
CREATED:20251212T090701Z
LAST-MODIFIED:20251212T090701Z
UID:44525-1765967400-1765981800@2zslitomysl.cz
SUMMARY:Bumbác ball týmů - play off
DESCRIPTION:Pokračování turnaje týmů. Pouze registrovaní žáci. Dohled J. Paclík a M. Matoušek
URL:https://2zslitomysl.cz/kalendar/bumbac-ball-tymu-play-off/
CATEGORIES:2. Stupeň
END:VEVENT
BEGIN:VEVENT
DTSTART;TZID=Europe/Prague:20251014T080000
DTEND;TZID=Europe/Prague:20251014T090000
DTSTAMP:20260426T015929
CREATED:20251010T063303Z
LAST-MODIFIED:20251010T063338Z
UID:42362-1760428800-1760432400@2zslitomysl.cz
SUMMARY:Pythagoriáda
DESCRIPTION:Školní kolo matematické soutěže
URL:https://2zslitomysl.cz/kalendar/pythagoriada/
CATEGORIES:2. Stupeň
END:VEVENT
BEGIN:VEVENT
DTSTART;TZID=Europe/Prague:20251002T160000
DTEND;TZID=Europe/Prague:20251002T170000
DTSTAMP:20260426T015929
CREATED:20250820T062035Z
LAST-MODIFIED:20250820T062035Z
UID:40618-1759420800-1759424400@2zslitomysl.cz
SUMMARY:Úvodní rodičovské schůzky
DESCRIPTION:
URL:https://2zslitomysl.cz/kalendar/uvodni-rodicovske-schuzky/
CATEGORIES:1.Stupeň,2. Stupeň
END:VEVENT
BEGIN:VEVENT
DTSTART;TZID=Europe/Prague:20250918T080000
DTEND;TZID=Europe/Prague:20250918T150000
DTSTAMP:20260426T015929
CREATED:20250904T102856Z
LAST-MODIFIED:20250904T102856Z
UID:41020-1758182400-1758207600@2zslitomysl.cz
SUMMARY:Přespolní běh- 1. stupeň ( dopoledne) a 2. stupeň (odpoledne)
DESCRIPTION:Akce se koná na Černé Hoře. První stupeň 9:30- 12:00 \, druhý stupeň 12:00- 15:00.
URL:https://2zslitomysl.cz/kalendar/prespolni-beh-1-stupen-dopoledne-a-2-stupen-odpoledne/
CATEGORIES:1.Stupeň,2. Stupeň
END:VEVENT
BEGIN:VEVENT
DTSTART;TZID=Europe/Prague:20250909T080000
DTEND;TZID=Europe/Prague:20250909T100000
DTSTAMP:20260426T015929
CREATED:20250820T061320Z
LAST-MODIFIED:20250821T115852Z
UID:40610-1757404800-1757412000@2zslitomysl.cz
SUMMARY:Focení tříd
DESCRIPTION:
URL:https://2zslitomysl.cz/kalendar/foceni-trid-2/
CATEGORIES:1.Stupeň,2. Stupeň
END:VEVENT
BEGIN:VEVENT
DTSTART;TZID=Europe/Prague:20250626T080000
DTEND;TZID=Europe/Prague:20250626T133000
DTSTAMP:20260426T015929
CREATED:20250519T094020Z
LAST-MODIFIED:20250612T193419Z
UID:37431-1750924800-1750944600@2zslitomysl.cz
SUMMARY:Školní turnaj v Brannbalu
DESCRIPTION:Turnaj se uskuteční na umělé trávě v Litomyšli (fotbalový stadion). Dohled J. Paclík\, M. Matoušek.
URL:https://2zslitomysl.cz/kalendar/skolni-turnaj-v-brannbalu/
CATEGORIES:2. Stupeň
END:VEVENT
BEGIN:VEVENT
DTSTART;TZID=Europe/Prague:20250604T090000
DTEND;TZID=Europe/Prague:20250604T120000
DTSTAMP:20260426T015929
CREATED:20250603T070107Z
LAST-MODIFIED:20250603T070107Z
UID:38064-1749027600-1749038400@2zslitomysl.cz
SUMMARY:Fotbal žákyň 6. -9. tříd (náhradní termín)
DESCRIPTION:Akce se koná na hřišti u II. ZŠ Litomyšl. Dozor M. Matoušek.
URL:https://2zslitomysl.cz/kalendar/fotbal-zakyn-6-9-trid-nahradni-termin/
CATEGORIES:2. Stupeň
END:VEVENT
BEGIN:VEVENT
DTSTART;TZID=Europe/Prague:20250529T090000
DTEND;TZID=Europe/Prague:20250529T120000
DTSTAMP:20260426T015929
CREATED:20250502T083751Z
LAST-MODIFIED:20250528T060552Z
UID:37143-1748509200-1748520000@2zslitomysl.cz
SUMMARY:Fotbalový turnaj žákyň 2. stupně- ZRUŠENO (počasí)
DESCRIPTION:Akce se koná na hřišti u ZŠ U Školek. Dohled M. Matoušek. Zúčastní se vybrané žákyně 2. stupně. V Případě špatného počasí se akce ruší.
URL:https://2zslitomysl.cz/kalendar/fotbalovy-turnaj-zakyn-2-stupne-zabrane-hriste/
CATEGORIES:2. Stupeň
END:VEVENT
END:VCALENDAR