BEGIN:VCALENDAR
VERSION:2.0
PRODID:-//2. Základní škola Litomyšl, U Školek - ECPv6.2.0//NONSGML v1.0//EN
CALSCALE:GREGORIAN
METHOD:PUBLISH
X-WR-CALNAME:2. Základní škola Litomyšl, U Školek
X-ORIGINAL-URL:https://2zslitomysl.cz
X-WR-CALDESC:Akce na 2. Základní škola Litomyšl, U Školek
REFRESH-INTERVAL;VALUE=DURATION:PT1H
X-Robots-Tag:noindex
X-PUBLISHED-TTL:PT1H
BEGIN:VTIMEZONE
TZID:Europe/Prague
BEGIN:DAYLIGHT
TZOFFSETFROM:+0100
TZOFFSETTO:+0200
TZNAME:CEST
DTSTART:20250330T010000
END:DAYLIGHT
BEGIN:STANDARD
TZOFFSETFROM:+0200
TZOFFSETTO:+0100
TZNAME:CET
DTSTART:20251026T010000
END:STANDARD
BEGIN:DAYLIGHT
TZOFFSETFROM:+0100
TZOFFSETTO:+0200
TZNAME:CEST
DTSTART:20260329T010000
END:DAYLIGHT
BEGIN:STANDARD
TZOFFSETFROM:+0200
TZOFFSETTO:+0100
TZNAME:CET
DTSTART:20261025T010000
END:STANDARD
END:VTIMEZONE
BEGIN:VEVENT
DTSTART;TZID=Europe/Prague:20260522T100000
DTEND;TZID=Europe/Prague:20260522T110000
DTSTAMP:20260426T054634
CREATED:20260318T140228Z
LAST-MODIFIED:20260318T140319Z
UID:47014-1779444000-1779447600@2zslitomysl.cz
SUMMARY:Vystoupení Malí umělci a Hýbeme se s hudbou
DESCRIPTION:Vystoupení Malých umělců pro žáky 1. – 3. tříd. \nPed. dohled: V. Řeháková\, A. Stejskalová a I. Holomková
URL:https://2zslitomysl.cz/kalendar/vystoupeni-mali-umelci-a-hybeme-se-s-hudbou/
CATEGORIES:1.A,1.B,2.A,2.B,3.A,3.B
END:VEVENT
BEGIN:VEVENT
DTSTART;TZID=Europe/Prague:20260423T080000
DTEND;TZID=Europe/Prague:20260423T140000
DTSTAMP:20260426T054634
CREATED:20260414T090411Z
LAST-MODIFIED:20260414T090411Z
UID:47623-1776931200-1776952800@2zslitomysl.cz
SUMMARY:Minikopaná žáků 1. -3. tříd (okresní kolo)
DESCRIPTION:Akce se koná ve Svitavách. Doprovod J. Paclík.
URL:https://2zslitomysl.cz/kalendar/minikopana-zaku-1-3-trid-okresni-kolo/
CATEGORIES:1.A,2.A,2.B,3.A,3.B
END:VEVENT
BEGIN:VEVENT
DTSTART;TZID=Europe/Prague:20260410T080000
DTEND;TZID=Europe/Prague:20260410T130000
DTSTAMP:20260426T054634
CREATED:20260408T124133Z
LAST-MODIFIED:20260408T124133Z
UID:47493-1775808000-1775826000@2zslitomysl.cz
SUMMARY:Fotbal žáků 1.- 3. tříd (McDonalds cup)
DESCRIPTION:Akce se koná na fotbalovém stadionu v Litomyšli. Doprovod J. Paclík
URL:https://2zslitomysl.cz/kalendar/fotbal-zaku-1-3-trid-mcdonalds-cup/
CATEGORIES:1.A,1.B,2.A,2.B,3.A,3.B
END:VEVENT
BEGIN:VEVENT
DTSTART;TZID=Europe/Prague:20260320T080000
DTEND;TZID=Europe/Prague:20260320T093000
DTSTAMP:20260426T054634
CREATED:20260310T203228Z
LAST-MODIFIED:20260310T203228Z
UID:46943-1773993600-1773999000@2zslitomysl.cz
SUMMARY:Matematický klokan - školní kolo
DESCRIPTION:
URL:https://2zslitomysl.cz/kalendar/matematicky-klokan-skolni-kolo/
CATEGORIES:2.A,2.B,3.A,3.B,4.A,4.B,5.A,5.B,6.A,6.B,7.A,7.B,8.A,8.B,9.A,9.B
END:VEVENT
BEGIN:VEVENT
DTSTART;TZID=Europe/Prague:20260317T080000
DTEND;TZID=Europe/Prague:20260317T100000
DTSTAMP:20260426T054634
CREATED:20260313T115117Z
LAST-MODIFIED:20260313T115117Z
UID:46959-1773734400-1773741600@2zslitomysl.cz
SUMMARY:Bruslení 2.A a 2.B
DESCRIPTION:Doprovod J.Paclík\, D. Beníšková a P. Jasanská
URL:https://2zslitomysl.cz/kalendar/brusleni-2-a-a-2-b/
CATEGORIES:2.A,2.B
END:VEVENT
BEGIN:VEVENT
DTSTART;TZID=Europe/Prague:20260225T100000
DTEND;TZID=Europe/Prague:20260225T113500
DTSTAMP:20260426T054634
CREATED:20250916T080909Z
LAST-MODIFIED:20250916T080909Z
UID:41375-1772013600-1772019300@2zslitomysl.cz
SUMMARY:naše tělo jako domov 2.B
DESCRIPTION:
URL:https://2zslitomysl.cz/kalendar/nase-telo-jako-domov-2-b-2/
CATEGORIES:2.B
END:VEVENT
BEGIN:VEVENT
DTSTART;TZID=Europe/Prague:20260203T105000
DTEND;TZID=Europe/Prague:20260203T113500
DTSTAMP:20260426T054634
CREATED:20260129T102414Z
LAST-MODIFIED:20260129T102414Z
UID:45872-1770115800-1770118500@2zslitomysl.cz
SUMMARY:Program se školním psychologem
DESCRIPTION:
URL:https://2zslitomysl.cz/kalendar/program-se-skolnim-psychologem-13/
CATEGORIES:2.B
END:VEVENT
BEGIN:VEVENT
DTSTART;TZID=Europe/Prague:20260129T090000
DTEND;TZID=Europe/Prague:20260129T110000
DTSTAMP:20260426T054634
CREATED:20260123T084950Z
LAST-MODIFIED:20260123T084950Z
UID:45674-1769677200-1769684400@2zslitomysl.cz
SUMMARY:Cesta za vysvědčením a pasování na písaře - (1.A+1.B - 8.A+8.B)
DESCRIPTION:Dohled M. Matoušek\, J. Paclík\, I. Krejbychová a M. Rosypalová.
URL:https://2zslitomysl.cz/kalendar/cesta-za-vysvedcenim-a-pasovani-na-pisare-1-a1-b-8-a8-b/
CATEGORIES:2.A,2.B,8.A,8.B
END:VEVENT
BEGIN:VEVENT
DTSTART;TZID=Europe/Prague:20260115T080000
DTEND;TZID=Europe/Prague:20260115T100000
DTSTAMP:20260426T054634
CREATED:20251216T121708Z
LAST-MODIFIED:20251216T121708Z
UID:44654-1768464000-1768471200@2zslitomysl.cz
SUMMARY:Bruslení - 2.A\, 2.B
DESCRIPTION:Doprovod J. Paclík\, D. Beníšková a P. Jasanská
URL:https://2zslitomysl.cz/kalendar/brusleni-2-a-2-b-3/
CATEGORIES:2.A,2.B
END:VEVENT
BEGIN:VEVENT
DTSTART;TZID=Europe/Prague:20251215T093000
DTEND;TZID=Europe/Prague:20251215T113000
DTSTAMP:20260426T054634
CREATED:20251209T125515Z
LAST-MODIFIED:20251209T125515Z
UID:44356-1765791000-1765798200@2zslitomysl.cz
SUMMARY:Vánoční výstava v zahradnické škole
DESCRIPTION:2.B Beníšková
URL:https://2zslitomysl.cz/kalendar/vanocni-vystava-v-zahradnicke-skole/
CATEGORIES:2.B
END:VEVENT
BEGIN:VEVENT
DTSTART;TZID=Europe/Prague:20251212T090000
DTEND;TZID=Europe/Prague:20251212T113000
DTSTAMP:20260426T054634
CREATED:20251209T121444Z
LAST-MODIFIED:20251209T121444Z
UID:44349-1765530000-1765539000@2zslitomysl.cz
SUMMARY:Návštěva výstavy betlémů v kostele Nalezení sv. Kříže
DESCRIPTION:2.B Beníšková
URL:https://2zslitomysl.cz/kalendar/navsteva-vystavy-betlemu-v-kostele-nalezeni-sv-krize-2/
CATEGORIES:2.B
END:VEVENT
BEGIN:VEVENT
DTSTART;TZID=Europe/Prague:20251208T080000
DTEND;TZID=Europe/Prague:20251208T113000
DTSTAMP:20260426T054634
CREATED:20251207T062033Z
LAST-MODIFIED:20251207T062033Z
UID:44182-1765180800-1765193400@2zslitomysl.cz
SUMMARY:Průřezové téma - Mezilidské vztahy - Rodina
DESCRIPTION:Průřezové téma – Mezilidské vztahy – Rodina
URL:https://2zslitomysl.cz/kalendar/prurezove-tema-mezilidske-vztahy-rodina/
CATEGORIES:2.B
END:VEVENT
BEGIN:VEVENT
DTSTART;TZID=Europe/Prague:20251205T105000
DTEND;TZID=Europe/Prague:20251205T113500
DTSTAMP:20260426T054634
CREATED:20251128T134822Z
LAST-MODIFIED:20251128T134822Z
UID:43795-1764931800-1764934500@2zslitomysl.cz
SUMMARY:Malí umělci - Divadelní vystoupení
DESCRIPTION:Malí umělci – Divadelní vystoupení Vánoční přání pro žáky 1.\, 2. a 3. tříd. \nPed. dohled: V. Řeháková\, A. Stejskalová\, I. Holomková
URL:https://2zslitomysl.cz/kalendar/mali-umelci-divadelni-vystoupeni/
CATEGORIES:1.A,1.B,2.A,2.B,3.A,3.B,Ostatní
END:VEVENT
BEGIN:VEVENT
DTSTART;TZID=Europe/Prague:20251205T080000
DTEND;TZID=Europe/Prague:20251205T084500
DTSTAMP:20260426T054634
CREATED:20251125T094011Z
LAST-MODIFIED:20251125T094011Z
UID:43751-1764921600-1764924300@2zslitomysl.cz
SUMMARY:Program se školním psychologem
DESCRIPTION:
URL:https://2zslitomysl.cz/kalendar/program-se-skolnim-psychologem-8/
CATEGORIES:2.B
END:VEVENT
BEGIN:VEVENT
DTSTART;TZID=Europe/Prague:20251204T080000
DTEND;TZID=Europe/Prague:20251204T120000
DTSTAMP:20260426T054634
CREATED:20250902T122312Z
LAST-MODIFIED:20250902T122651Z
UID:40988-1764835200-1764849600@2zslitomysl.cz
SUMMARY:Vybíjená 1. - 3. ročník
DESCRIPTION:Zabukovaná tělocvična na turnaj ve vybíjené
URL:https://2zslitomysl.cz/kalendar/vybijena-1-3-rocnik/
CATEGORIES:1.A,1.B,2.A,2.B,3.A,3.B
END:VEVENT
BEGIN:VEVENT
DTSTART;TZID=Europe/Prague:20251127T080000
DTEND;TZID=Europe/Prague:20251127T093500
DTSTAMP:20260426T054634
CREATED:20250902T071027Z
LAST-MODIFIED:20250902T071027Z
UID:40967-1764230400-1764236100@2zslitomysl.cz
SUMMARY:Plavecká výuka
DESCRIPTION:
URL:https://2zslitomysl.cz/kalendar/plavecka-vyuka/2025-11-27/
CATEGORIES:2.A,2.B
END:VEVENT
BEGIN:VEVENT
DTSTART;TZID=Europe/Prague:20251120T080000
DTEND;TZID=Europe/Prague:20251120T093500
DTSTAMP:20260426T054634
CREATED:20250902T071027Z
LAST-MODIFIED:20250902T071027Z
UID:40966-1763625600-1763631300@2zslitomysl.cz
SUMMARY:Plavecká výuka
DESCRIPTION:
URL:https://2zslitomysl.cz/kalendar/plavecka-vyuka/2025-11-20/
CATEGORIES:2.A,2.B
END:VEVENT
BEGIN:VEVENT
DTSTART;TZID=Europe/Prague:20251113T080000
DTEND;TZID=Europe/Prague:20251113T093500
DTSTAMP:20260426T054634
CREATED:20250902T071027Z
LAST-MODIFIED:20250902T071027Z
UID:40965-1763020800-1763026500@2zslitomysl.cz
SUMMARY:Plavecká výuka
DESCRIPTION:
URL:https://2zslitomysl.cz/kalendar/plavecka-vyuka/2025-11-13/
CATEGORIES:2.A,2.B
END:VEVENT
BEGIN:VEVENT
DTSTART;TZID=Europe/Prague:20251106T080000
DTEND;TZID=Europe/Prague:20251106T093500
DTSTAMP:20260426T054634
CREATED:20250902T071027Z
LAST-MODIFIED:20250902T071027Z
UID:40964-1762416000-1762421700@2zslitomysl.cz
SUMMARY:Plavecká výuka
DESCRIPTION:
URL:https://2zslitomysl.cz/kalendar/plavecka-vyuka/2025-11-06/
CATEGORIES:2.A,2.B
END:VEVENT
BEGIN:VEVENT
DTSTART;TZID=Europe/Prague:20251030T080000
DTEND;TZID=Europe/Prague:20251030T093500
DTSTAMP:20260426T054634
CREATED:20250902T071027Z
LAST-MODIFIED:20250902T071027Z
UID:40962-1761811200-1761816900@2zslitomysl.cz
SUMMARY:Plavecká výuka
DESCRIPTION:
URL:https://2zslitomysl.cz/kalendar/plavecka-vyuka/2025-10-30/
CATEGORIES:2.A,2.B
END:VEVENT
BEGIN:VEVENT
DTSTART;TZID=Europe/Prague:20251002T100000
DTEND;TZID=Europe/Prague:20251002T123000
DTSTAMP:20260426T054634
CREATED:20250906T122735Z
LAST-MODIFIED:20250906T122735Z
UID:41179-1759399200-1759408200@2zslitomysl.cz
SUMMARY:Škola hrou s Pedagogickou školou
DESCRIPTION:Klášterní zahrady – 2.B – doprovod D. Beníšková
URL:https://2zslitomysl.cz/kalendar/skola-hrou-s-pedagogickou-skolou/
CATEGORIES:2.B
END:VEVENT
BEGIN:VEVENT
DTSTART;TZID=Europe/Prague:20250619T100000
DTEND;TZID=Europe/Prague:20250619T104500
DTSTAMP:20260426T054634
CREATED:20250611T112319Z
LAST-MODIFIED:20250611T112319Z
UID:38785-1750327200-1750329900@2zslitomysl.cz
SUMMARY:Program se školním psychologem
DESCRIPTION:
URL:https://2zslitomysl.cz/kalendar/program-se-skolnim-psychologem-27/
CATEGORIES:2.B
END:VEVENT
BEGIN:VEVENT
DTSTART;TZID=Europe/Prague:20250617T080000
DTEND;TZID=Europe/Prague:20250617T170000
DTSTAMP:20260426T054634
CREATED:20250414T110055Z
LAST-MODIFIED:20250414T110055Z
UID:36653-1750147200-1750179600@2zslitomysl.cz
SUMMARY:školní výlet 2.A+2.B
DESCRIPTION:školní výlet Archeopark Všestary + mini ZOO Stěžery
URL:https://2zslitomysl.cz/kalendar/skolni-vylet-2-a2-b/
CATEGORIES:2.A,2.B
END:VEVENT
BEGIN:VEVENT
DTSTART;TZID=Europe/Prague:20250506T080000
DTEND;TZID=Europe/Prague:20250506T140000
DTSTAMP:20260426T054634
CREATED:20250424T133601Z
LAST-MODIFIED:20250424T133601Z
UID:36982-1746518400-1746540000@2zslitomysl.cz
SUMMARY:McDonald’s Cup žáků 2. - 3. tříd (okresní kolo ve fotbalu)
DESCRIPTION:Akce se koná ve Svitavách. Doprovod J. Paclík.
URL:https://2zslitomysl.cz/kalendar/mcdonalds-cup-zaku-2-3-trid-okresni-kolo-ve-fotbalu/
CATEGORIES:2.A,2.B,3.A,3.B
END:VEVENT
END:VCALENDAR