BEGIN:VCALENDAR
VERSION:2.0
PRODID:-//2. Základní škola Litomyšl, U Školek - ECPv6.2.0//NONSGML v1.0//EN
CALSCALE:GREGORIAN
METHOD:PUBLISH
X-WR-CALNAME:2. Základní škola Litomyšl, U Školek
X-ORIGINAL-URL:https://2zslitomysl.cz
X-WR-CALDESC:Akce na 2. Základní škola Litomyšl, U Školek
REFRESH-INTERVAL;VALUE=DURATION:PT1H
X-Robots-Tag:noindex
X-PUBLISHED-TTL:PT1H
BEGIN:VTIMEZONE
TZID:Europe/Prague
BEGIN:DAYLIGHT
TZOFFSETFROM:+0100
TZOFFSETTO:+0200
TZNAME:CEST
DTSTART:20250330T010000
END:DAYLIGHT
BEGIN:STANDARD
TZOFFSETFROM:+0200
TZOFFSETTO:+0100
TZNAME:CET
DTSTART:20251026T010000
END:STANDARD
END:VTIMEZONE
BEGIN:VEVENT
DTSTART;TZID=Europe/Prague:20251216T100000
DTEND;TZID=Europe/Prague:20251216T120000
DTSTAMP:20260426T035835
CREATED:20251207T182921Z
LAST-MODIFIED:20251207T182921Z
UID:44278-1765879200-1765886400@2zslitomysl.cz
SUMMARY:Výstava betlémů - 1. A\, 1. B
DESCRIPTION:Piaristický chrám Nalezení sv. Kříže\, doprovod I. Krejbychová\, M. Rosypalová\, H. Kopecká\, M. Horáková
URL:https://2zslitomysl.cz/kalendar/vystava-betlemu-1-a-1-b/
CATEGORIES:1.A,1.B
END:VEVENT
BEGIN:VEVENT
DTSTART;TZID=Europe/Prague:20251210T080000
DTEND;TZID=Europe/Prague:20251210T110000
DTSTAMP:20260426T035835
CREATED:20251111T130013Z
LAST-MODIFIED:20251111T130013Z
UID:43328-1765353600-1765364400@2zslitomysl.cz
SUMMARY:Společné bruslení prvňáčků a patronů
DESCRIPTION:Doprovod J. Paclík\, H. Kopecká\, M. Horáková a M. Matoušek
URL:https://2zslitomysl.cz/kalendar/spolecne-brusleni-prvnacku-a-patronu/
CATEGORIES:1.A,1.B,8.A,8.B
END:VEVENT
BEGIN:VEVENT
DTSTART;TZID=Europe/Prague:20251205T105000
DTEND;TZID=Europe/Prague:20251205T113500
DTSTAMP:20260426T035835
CREATED:20251128T134822Z
LAST-MODIFIED:20251128T134822Z
UID:43795-1764931800-1764934500@2zslitomysl.cz
SUMMARY:Malí umělci - Divadelní vystoupení
DESCRIPTION:Malí umělci – Divadelní vystoupení Vánoční přání pro žáky 1.\, 2. a 3. tříd. \nPed. dohled: V. Řeháková\, A. Stejskalová\, I. Holomková
URL:https://2zslitomysl.cz/kalendar/mali-umelci-divadelni-vystoupeni/
CATEGORIES:1.A,1.B,2.A,2.B,3.A,3.B,Ostatní
END:VEVENT
BEGIN:VEVENT
DTSTART;TZID=Europe/Prague:20251204T080000
DTEND;TZID=Europe/Prague:20251204T120000
DTSTAMP:20260426T035835
CREATED:20250902T122312Z
LAST-MODIFIED:20250902T122651Z
UID:40988-1764835200-1764849600@2zslitomysl.cz
SUMMARY:Vybíjená 1. - 3. ročník
DESCRIPTION:Zabukovaná tělocvična na turnaj ve vybíjené
URL:https://2zslitomysl.cz/kalendar/vybijena-1-3-rocnik/
CATEGORIES:1.A,1.B,2.A,2.B,3.A,3.B
END:VEVENT
BEGIN:VEVENT
DTSTART;TZID=Europe/Prague:20251105T100000
DTEND;TZID=Europe/Prague:20251105T104500
DTSTAMP:20260426T035835
CREATED:20251103T112258Z
LAST-MODIFIED:20251103T112258Z
UID:42754-1762336800-1762339500@2zslitomysl.cz
SUMMARY:Pouštění draků s patrony (1.B + 8.B)
DESCRIPTION:Dohled J.Paclík\, H. Kopecká a R. Kubů
URL:https://2zslitomysl.cz/kalendar/pousteni-draku-s-patrony-1-b-8-b/
CATEGORIES:1.B,8.B
END:VEVENT
BEGIN:VEVENT
DTSTART;TZID=Europe/Prague:20250930T080000
DTEND;TZID=Europe/Prague:20250930T123000
DTSTAMP:20260426T035835
CREATED:20250908T112446Z
LAST-MODIFIED:20250919T064246Z
UID:41197-1759219200-1759235400@2zslitomysl.cz
SUMMARY:Počtení - 1. A\, 1. B\, 8. A\, 8. B
DESCRIPTION:Počtení – společná akce prvňáčků s jejich patrony z osmých tříd\, doprovod I. Krejbychová\, M. Rosypalová\, M. Matoušek\, J. Paclík
URL:https://2zslitomysl.cz/kalendar/pocteni-1-a-1-b-8-a-8-b/
CATEGORIES:1.A,1.B,8.A,8.B
END:VEVENT
BEGIN:VEVENT
DTSTART;TZID=Europe/Prague:20250926T090000
DTEND;TZID=Europe/Prague:20250926T113000
DTSTAMP:20260426T035835
CREATED:20250916T114616Z
LAST-MODIFIED:20250916T114616Z
UID:41467-1758877200-1758886200@2zslitomysl.cz
SUMMARY:Sportovní pohybové dopoledne- 1.A + 1.B
DESCRIPTION:Akce se koná na fotbalovém stadionu. Doprovod J. Paclík\, H. Kopecká\, M. Horáková. V případě špatného počasí se akce ruší.
URL:https://2zslitomysl.cz/kalendar/sportovni-pohybove-dopoledne-1-a-1-b/
CATEGORIES:1.A,1.B
END:VEVENT
BEGIN:VEVENT
DTSTART;VALUE=DATE:20250904
DTEND;VALUE=DATE:20250905
DTSTAMP:20260426T035835
CREATED:20250820T061136Z
LAST-MODIFIED:20250820T061235Z
UID:40607-1756944000-1757030399@2zslitomysl.cz
SUMMARY:Focení prvňáčků
DESCRIPTION:
URL:https://2zslitomysl.cz/kalendar/slavnostni-zahajeni-skolniho-roku/
CATEGORIES:1.A,1.B
END:VEVENT
BEGIN:VEVENT
DTSTART;TZID=Europe/Prague:20250626T090000
DTEND;TZID=Europe/Prague:20250626T110000
DTSTAMP:20260426T035835
CREATED:20250620T070940Z
LAST-MODIFIED:20250620T071803Z
UID:39524-1750928400-1750935600@2zslitomysl.cz
SUMMARY:Sladké překvapení
DESCRIPTION:Sladké překvapení vítězného týmu Asánek pro žáky 1.A a 1.B
URL:https://2zslitomysl.cz/kalendar/sladke-prekvapeni/
CATEGORIES:1.A,1.B
END:VEVENT
BEGIN:VEVENT
DTSTART;TZID=Europe/Prague:20250625T080000
DTEND;TZID=Europe/Prague:20250625T120000
DTSTAMP:20260426T035835
CREATED:20250624T162939Z
LAST-MODIFIED:20250624T162939Z
UID:39722-1750838400-1750852800@2zslitomysl.cz
SUMMARY:Čokoparty 1.A a 1.B
DESCRIPTION:Čokoládová fontána pro 1.A a 1.B  – dopoledne v kuchyňce.
URL:https://2zslitomysl.cz/kalendar/cokoparty-1-a-a-1-b/
CATEGORIES:1.A,1.B
END:VEVENT
BEGIN:VEVENT
DTSTART;TZID=Europe/Prague:20250625T080000
DTEND;TZID=Europe/Prague:20250625T100000
DTSTAMP:20260426T035835
CREATED:20250507T092537Z
LAST-MODIFIED:20250619T092954Z
UID:37257-1750838400-1750845600@2zslitomysl.cz
SUMMARY:Taneční akademie Studia ÉRA
DESCRIPTION:Vstupné 40\,- Kč\, začátek 8:15 \, doprovod TU \nPřihlášeny třídy: 1.B\, 5.A\, 5.B\, 7.A\, 7.B\, 8.A\, 8.B\, 9.A
URL:https://2zslitomysl.cz/kalendar/tanecni-akademie-studia-era/
CATEGORIES:1.B,5.A,5.B,7.A,7.B,8.A,8.B,9.A
END:VEVENT
BEGIN:VEVENT
DTSTART;TZID=Europe/Prague:20250623T090000
DTEND;TZID=Europe/Prague:20250623T113000
DTSTAMP:20260426T035835
CREATED:20250612T055332Z
LAST-MODIFIED:20250612T055332Z
UID:38929-1750669200-1750678200@2zslitomysl.cz
SUMMARY:Počtení 1.B a 8.B
DESCRIPTION:Počtení 1.B a 8.B – Klášterní zahrady – doprovod D. Beníšková\, E. Stříteská\, M. Bogdan\, J. Špinar
URL:https://2zslitomysl.cz/kalendar/pocteni-1-b-a-8-b/
CATEGORIES:1.B,8.B
END:VEVENT
BEGIN:VEVENT
DTSTART;TZID=Europe/Prague:20250617T090000
DTEND;TZID=Europe/Prague:20250617T110000
DTSTAMP:20260426T035835
CREATED:20250528T153842Z
LAST-MODIFIED:20250528T153842Z
UID:37763-1750150800-1750158000@2zslitomysl.cz
SUMMARY:Festivalové zahrady 1.B
DESCRIPTION:Hravé a edukační aktivity ve Festivalových zahradách – 1.B – doprovod  D. Beníšková\, E. Stříteská
URL:https://2zslitomysl.cz/kalendar/festivalove-zahrady-1-b/
CATEGORIES:1.B
END:VEVENT
BEGIN:VEVENT
DTSTART;TZID=Europe/Prague:20250611T073000
DTEND;TZID=Europe/Prague:20250611T153000
DTSTAMP:20260426T035835
CREATED:20250402T082643Z
LAST-MODIFIED:20250402T082643Z
UID:36422-1749627000-1749655800@2zslitomysl.cz
SUMMARY:Školní výlet 1.B
DESCRIPTION:Školní výlet – Centrum Eden – Bystřice nad Pernštejnem – doprovod D. Beníšková\, E. Stříteská
URL:https://2zslitomysl.cz/kalendar/skolni-vylet-1-b/
CATEGORIES:1.B
END:VEVENT
BEGIN:VEVENT
DTSTART;TZID=Europe/Prague:20250603T080000
DTEND;TZID=Europe/Prague:20250603T120000
DTSTAMP:20260426T035835
CREATED:20250424T063625Z
LAST-MODIFIED:20250426T112014Z
UID:36974-1748937600-1748952000@2zslitomysl.cz
SUMMARY:Pasování prvňáčků na čtenáře
DESCRIPTION:v Městské knihovně Litomyšl\, 1.A – 8:30\, 1.B 10:30
URL:https://2zslitomysl.cz/kalendar/pasovani-prvnacku-na-ctenare-2/
CATEGORIES:1.A,1.B
END:VEVENT
BEGIN:VEVENT
DTSTART;VALUE=DATE:20250523
DTEND;VALUE=DATE:20250524
DTSTAMP:20260426T035835
CREATED:20250519T142917Z
LAST-MODIFIED:20250519T143341Z
UID:37433-1747958400-1748044799@2zslitomysl.cz
SUMMARY:Finále soutěže Zdravá 5
DESCRIPTION:Finále soutěže Zdravá 5 – Praha – vybrané žákyně 1. roč.\, doprovod H. Kopecká\, D. Beníšková
URL:https://2zslitomysl.cz/kalendar/finale-souteze-zdrava-5/
LOCATION:Praha
CATEGORIES:1.A,1.B
END:VEVENT
BEGIN:VEVENT
DTSTART;TZID=Europe/Prague:20250410T093000
DTEND;TZID=Europe/Prague:20250410T120000
DTSTAMP:20260426T035835
CREATED:20250207T164721Z
LAST-MODIFIED:20250207T164721Z
UID:35331-1744277400-1744286400@2zslitomysl.cz
SUMMARY:Plavecký výcvik
DESCRIPTION:
URL:https://2zslitomysl.cz/kalendar/plavecky-vycvik-3/2025-04-10/
CATEGORIES:1.A,1.B
END:VEVENT
BEGIN:VEVENT
DTSTART;TZID=Europe/Prague:20250403T093000
DTEND;TZID=Europe/Prague:20250403T120000
DTSTAMP:20260426T035835
CREATED:20250207T164721Z
LAST-MODIFIED:20250207T164721Z
UID:35330-1743672600-1743681600@2zslitomysl.cz
SUMMARY:Plavecký výcvik
DESCRIPTION:
URL:https://2zslitomysl.cz/kalendar/plavecky-vycvik-3/2025-04-03/
CATEGORIES:1.A,1.B
END:VEVENT
BEGIN:VEVENT
DTSTART;TZID=Europe/Prague:20250327T093000
DTEND;TZID=Europe/Prague:20250327T120000
DTSTAMP:20260426T035835
CREATED:20250207T164721Z
LAST-MODIFIED:20250207T164721Z
UID:35329-1743067800-1743076800@2zslitomysl.cz
SUMMARY:Plavecký výcvik
DESCRIPTION:
URL:https://2zslitomysl.cz/kalendar/plavecky-vycvik-3/2025-03-27/
CATEGORIES:1.A,1.B
END:VEVENT
BEGIN:VEVENT
DTSTART;TZID=Europe/Prague:20250313T093000
DTEND;TZID=Europe/Prague:20250313T120000
DTSTAMP:20260426T035835
CREATED:20250207T164721Z
LAST-MODIFIED:20250207T164721Z
UID:35328-1741858200-1741867200@2zslitomysl.cz
SUMMARY:Plavecký výcvik
DESCRIPTION:
URL:https://2zslitomysl.cz/kalendar/plavecky-vycvik-3/2025-03-13/
CATEGORIES:1.A,1.B
END:VEVENT
BEGIN:VEVENT
DTSTART;TZID=Europe/Prague:20250306T093000
DTEND;TZID=Europe/Prague:20250306T120000
DTSTAMP:20260426T035835
CREATED:20250207T164721Z
LAST-MODIFIED:20250207T164721Z
UID:35326-1741253400-1741262400@2zslitomysl.cz
SUMMARY:Plavecký výcvik
DESCRIPTION:
URL:https://2zslitomysl.cz/kalendar/plavecky-vycvik-3/2025-03-06/
CATEGORIES:1.A,1.B
END:VEVENT
END:VCALENDAR