BEGIN:VCALENDAR
VERSION:2.0
PRODID:-//2. Základní škola Litomyšl, U Školek - ECPv6.2.0//NONSGML v1.0//EN
CALSCALE:GREGORIAN
METHOD:PUBLISH
X-ORIGINAL-URL:https://2zslitomysl.cz
X-WR-CALDESC:Akce na 2. Základní škola Litomyšl, U Školek
REFRESH-INTERVAL;VALUE=DURATION:PT1H
X-Robots-Tag:noindex
X-PUBLISHED-TTL:PT1H
BEGIN:VTIMEZONE
TZID:Europe/Prague
BEGIN:DAYLIGHT
TZOFFSETFROM:+0100
TZOFFSETTO:+0200
TZNAME:CEST
DTSTART:20250330T010000
END:DAYLIGHT
BEGIN:STANDARD
TZOFFSETFROM:+0200
TZOFFSETTO:+0100
TZNAME:CET
DTSTART:20251026T010000
END:STANDARD
END:VTIMEZONE
BEGIN:VEVENT
DTSTART;TZID=Europe/Prague:20251210T080000
DTEND;TZID=Europe/Prague:20251210T110000
DTSTAMP:20260426T054609
CREATED:20251111T130013Z
LAST-MODIFIED:20251111T130013Z
UID:43328-1765353600-1765364400@2zslitomysl.cz
SUMMARY:Společné bruslení prvňáčků a patronů
DESCRIPTION:Doprovod J. Paclík\, H. Kopecká\, M. Horáková a M. Matoušek
URL:https://2zslitomysl.cz/kalendar/spolecne-brusleni-prvnacku-a-patronu/
CATEGORIES:1.A,1.B,8.A,8.B
END:VEVENT
END:VCALENDAR