BEGIN:VCALENDAR
VERSION:2.0
PRODID:-//2. Základní škola Litomyšl, U Školek - ECPv6.2.0//NONSGML v1.0//EN
CALSCALE:GREGORIAN
METHOD:PUBLISH
X-ORIGINAL-URL:https://2zslitomysl.cz
X-WR-CALDESC:Akce na 2. Základní škola Litomyšl, U Školek
REFRESH-INTERVAL;VALUE=DURATION:PT1H
X-Robots-Tag:noindex
X-PUBLISHED-TTL:PT1H
BEGIN:VTIMEZONE
TZID:Europe/Prague
BEGIN:DAYLIGHT
TZOFFSETFROM:+0100
TZOFFSETTO:+0200
TZNAME:CEST
DTSTART:20250330T010000
END:DAYLIGHT
BEGIN:STANDARD
TZOFFSETFROM:+0200
TZOFFSETTO:+0100
TZNAME:CET
DTSTART:20251026T010000
END:STANDARD
BEGIN:DAYLIGHT
TZOFFSETFROM:+0100
TZOFFSETTO:+0200
TZNAME:CEST
DTSTART:20260329T010000
END:DAYLIGHT
BEGIN:STANDARD
TZOFFSETFROM:+0200
TZOFFSETTO:+0100
TZNAME:CET
DTSTART:20261025T010000
END:STANDARD
END:VTIMEZONE
BEGIN:VEVENT
DTSTART;VALUE=DATE:20251222
DTEND;VALUE=DATE:20260103
DTSTAMP:20260426T054233
CREATED:20250820T064436Z
LAST-MODIFIED:20250820T064436Z
UID:40642-1766361600-1767398399@2zslitomysl.cz
SUMMARY:Vánoční prázdniny
DESCRIPTION:
URL:https://2zslitomysl.cz/kalendar/vanocni-prazdniny/
CATEGORIES:Prázdniny
END:VEVENT
BEGIN:VEVENT
DTSTART;TZID=Europe/Prague:20260106T124000
DTEND;TZID=Europe/Prague:20260106T132500
DTSTAMP:20260426T054233
CREATED:20260105T094503Z
LAST-MODIFIED:20260105T094503Z
UID:45410-1767703200-1767705900@2zslitomysl.cz
SUMMARY:Program se školním psychologem
DESCRIPTION:
URL:https://2zslitomysl.cz/kalendar/program-se-skolnim-psychologem-12/
CATEGORIES:9.A
END:VEVENT
BEGIN:VEVENT
DTSTART;TZID=Europe/Prague:20260107T080000
DTEND;TZID=Europe/Prague:20260107T100000
DTSTAMP:20260426T054233
CREATED:20260104T163002Z
LAST-MODIFIED:20260104T163002Z
UID:45340-1767772800-1767780000@2zslitomysl.cz
SUMMARY:Adaptační program Alfa Svitavy
DESCRIPTION:
URL:https://2zslitomysl.cz/kalendar/adaptacni-program-alfa-svitavy/
CATEGORIES:6.A
END:VEVENT
BEGIN:VEVENT
DTSTART;TZID=Europe/Prague:20260108T090000
DTEND;TZID=Europe/Prague:20260108T110000
DTSTAMP:20260426T054233
CREATED:20251202T130223Z
LAST-MODIFIED:20251202T130223Z
UID:44014-1767862800-1767870000@2zslitomysl.cz
SUMMARY:Bruslení - 5.A\, 5.B
DESCRIPTION:Doprovod: J. Paclík\, V. Severová\, J. Grunerová \nCena: 30 Kč/žák
URL:https://2zslitomysl.cz/kalendar/brusleni-5-a-5-b/
LOCATION:Zimní stadion\, Litomyšl
CATEGORIES:5.A,5.B
END:VEVENT
BEGIN:VEVENT
DTSTART;TZID=Europe/Prague:20260113T124500
DTEND;TZID=Europe/Prague:20260113T153000
DTSTAMP:20260426T054233
CREATED:20251230T073914Z
LAST-MODIFIED:20251230T073914Z
UID:45258-1768308300-1768318200@2zslitomysl.cz
SUMMARY:BRUSLENÍ
DESCRIPTION:Zimní stadion \n2. oddělení ŠD \n30 Kč
URL:https://2zslitomysl.cz/kalendar/brusleni/
LOCATION:Litomyšl
CATEGORIES:Akce školní družiny
END:VEVENT
BEGIN:VEVENT
DTSTART;TZID=Europe/Prague:20260114T160000
DTEND;TZID=Europe/Prague:20260114T170000
DTSTAMP:20260426T054233
CREATED:20250820T064546Z
LAST-MODIFIED:20250904T104816Z
UID:40644-1768406400-1768410000@2zslitomysl.cz
SUMMARY:5. setkání Hrajeme si na školu
DESCRIPTION:Zajistí A. Stejskalová\, V. Řeháková\, G. Klusáková\, I. Bartošová
URL:https://2zslitomysl.cz/kalendar/5-setkani-hrajeme-si-na-skolu/
CATEGORIES:Akce školy
END:VEVENT
BEGIN:VEVENT
DTSTART;TZID=Europe/Prague:20260115T080000
DTEND;TZID=Europe/Prague:20260115T100000
DTSTAMP:20260426T054233
CREATED:20251216T121708Z
LAST-MODIFIED:20251216T121708Z
UID:44654-1768464000-1768471200@2zslitomysl.cz
SUMMARY:Bruslení - 2.A\, 2.B
DESCRIPTION:Doprovod J. Paclík\, D. Beníšková a P. Jasanská
URL:https://2zslitomysl.cz/kalendar/brusleni-2-a-2-b-3/
CATEGORIES:2.A,2.B
END:VEVENT
BEGIN:VEVENT
DTSTART;TZID=Europe/Prague:20260115T080000
DTEND;TZID=Europe/Prague:20260115T140000
DTSTAMP:20260426T054233
CREATED:20260107T065903Z
LAST-MODIFIED:20260107T065903Z
UID:45449-1768464000-1768485600@2zslitomysl.cz
SUMMARY:Fotbalový turnaj 6. -7. tříd
DESCRIPTION:Akce se koná v Dolním Újezdu.
URL:https://2zslitomysl.cz/kalendar/fotbalovy-turnaj-6-7-trid/
CATEGORIES:6.A,6.B,7.A,7.B
END:VEVENT
BEGIN:VEVENT
DTSTART;TZID=Europe/Prague:20260116T080000
DTEND;TZID=Europe/Prague:20260116T120000
DTSTAMP:20260426T054233
CREATED:20260107T070037Z
LAST-MODIFIED:20260107T070037Z
UID:45451-1768550400-1768564800@2zslitomysl.cz
SUMMARY:Veslařská soutěž - žáci 2. stupně
DESCRIPTION:Akce se koná na 3. ZŠ Litomyšl. Zúčastní se vybraní žáci – 4 dívky a 4 chlapci za ročník.
URL:https://2zslitomysl.cz/kalendar/veslarska-soutez-zaci-2-stupne/
CATEGORIES:2. Stupeň
END:VEVENT
BEGIN:VEVENT
DTSTART;VALUE=DATE:20260119
DTEND;VALUE=DATE:20260120
DTSTAMP:20260426T054233
CREATED:20250820T064638Z
LAST-MODIFIED:20250820T064638Z
UID:40647-1768780800-1768867199@2zslitomysl.cz
SUMMARY:Uzavření klasifikace
DESCRIPTION:
URL:https://2zslitomysl.cz/kalendar/uzavreni-klasifikace/
CATEGORIES:Ostatní
END:VEVENT
BEGIN:VEVENT
DTSTART;TZID=Europe/Prague:20260119T080000
DTEND;TZID=Europe/Prague:20260119T113000
DTSTAMP:20260426T054233
CREATED:20251031T075310Z
LAST-MODIFIED:20251212T060829Z
UID:42632-1768809600-1768822200@2zslitomysl.cz
SUMMARY:6.A: Selektivní program Acet
DESCRIPTION:
URL:https://2zslitomysl.cz/kalendar/6-a-acet-preventivni-program/
CATEGORIES:6.A
END:VEVENT
BEGIN:VEVENT
DTSTART;TZID=Europe/Prague:20260120T130000
DTEND;TZID=Europe/Prague:20260120T160000
DTSTAMP:20260426T054233
CREATED:20250820T065252Z
LAST-MODIFIED:20250820T065252Z
UID:40649-1768914000-1768924800@2zslitomysl.cz
SUMMARY:Pololetní pedagogická rada
DESCRIPTION:
URL:https://2zslitomysl.cz/kalendar/pololetni-pedagogicka-rada/
CATEGORIES:Porada
END:VEVENT
BEGIN:VEVENT
DTSTART;TZID=Europe/Prague:20260122T090000
DTEND;TZID=Europe/Prague:20260122T110000
DTSTAMP:20260426T054233
CREATED:20260108T123152Z
LAST-MODIFIED:20260108T123152Z
UID:45454-1769072400-1769079600@2zslitomysl.cz
SUMMARY:Bruslení – 5.A\, 5.B
DESCRIPTION:Doprovod: J. Paclík\, V. Severová\, J. Grunerová \nCena: 30 Kč/žák
URL:https://2zslitomysl.cz/kalendar/brusleni-5-a-5-b-2/
END:VEVENT
BEGIN:VEVENT
DTSTART;TZID=Europe/Prague:20260123T080000
DTEND;TZID=Europe/Prague:20260123T150000
DTSTAMP:20260426T054233
CREATED:20260118T163446Z
LAST-MODIFIED:20260118T163446Z
UID:45533-1769155200-1769180400@2zslitomysl.cz
SUMMARY:Zimní radovánky - Přívrat
DESCRIPTION:Zimní radovánky na Přívratu – 3.A\, 3.B – Řehákova\, Stejskalová\, Stříteská\, Marksová
URL:https://2zslitomysl.cz/kalendar/zimni-radovanky-privrat/
CATEGORIES:3.A,3.B
END:VEVENT
BEGIN:VEVENT
DTSTART;TZID=Europe/Prague:20260123T093000
DTEND;TZID=Europe/Prague:20260123T114000
DTSTAMP:20260426T054233
CREATED:20260119T133823Z
LAST-MODIFIED:20260119T185818Z
UID:45544-1769160600-1769168400@2zslitomysl.cz
SUMMARY:Bruslení 4.A
DESCRIPTION:Doprovod G. Klusáková\, P. Beránková \n30 Kč/ žák
URL:https://2zslitomysl.cz/kalendar/brusleni-4-a/
CATEGORIES:4.A
END:VEVENT
BEGIN:VEVENT
DTSTART;TZID=Europe/Prague:20260123T100000
DTEND;TZID=Europe/Prague:20260123T104500
DTSTAMP:20260426T054233
CREATED:20260105T084222Z
LAST-MODIFIED:20260105T084222Z
UID:45408-1769162400-1769165100@2zslitomysl.cz
SUMMARY:Setkání asistentů pedagoga
DESCRIPTION:
URL:https://2zslitomysl.cz/kalendar/setkani-asistentu-pedagoga/
END:VEVENT
BEGIN:VEVENT
DTSTART;TZID=Europe/Prague:20260123T114500
DTEND;TZID=Europe/Prague:20260123T132500
DTSTAMP:20260426T054233
CREATED:20251209T065905Z
LAST-MODIFIED:20251209T065905Z
UID:44339-1769168700-1769174700@2zslitomysl.cz
SUMMARY:Program se školním psychologem
DESCRIPTION:
URL:https://2zslitomysl.cz/kalendar/program-se-skolnim-psychologem-11/
CATEGORIES:7.A
END:VEVENT
BEGIN:VEVENT
DTSTART;TZID=Europe/Prague:20260127T080000
DTEND;TZID=Europe/Prague:20260127T170000
DTSTAMP:20260426T054233
CREATED:20260121T155817Z
LAST-MODIFIED:20260121T155817Z
UID:45656-1769500800-1769533200@2zslitomysl.cz
SUMMARY:Olympiáda v českém jazyce
DESCRIPTION:Olympiáda v českém jazyce – okresní kolo\npostupující: Anet K. a Stázka M.\nped. dohled: R. Kubů
URL:https://2zslitomysl.cz/kalendar/olympiada-v-ceskem-jazyce-2/
CATEGORIES:Ostatní
END:VEVENT
BEGIN:VEVENT
DTSTART;TZID=Europe/Prague:20260127T084500
DTEND;TZID=Europe/Prague:20260127T094500
DTSTAMP:20260426T054233
CREATED:20260123T133153Z
LAST-MODIFIED:20260123T133153Z
UID:45678-1769503500-1769507100@2zslitomysl.cz
SUMMARY:Geografická olympiáda
DESCRIPTION:Vybraní žáci z 2. stupně.\nDohled M. Matoušek
URL:https://2zslitomysl.cz/kalendar/geograficka-olympiada/
END:VEVENT
BEGIN:VEVENT
DTSTART;TZID=Europe/Prague:20260127T180000
DTEND;TZID=Europe/Prague:20260128T070000
DTSTAMP:20260426T054233
CREATED:20260119T134334Z
LAST-MODIFIED:20260119T134334Z
UID:45547-1769536800-1769583600@2zslitomysl.cz
SUMMARY:Spaní ve škole 4. A
DESCRIPTION:
URL:https://2zslitomysl.cz/kalendar/spani-ve-skole-4-a/
CATEGORIES:4.A
END:VEVENT
BEGIN:VEVENT
DTSTART;TZID=Europe/Prague:20260128T080000
DTEND;TZID=Europe/Prague:20260128T123000
DTSTAMP:20260426T054233
CREATED:20251118T072911Z
LAST-MODIFIED:20251118T072911Z
UID:43543-1769587200-1769603400@2zslitomysl.cz
SUMMARY:Přijímačky nanečisto
DESCRIPTION:9.A\, 9.B
URL:https://2zslitomysl.cz/kalendar/prijimacky-nanecisto-2/
CATEGORIES:9.A,9.B
END:VEVENT
BEGIN:VEVENT
DTSTART;TZID=Europe/Prague:20260128T163000
DTEND;TZID=Europe/Prague:20260129T073000
DTSTAMP:20260426T054233
CREATED:20260119T170911Z
LAST-MODIFIED:20260119T170911Z
UID:45550-1769617800-1769671800@2zslitomysl.cz
SUMMARY:Spaní ve škole - 5.B
DESCRIPTION:Dohled: V. Severová\, J. Grunerová
URL:https://2zslitomysl.cz/kalendar/spani-ve-skole-5-b/
CATEGORIES:5.B
END:VEVENT
BEGIN:VEVENT
DTSTART;VALUE=DATE:20260129
DTEND;VALUE=DATE:20260130
DTSTAMP:20260426T054233
CREATED:20250820T065547Z
LAST-MODIFIED:20250820T065547Z
UID:40654-1769644800-1769731199@2zslitomysl.cz
SUMMARY:Pololetní vysvědčení
DESCRIPTION:
URL:https://2zslitomysl.cz/kalendar/pololetni-vysvedceni/
CATEGORIES:Ostatní
END:VEVENT
BEGIN:VEVENT
DTSTART;TZID=Europe/Prague:20260129T090000
DTEND;TZID=Europe/Prague:20260129T110000
DTSTAMP:20260426T054233
CREATED:20260123T084950Z
LAST-MODIFIED:20260123T084950Z
UID:45674-1769677200-1769684400@2zslitomysl.cz
SUMMARY:Cesta za vysvědčením a pasování na písaře - (1.A+1.B - 8.A+8.B)
DESCRIPTION:Dohled M. Matoušek\, J. Paclík\, I. Krejbychová a M. Rosypalová.
URL:https://2zslitomysl.cz/kalendar/cesta-za-vysvedcenim-a-pasovani-na-pisare-1-a1-b-8-a8-b/
CATEGORIES:2.A,2.B,8.A,8.B
END:VEVENT
BEGIN:VEVENT
DTSTART;TZID=Europe/Prague:20260129T130000
DTEND;TZID=Europe/Prague:20260129T150000
DTSTAMP:20260426T054233
CREATED:20260122T171035Z
LAST-MODIFIED:20260122T171035Z
UID:45667-1769691600-1769698800@2zslitomysl.cz
SUMMARY:REGIONÁLNÍ MUZEUM V LITOMYŠLI
DESCRIPTION:-dětská herna \n-aktivity a tvoření \n2. oddělení ŠD \n35 Kč
URL:https://2zslitomysl.cz/kalendar/regionalni-muzeum-v-litomysli/
LOCATION:Litomyšl
CATEGORIES:Akce školní družiny
END:VEVENT
BEGIN:VEVENT
DTSTART;VALUE=DATE:20260130
DTEND;VALUE=DATE:20260131
DTSTAMP:20260426T054233
CREATED:20250820T065646Z
LAST-MODIFIED:20250820T065646Z
UID:40656-1769731200-1769817599@2zslitomysl.cz
SUMMARY:Pololetní prázdniny
DESCRIPTION:
URL:https://2zslitomysl.cz/kalendar/pololetni-prazdniny-2/
CATEGORIES:Prázdniny
END:VEVENT
END:VCALENDAR