BEGIN:VCALENDAR
VERSION:2.0
PRODID:-//2. Základní škola Litomyšl, U Školek - ECPv6.2.0//NONSGML v1.0//EN
CALSCALE:GREGORIAN
METHOD:PUBLISH
X-ORIGINAL-URL:https://2zslitomysl.cz
X-WR-CALDESC:Akce na 2. Základní škola Litomyšl, U Školek
REFRESH-INTERVAL;VALUE=DURATION:PT1H
X-Robots-Tag:noindex
X-PUBLISHED-TTL:PT1H
BEGIN:VTIMEZONE
TZID:Europe/Prague
BEGIN:DAYLIGHT
TZOFFSETFROM:+0100
TZOFFSETTO:+0200
TZNAME:CEST
DTSTART:20260329T010000
END:DAYLIGHT
BEGIN:STANDARD
TZOFFSETFROM:+0200
TZOFFSETTO:+0100
TZNAME:CET
DTSTART:20261025T010000
END:STANDARD
END:VTIMEZONE
BEGIN:VEVENT
DTSTART;TZID=Europe/Prague:20260506T080000
DTEND;TZID=Europe/Prague:20260507T170000
DTSTAMP:20260425T225236
CREATED:20260331T083352Z
LAST-MODIFIED:20260331T083352Z
UID:47307-1778054400-1778173200@2zslitomysl.cz
SUMMARY:Spaní ve škole - 3.A+3.B
DESCRIPTION:
URL:https://2zslitomysl.cz/kalendar/spani-ve-skole-3-a3-b/
CATEGORIES:3.A,3.B
END:VEVENT
BEGIN:VEVENT
DTSTART;TZID=Europe/Prague:20260506T080000
DTEND;TZID=Europe/Prague:20260507T170000
DTSTAMP:20260425T225236
CREATED:20260410T091629Z
LAST-MODIFIED:20260410T091629Z
UID:47554-1778054400-1778173200@2zslitomysl.cz
SUMMARY:Spaní ve škole - 3.A+3.B
DESCRIPTION:
URL:https://2zslitomysl.cz/kalendar/spani-ve-skole-3-a3-b-2/
CATEGORIES:3.A,3.B
END:VEVENT
BEGIN:VEVENT
DTSTART;TZID=Europe/Prague:20260507T080000
DTEND;TZID=Europe/Prague:20260507T170000
DTSTAMP:20260425T225236
CREATED:20260410T143150Z
LAST-MODIFIED:20260410T143150Z
UID:47560-1778140800-1778173200@2zslitomysl.cz
SUMMARY:Zlatý list
DESCRIPTION:Vybraní žáci tříd 6. A\, 7. A a 8. A se zúčastní přírodovědné soutěže Zlatý list\, která se uskuteční v Pasíčkách.
URL:https://2zslitomysl.cz/kalendar/zlaty-list/
CATEGORIES:6.A,7.A,8.A
END:VEVENT
BEGIN:VEVENT
DTSTART;TZID=Europe/Prague:20260507T100000
DTEND;TZID=Europe/Prague:20260507T123000
DTSTAMP:20260425T225236
CREATED:20260311T150147Z
LAST-MODIFIED:20260313T131537Z
UID:46946-1778148000-1778157000@2zslitomysl.cz
SUMMARY:Divadlem proti šikaně
DESCRIPTION:třída 8.B\, garant Nikola Šplíchalová
URL:https://2zslitomysl.cz/kalendar/divadlem-proti-sikane/
END:VEVENT
END:VCALENDAR