BEGIN:VCALENDAR
VERSION:2.0
PRODID:-//2. Základní škola Litomyšl, U Školek - ECPv6.2.0//NONSGML v1.0//EN
CALSCALE:GREGORIAN
METHOD:PUBLISH
X-ORIGINAL-URL:https://2zslitomysl.cz
X-WR-CALDESC:Akce na 2. Základní škola Litomyšl, U Školek
REFRESH-INTERVAL;VALUE=DURATION:PT1H
X-Robots-Tag:noindex
X-PUBLISHED-TTL:PT1H
BEGIN:VTIMEZONE
TZID:Europe/Prague
BEGIN:DAYLIGHT
TZOFFSETFROM:+0100
TZOFFSETTO:+0200
TZNAME:CEST
DTSTART:20260329T010000
END:DAYLIGHT
BEGIN:STANDARD
TZOFFSETFROM:+0200
TZOFFSETTO:+0100
TZNAME:CET
DTSTART:20261025T010000
END:STANDARD
END:VTIMEZONE
BEGIN:VEVENT
DTSTART;TZID=Europe/Prague:20260216T100000
DTEND;TZID=Europe/Prague:20260216T113000
DTSTAMP:20260425T225312
CREATED:20260121T113334Z
LAST-MODIFIED:20260212T104200Z
UID:45648-1771236000-1771241400@2zslitomysl.cz
SUMMARY:Výtvarný workshop Olbram Zoubek
DESCRIPTION:Zajišťuje: Aneta Futerová \nCena: 30 Kč
URL:https://2zslitomysl.cz/kalendar/vytvarny-workshop-olbram-zoubek-2/
CATEGORIES:6.B
END:VEVENT
END:VCALENDAR