BEGIN:VCALENDAR
VERSION:2.0
PRODID:-//2. Základní škola Litomyšl, U Školek - ECPv6.2.0//NONSGML v1.0//EN
CALSCALE:GREGORIAN
METHOD:PUBLISH
X-ORIGINAL-URL:https://2zslitomysl.cz
X-WR-CALDESC:Akce na 2. Základní škola Litomyšl, U Školek
REFRESH-INTERVAL;VALUE=DURATION:PT1H
X-Robots-Tag:noindex
X-PUBLISHED-TTL:PT1H
BEGIN:VTIMEZONE
TZID:Europe/Prague
BEGIN:DAYLIGHT
TZOFFSETFROM:+0100
TZOFFSETTO:+0200
TZNAME:CEST
DTSTART:20260329T010000
END:DAYLIGHT
BEGIN:STANDARD
TZOFFSETFROM:+0200
TZOFFSETTO:+0100
TZNAME:CET
DTSTART:20261025T010000
END:STANDARD
END:VTIMEZONE
BEGIN:VEVENT
DTSTART;TZID=Europe/Prague:20260202T095500
DTEND;TZID=Europe/Prague:20260203T133000
DTSTAMP:20260425T230742
CREATED:20260121T132337Z
LAST-MODIFIED:20260121T132439Z
UID:45651-1770026100-1770125400@2zslitomysl.cz
SUMMARY:Základy dentální hygieny
DESCRIPTION:Zdarma\, s sebou kartáček na zuby\, dohled vyučující \n\n\n\n2.2.\nvyučovací hodina\ntřída\n\n\n\n2.\n1.A\n\n\n\n3.\n1.B\n\n\n\n4.\n2.A\n\n\n\n5.\n3.A\n\n\n\n6.\n5.A\n\n\n\n\n\n\n\n3.2.\n\n\n\n\n\n2.\n2.B\n\n\n\n3.\n3.B\n\n\n\n4.\n4.A\n\n\n\n5.\n4.B\n\n\n\n6.\n5.B
URL:https://2zslitomysl.cz/kalendar/zaklady-dentalni-hygieny/
CATEGORIES:1.Stupeň
END:VEVENT
END:VCALENDAR